BEGIN:VCALENDAR
VERSION:2.0
PRODID:-//Lowcountry Food Bank - ECPv6.15.20//NONSGML v1.0//EN
CALSCALE:GREGORIAN
METHOD:PUBLISH
X-WR-CALNAME:Lowcountry Food Bank
X-ORIGINAL-URL:https://lowcountryfoodbank.org
X-WR-CALDESC:Events for Lowcountry Food Bank
REFRESH-INTERVAL;VALUE=DURATION:PT1H
X-Robots-Tag:noindex
X-PUBLISHED-TTL:PT1H
BEGIN:VTIMEZONE
TZID:America/New_York
BEGIN:DAYLIGHT
TZOFFSETFROM:-0500
TZOFFSETTO:-0400
TZNAME:EDT
DTSTART:20240310T070000
END:DAYLIGHT
BEGIN:STANDARD
TZOFFSETFROM:-0400
TZOFFSETTO:-0500
TZNAME:EST
DTSTART:20241103T060000
END:STANDARD
BEGIN:DAYLIGHT
TZOFFSETFROM:-0500
TZOFFSETTO:-0400
TZNAME:EDT
DTSTART:20250309T070000
END:DAYLIGHT
BEGIN:STANDARD
TZOFFSETFROM:-0400
TZOFFSETTO:-0500
TZNAME:EST
DTSTART:20251102T060000
END:STANDARD
BEGIN:DAYLIGHT
TZOFFSETFROM:-0500
TZOFFSETTO:-0400
TZNAME:EDT
DTSTART:20260308T070000
END:DAYLIGHT
BEGIN:STANDARD
TZOFFSETFROM:-0400
TZOFFSETTO:-0500
TZNAME:EST
DTSTART:20261101T060000
END:STANDARD
END:VTIMEZONE
BEGIN:VEVENT
DTSTART;TZID=America/New_York:20250308T090000
DTEND;TZID=America/New_York:20250308T100000
DTSTAMP:20260425T212425
CREATED:20250110T200613Z
LAST-MODIFIED:20250110T200613Z
UID:10004979-1741424400-1741428000@lowcountryfoodbank.org
SUMMARY:Pawleys Island
DESCRIPTION:
URL:https://lowcountryfoodbank.org/event/pawleys-island-45/
LOCATION:Precious Blood of Christ Catholic Church\, 1633 Waverly Road\, Pawleys Island\, SC\, 29585
GEO:33.4589397;-79.1399042
X-APPLE-STRUCTURED-LOCATION;VALUE=URI;X-ADDRESS=Precious Blood of Christ Catholic Church 1633 Waverly Road Pawleys Island SC 29585;X-APPLE-RADIUS=500;X-TITLE=1633 Waverly Road:geo:-79.1399042,33.4589397
END:VEVENT
BEGIN:VEVENT
DTSTART;TZID=America/New_York:20250308T090000
DTEND;TZID=America/New_York:20250308T110000
DTSTAMP:20260425T212425
CREATED:20250304T182954Z
LAST-MODIFIED:20250304T182954Z
UID:10005357-1741424400-1741431600@lowcountryfoodbank.org
SUMMARY:North Myrtle Beach
DESCRIPTION:
URL:https://lowcountryfoodbank.org/event/north-myrtle-beach-7/
LOCATION:North Myrtle Beach Farmers Market\, 925 First Avenue South\, North Myrtle Beach\, SC\, 29582\, United States
CATEGORIES:Client Choice Market
END:VEVENT
BEGIN:VEVENT
DTSTART;TZID=America/New_York:20250308T090000
DTEND;TZID=America/New_York:20250308T120000
DTSTAMP:20260425T212425
CREATED:20250110T200546Z
LAST-MODIFIED:20250110T200546Z
UID:10004977-1741424400-1741435200@lowcountryfoodbank.org
SUMMARY:North Charleston
DESCRIPTION:
URL:https://lowcountryfoodbank.org/event/north-charleston-155/
LOCATION:Cathedral Impact Center\, 3790 Ashley Phosphate Rd\, North Charleston\, SC\, 29418\, United States
END:VEVENT
BEGIN:VEVENT
DTSTART;TZID=America/New_York:20250308T100000
DTEND;TZID=America/New_York:20250308T120000
DTSTAMP:20260425T212425
CREATED:20250110T200612Z
LAST-MODIFIED:20250110T200612Z
UID:10004978-1741428000-1741435200@lowcountryfoodbank.org
SUMMARY:Ridgeland
DESCRIPTION:
URL:https://lowcountryfoodbank.org/event/ridgeland-28/
LOCATION:Jasper County Hunger Free Zone\, 506 Grays Hwy\, Ridgeland\, SC\, 29936\, United States
GEO:32.5880355;-80.9493706
X-APPLE-STRUCTURED-LOCATION;VALUE=URI;X-ADDRESS=Jasper County Hunger Free Zone 506 Grays Hwy Ridgeland SC 29936 United States;X-APPLE-RADIUS=500;X-TITLE=506 Grays Hwy:geo:-80.9493706,32.5880355
END:VEVENT
BEGIN:VEVENT
DTSTART;TZID=America/New_York:20250308T100000
DTEND;TZID=America/New_York:20250308T120000
DTSTAMP:20260425T212425
CREATED:20250110T200614Z
LAST-MODIFIED:20250110T200614Z
UID:10004980-1741428000-1741435200@lowcountryfoodbank.org
SUMMARY:Beaufort
DESCRIPTION:
URL:https://lowcountryfoodbank.org/event/beaufort-71/
LOCATION:Healing Waters\, 22 St Pauls Church Rd\, Beaufort\, SC\, 29906
END:VEVENT
BEGIN:VEVENT
DTSTART;TZID=America/New_York:20250308T100000
DTEND;TZID=America/New_York:20250308T120000
DTSTAMP:20260425T212425
CREATED:20250220T154844Z
LAST-MODIFIED:20250220T154844Z
UID:10005351-1741428000-1741435200@lowcountryfoodbank.org
SUMMARY:Summerville
DESCRIPTION:
URL:https://lowcountryfoodbank.org/event/summerville-54/
LOCATION:Beech Hill Elementary School\, 1001 Beech Hill Road\, Summerville\, SC\, 29485\, United States
CATEGORIES:Client Choice Market,Fresh for All produce distribution
GEO:32.9510318;-80.2272299
X-APPLE-STRUCTURED-LOCATION;VALUE=URI;X-ADDRESS=Beech Hill Elementary School 1001 Beech Hill Road Summerville SC 29485 United States;X-APPLE-RADIUS=500;X-TITLE=1001 Beech Hill Road:geo:-80.2272299,32.9510318
END:VEVENT
END:VCALENDAR