BEGIN:VCALENDAR
VERSION:2.0
PRODID:-//Lowcountry Food Bank - ECPv6.15.20//NONSGML v1.0//EN
CALSCALE:GREGORIAN
METHOD:PUBLISH
X-WR-CALNAME:Lowcountry Food Bank
X-ORIGINAL-URL:https://lowcountryfoodbank.org
X-WR-CALDESC:Events for Lowcountry Food Bank
REFRESH-INTERVAL;VALUE=DURATION:PT1H
X-Robots-Tag:noindex
X-PUBLISHED-TTL:PT1H
BEGIN:VTIMEZONE
TZID:America/New_York
BEGIN:DAYLIGHT
TZOFFSETFROM:-0500
TZOFFSETTO:-0400
TZNAME:EDT
DTSTART:20240310T070000
END:DAYLIGHT
BEGIN:STANDARD
TZOFFSETFROM:-0400
TZOFFSETTO:-0500
TZNAME:EST
DTSTART:20241103T060000
END:STANDARD
BEGIN:DAYLIGHT
TZOFFSETFROM:-0500
TZOFFSETTO:-0400
TZNAME:EDT
DTSTART:20250309T070000
END:DAYLIGHT
BEGIN:STANDARD
TZOFFSETFROM:-0400
TZOFFSETTO:-0500
TZNAME:EST
DTSTART:20251102T060000
END:STANDARD
BEGIN:DAYLIGHT
TZOFFSETFROM:-0500
TZOFFSETTO:-0400
TZNAME:EDT
DTSTART:20260308T070000
END:DAYLIGHT
BEGIN:STANDARD
TZOFFSETFROM:-0400
TZOFFSETTO:-0500
TZNAME:EST
DTSTART:20261101T060000
END:STANDARD
END:VTIMEZONE
BEGIN:VEVENT
DTSTART;TZID=America/New_York:20250820T090000
DTEND;TZID=America/New_York:20250820T120000
DTSTAMP:20260423T212305
CREATED:20250122T140921Z
LAST-MODIFIED:20250616T205241Z
UID:10005152-1755680400-1755691200@lowcountryfoodbank.org
SUMMARY:Mt. Pleasant
DESCRIPTION:
URL:https://lowcountryfoodbank.org/event/mt-pleasant-21/
LOCATION:East Cooper Community Outreach\, 1145 Six Mile Rd\, Mt. Pleasant\, SC\, 29466\, United States
CATEGORIES:Fresh Xpress Produce Distribution
GEO:32.8399487;-79.8157781
X-APPLE-STRUCTURED-LOCATION;VALUE=URI;X-ADDRESS=East Cooper Community Outreach 1145 Six Mile Rd Mt. Pleasant SC 29466 United States;X-APPLE-RADIUS=500;X-TITLE=1145 Six Mile Rd:geo:-79.8157781,32.8399487
END:VEVENT
BEGIN:VEVENT
DTSTART;TZID=America/New_York:20250820T100000
DTEND;TZID=America/New_York:20250820T113000
DTSTAMP:20260423T212305
CREATED:20250110T202720Z
LAST-MODIFIED:20250122T140722Z
UID:10005147-1755684000-1755689400@lowcountryfoodbank.org
SUMMARY:St. George
DESCRIPTION:
URL:https://lowcountryfoodbank.org/event/st-george-108/
LOCATION:Bethel Outreach Minsitries\, 5585 Memorial Blvd.\, St. George\, SC\, 29477
CATEGORIES:Fresh Xpress Produce Distribution
END:VEVENT
BEGIN:VEVENT
DTSTART;TZID=America/New_York:20250820T160000
DTEND;TZID=America/New_York:20250820T180000
DTSTAMP:20260423T212305
CREATED:20250805T171643Z
LAST-MODIFIED:20250805T171643Z
UID:10005449-1755705600-1755712800@lowcountryfoodbank.org
SUMMARY:Cross
DESCRIPTION:
URL:https://lowcountryfoodbank.org/event/cross-10/
LOCATION:Cross High School\, 1293 Old Highway 6\, Cross\, 29436\, United States
CATEGORIES:Mobile Pantry
END:VEVENT
END:VCALENDAR