BEGIN:VCALENDAR
VERSION:2.0
PRODID:-//Lowcountry Food Bank - ECPv6.15.20//NONSGML v1.0//EN
CALSCALE:GREGORIAN
METHOD:PUBLISH
X-WR-CALNAME:Lowcountry Food Bank
X-ORIGINAL-URL:https://lowcountryfoodbank.org
X-WR-CALDESC:Events for Lowcountry Food Bank
REFRESH-INTERVAL;VALUE=DURATION:PT1H
X-Robots-Tag:noindex
X-PUBLISHED-TTL:PT1H
BEGIN:VTIMEZONE
TZID:America/New_York
BEGIN:DAYLIGHT
TZOFFSETFROM:-0500
TZOFFSETTO:-0400
TZNAME:EDT
DTSTART:20250309T070000
END:DAYLIGHT
BEGIN:STANDARD
TZOFFSETFROM:-0400
TZOFFSETTO:-0500
TZNAME:EST
DTSTART:20251102T060000
END:STANDARD
BEGIN:DAYLIGHT
TZOFFSETFROM:-0500
TZOFFSETTO:-0400
TZNAME:EDT
DTSTART:20260308T070000
END:DAYLIGHT
BEGIN:STANDARD
TZOFFSETFROM:-0400
TZOFFSETTO:-0500
TZNAME:EST
DTSTART:20261101T060000
END:STANDARD
BEGIN:DAYLIGHT
TZOFFSETFROM:-0500
TZOFFSETTO:-0400
TZNAME:EDT
DTSTART:20270314T070000
END:DAYLIGHT
BEGIN:STANDARD
TZOFFSETFROM:-0400
TZOFFSETTO:-0500
TZNAME:EST
DTSTART:20271107T060000
END:STANDARD
END:VTIMEZONE
BEGIN:VEVENT
DTSTART;TZID=America/New_York:20260123T080000
DTEND;TZID=America/New_York:20260123T093000
DTSTAMP:20260425T084547
CREATED:20251230T161100Z
LAST-MODIFIED:20251230T161100Z
UID:10005550-1769155200-1769160600@lowcountryfoodbank.org
SUMMARY:Huger
DESCRIPTION:
URL:https://lowcountryfoodbank.org/event/huger-31/
LOCATION:Feeding of the Multitudes\, 2130-A Cainhoy Road\, Huger\, SC\, 29450\, United States
CATEGORIES:Fresh Xpress Produce Distribution
GEO:32.916029;-79.8859697
X-APPLE-STRUCTURED-LOCATION;VALUE=URI;X-ADDRESS=Feeding of the Multitudes 2130-A Cainhoy Road Huger SC 29450 United States;X-APPLE-RADIUS=500;X-TITLE=2130-A Cainhoy Road:geo:-79.8859697,32.916029
END:VEVENT
BEGIN:VEVENT
DTSTART;TZID=America/New_York:20260123T090000
DTEND;TZID=America/New_York:20260123T120000
DTSTAMP:20260425T084547
CREATED:20251230T161102Z
LAST-MODIFIED:20251230T161102Z
UID:10005551-1769158800-1769169600@lowcountryfoodbank.org
SUMMARY:Conway
DESCRIPTION:
URL:https://lowcountryfoodbank.org/event/conway-177/
LOCATION:Cherry Hill MBC Samaritan House\, 421 Smith Street\, Conway\, SC\, 29526
CATEGORIES:Fresh Xpress Produce Distribution
END:VEVENT
END:VCALENDAR