BEGIN:VCALENDAR
VERSION:2.0
PRODID:-//Lowcountry Food Bank - ECPv6.15.20//NONSGML v1.0//EN
CALSCALE:GREGORIAN
METHOD:PUBLISH
X-ORIGINAL-URL:https://lowcountryfoodbank.org
X-WR-CALDESC:Events for Lowcountry Food Bank
REFRESH-INTERVAL;VALUE=DURATION:PT1H
X-Robots-Tag:noindex
X-PUBLISHED-TTL:PT1H
BEGIN:VTIMEZONE
TZID:America/New_York
BEGIN:DAYLIGHT
TZOFFSETFROM:-0500
TZOFFSETTO:-0400
TZNAME:EDT
DTSTART:20240310T070000
END:DAYLIGHT
BEGIN:STANDARD
TZOFFSETFROM:-0400
TZOFFSETTO:-0500
TZNAME:EST
DTSTART:20241103T060000
END:STANDARD
BEGIN:DAYLIGHT
TZOFFSETFROM:-0500
TZOFFSETTO:-0400
TZNAME:EDT
DTSTART:20250309T070000
END:DAYLIGHT
BEGIN:STANDARD
TZOFFSETFROM:-0400
TZOFFSETTO:-0500
TZNAME:EST
DTSTART:20251102T060000
END:STANDARD
BEGIN:DAYLIGHT
TZOFFSETFROM:-0500
TZOFFSETTO:-0400
TZNAME:EDT
DTSTART:20260308T070000
END:DAYLIGHT
BEGIN:STANDARD
TZOFFSETFROM:-0400
TZOFFSETTO:-0500
TZNAME:EST
DTSTART:20261101T060000
END:STANDARD
END:VTIMEZONE
BEGIN:VEVENT
DTSTART;TZID=America/New_York:20250701T090000
DTEND;TZID=America/New_York:20250701T110000
DTSTAMP:20260424T154636
CREATED:20250625T162353Z
LAST-MODIFIED:20250625T162353Z
UID:10005413-1751360400-1751367600@lowcountryfoodbank.org
SUMMARY:West Ashley
DESCRIPTION:
URL:https://lowcountryfoodbank.org/event/west-ashley-12/
LOCATION:West Ashley\, 65 Sycamore Ave\, Charleston\, SC\, 29407\, United States
CATEGORIES:Client Choice Market
GEO:32.7906236;-79.9891924
X-APPLE-STRUCTURED-LOCATION;VALUE=URI;X-ADDRESS=West Ashley 65 Sycamore Ave Charleston SC 29407 United States;X-APPLE-RADIUS=500;X-TITLE=65 Sycamore Ave:geo:-79.9891924,32.7906236
END:VEVENT
BEGIN:VEVENT
DTSTART;TZID=America/New_York:20250703T100000
DTEND;TZID=America/New_York:20250703T120000
DTSTAMP:20260424T154636
CREATED:20250603T143416Z
LAST-MODIFIED:20250603T143416Z
UID:10005396-1751536800-1751544000@lowcountryfoodbank.org
SUMMARY:Estill
DESCRIPTION:
URL:https://lowcountryfoodbank.org/event/estill-9/
LOCATION:Estill Head Start & Community Center\, 768 1st Street\, Estill\, SC\, 29918\, United States
CATEGORIES:Client Choice Market
END:VEVENT
BEGIN:VEVENT
DTSTART;TZID=America/New_York:20250705T100000
DTEND;TZID=America/New_York:20250705T120000
DTSTAMP:20260424T154636
CREATED:20250422T131338Z
LAST-MODIFIED:20250422T132057Z
UID:10005381-1751709600-1751716800@lowcountryfoodbank.org
SUMMARY:North Myrtle Beach
DESCRIPTION:
URL:https://lowcountryfoodbank.org/event/north-myrtle-beach-12/
LOCATION:North Myrtle Beach Farmers Market\, 925 First Avenue South\, North Myrtle Beach\, SC\, 29582\, United States
CATEGORIES:Client Choice Market
END:VEVENT
BEGIN:VEVENT
DTSTART;TZID=America/New_York:20250712T090000
DTEND;TZID=America/New_York:20250712T110000
DTSTAMP:20260424T154636
CREATED:20250625T164743Z
LAST-MODIFIED:20250625T164743Z
UID:10005414-1752310800-1752318000@lowcountryfoodbank.org
SUMMARY:Summerville
DESCRIPTION:
URL:https://lowcountryfoodbank.org/event/summerville-70/
LOCATION:Alston-Bailey Elementary School\, 820 W. 5th North Street\, Summerville\, 29483\, United States
CATEGORIES:Client Choice Market
END:VEVENT
BEGIN:VEVENT
DTSTART;TZID=America/New_York:20250712T100000
DTEND;TZID=America/New_York:20250712T120000
DTSTAMP:20260424T154636
CREATED:20250422T132434Z
LAST-MODIFIED:20250422T132434Z
UID:10005384-1752314400-1752321600@lowcountryfoodbank.org
SUMMARY:North Myrtle Beach
DESCRIPTION:
URL:https://lowcountryfoodbank.org/event/north-myrtle-beach-15/
LOCATION:North Myrtle Beach Farmers Market\, 925 First Avenue South\, North Myrtle Beach\, SC\, 29582\, United States
CATEGORIES:Client Choice Market
END:VEVENT
BEGIN:VEVENT
DTSTART;TZID=America/New_York:20250715T100000
DTEND;TZID=America/New_York:20250715T120000
DTSTAMP:20260424T154636
CREATED:20250707T124343Z
LAST-MODIFIED:20250707T124621Z
UID:10005419-1752573600-1752580800@lowcountryfoodbank.org
SUMMARY:Hemingway
DESCRIPTION:
URL:https://lowcountryfoodbank.org/event/hemingway-29/
LOCATION:Waccamaw EOC/Chavis Head Start\, 2811 S State Highway 41-51\, Hemingway\, South Carolina\, 29554
CATEGORIES:Client Choice Market
GEO:33.7285116;-79.4497319
X-APPLE-STRUCTURED-LOCATION;VALUE=URI;X-ADDRESS=Waccamaw EOC/Chavis Head Start 2811 S State Highway 41-51 Hemingway South Carolina 29554;X-APPLE-RADIUS=500;X-TITLE=2811 S State Highway 41-51:geo:-79.4497319,33.7285116
END:VEVENT
BEGIN:VEVENT
DTSTART;TZID=America/New_York:20250718T100000
DTEND;TZID=America/New_York:20250718T120000
DTSTAMP:20260424T154636
CREATED:20250709T114343Z
LAST-MODIFIED:20250709T114343Z
UID:10005425-1752832800-1752840000@lowcountryfoodbank.org
SUMMARY:Green Pond
DESCRIPTION:
URL:https://lowcountryfoodbank.org/event/green-pond-8/
LOCATION:New Covenant Fellowship Church\, 2593 Clover Hill Rd.\, Green Pond\, SC\, 29446\, United States
CATEGORIES:Client Choice Market
GEO:32.7591433;-80.6229353
X-APPLE-STRUCTURED-LOCATION;VALUE=URI;X-ADDRESS=New Covenant Fellowship Church 2593 Clover Hill Rd. Green Pond SC 29446 United States;X-APPLE-RADIUS=500;X-TITLE=2593 Clover Hill Rd.:geo:-80.6229353,32.7591433
END:VEVENT
BEGIN:VEVENT
DTSTART;TZID=America/New_York:20250719T100000
DTEND;TZID=America/New_York:20250719T120000
DTSTAMP:20260424T154636
CREATED:20250605T125432Z
LAST-MODIFIED:20250605T125432Z
UID:10005399-1752919200-1752926400@lowcountryfoodbank.org
SUMMARY:North Myrtle Beach
DESCRIPTION:
URL:https://lowcountryfoodbank.org/event/north-myrtle-beach-19/
LOCATION:North Myrtle Beach Farmers Market\, 925 First Avenue South\, North Myrtle Beach\, SC\, 29582\, United States
CATEGORIES:Client Choice Market
END:VEVENT
BEGIN:VEVENT
DTSTART;TZID=America/New_York:20250726T100000
DTEND;TZID=America/New_York:20250726T120000
DTSTAMP:20260424T154636
CREATED:20250205T133406Z
LAST-MODIFIED:20250205T133406Z
UID:10005317-1753524000-1753531200@lowcountryfoodbank.org
SUMMARY:Little River
DESCRIPTION:
URL:https://lowcountryfoodbank.org/event/little-river-13/
LOCATION:Valorous Church\, 2100 Fire Tower Rd\, Little River\, SC\, 29566\, United States
CATEGORIES:Client Choice Market
END:VEVENT
BEGIN:VEVENT
DTSTART;TZID=America/New_York:20250726T100000
DTEND;TZID=America/New_York:20250726T120000
DTSTAMP:20260424T154636
CREATED:20250707T124825Z
LAST-MODIFIED:20250707T124825Z
UID:10005420-1753524000-1753531200@lowcountryfoodbank.org
SUMMARY:St. Stephen
DESCRIPTION:
URL:https://lowcountryfoodbank.org/event/st-stephen-15/
LOCATION:St. Stephen Middle School\, 225 Carolina Drive\, St. Stephen\, SC\, 29479\, United States
CATEGORIES:Client Choice Market
GEO:33.4054589;-79.9336985
X-APPLE-STRUCTURED-LOCATION;VALUE=URI;X-ADDRESS=St. Stephen Middle School 225 Carolina Drive St. Stephen SC 29479 United States;X-APPLE-RADIUS=500;X-TITLE=225 Carolina Drive:geo:-79.9336985,33.4054589
END:VEVENT
END:VCALENDAR