BEGIN:VCALENDAR
VERSION:2.0
PRODID:-//Lowcountry Food Bank - ECPv6.15.20//NONSGML v1.0//EN
CALSCALE:GREGORIAN
METHOD:PUBLISH
X-WR-CALNAME:Lowcountry Food Bank
X-ORIGINAL-URL:https://lowcountryfoodbank.org
X-WR-CALDESC:Events for Lowcountry Food Bank
REFRESH-INTERVAL;VALUE=DURATION:PT1H
X-Robots-Tag:noindex
X-PUBLISHED-TTL:PT1H
BEGIN:VTIMEZONE
TZID:America/New_York
BEGIN:DAYLIGHT
TZOFFSETFROM:-0500
TZOFFSETTO:-0400
TZNAME:EDT
DTSTART:20250309T070000
END:DAYLIGHT
BEGIN:STANDARD
TZOFFSETFROM:-0400
TZOFFSETTO:-0500
TZNAME:EST
DTSTART:20251102T060000
END:STANDARD
BEGIN:DAYLIGHT
TZOFFSETFROM:-0500
TZOFFSETTO:-0400
TZNAME:EDT
DTSTART:20260308T070000
END:DAYLIGHT
BEGIN:STANDARD
TZOFFSETFROM:-0400
TZOFFSETTO:-0500
TZNAME:EST
DTSTART:20261101T060000
END:STANDARD
BEGIN:DAYLIGHT
TZOFFSETFROM:-0500
TZOFFSETTO:-0400
TZNAME:EDT
DTSTART:20270314T070000
END:DAYLIGHT
BEGIN:STANDARD
TZOFFSETFROM:-0400
TZOFFSETTO:-0500
TZNAME:EST
DTSTART:20271107T060000
END:STANDARD
END:VTIMEZONE
BEGIN:VEVENT
DTSTART;TZID=America/New_York:20260113T090000
DTEND;TZID=America/New_York:20260113T110000
DTSTAMP:20260424T125441
CREATED:20251217T155110Z
LAST-MODIFIED:20251217T155110Z
UID:10005519-1768294800-1768302000@lowcountryfoodbank.org
SUMMARY:West Ashley
DESCRIPTION:
URL:https://lowcountryfoodbank.org/event/west-ashley-16/
LOCATION:West Ashley\, 65 Sycamore Ave\, Charleston\, SC\, 29407\, United States
CATEGORIES:Client Choice Market
GEO:32.7906236;-79.9891924
X-APPLE-STRUCTURED-LOCATION;VALUE=URI;X-ADDRESS=West Ashley 65 Sycamore Ave Charleston SC 29407 United States;X-APPLE-RADIUS=500;X-TITLE=65 Sycamore Ave:geo:-79.9891924,32.7906236
END:VEVENT
BEGIN:VEVENT
DTSTART;TZID=America/New_York:20260116T100000
DTEND;TZID=America/New_York:20260116T120000
DTSTAMP:20260424T125441
CREATED:20260105T173620Z
LAST-MODIFIED:20260105T173729Z
UID:10005956-1768557600-1768564800@lowcountryfoodbank.org
SUMMARY:Andrews
DESCRIPTION:
URL:https://lowcountryfoodbank.org/event/andrews-42/
LOCATION:Andrews Church of God\, 310 Morgan Ave.\, Andrews\, 29510\, United States
CATEGORIES:Client Choice Market
END:VEVENT
BEGIN:VEVENT
DTSTART;TZID=America/New_York:20260117T100000
DTEND;TZID=America/New_York:20260117T120000
DTSTAMP:20260424T125441
CREATED:20251217T155838Z
LAST-MODIFIED:20251217T155838Z
UID:10005521-1768644000-1768651200@lowcountryfoodbank.org
SUMMARY:Summerville
DESCRIPTION:
URL:https://lowcountryfoodbank.org/event/summerville-75/
LOCATION:Alston-Bailey Elementary School\, 820 W. 5th North Street\, Summerville\, 29483\, United States
CATEGORIES:Client Choice Market
END:VEVENT
BEGIN:VEVENT
DTSTART;TZID=America/New_York:20260122T160000
DTEND;TZID=America/New_York:20260122T180000
DTSTAMP:20260424T125441
CREATED:20260105T180449Z
LAST-MODIFIED:20260120T160913Z
UID:10005979-1769097600-1769104800@lowcountryfoodbank.org
SUMMARY:Ladson
DESCRIPTION:Join us at the Entrance in front of of Sangaree Middle School.\n\nThis event is Open to All and at No Cost.
URL:https://lowcountryfoodbank.org/event/ladson-30/
LOCATION:Sangaree Middle School\, 1050 Discovery Dr.\, Ladson\, SC\, 29456\, United States
CATEGORIES:Client Choice Market
GEO:33.0272285;-80.1078888
X-APPLE-STRUCTURED-LOCATION;VALUE=URI;X-ADDRESS=Sangaree Middle School 1050 Discovery Dr. Ladson SC 29456 United States;X-APPLE-RADIUS=500;X-TITLE=1050 Discovery Dr.:geo:-80.1078888,33.0272285
END:VEVENT
BEGIN:VEVENT
DTSTART;TZID=America/New_York:20260124T090000
DTEND;TZID=America/New_York:20260124T110000
DTSTAMP:20260424T125441
CREATED:20260105T180948Z
LAST-MODIFIED:20260120T161742Z
UID:10005980-1769245200-1769252400@lowcountryfoodbank.org
SUMMARY:Ravenel
DESCRIPTION:
URL:https://lowcountryfoodbank.org/event/ravenel/
LOCATION:E.B. Ellington Elementary School\, 5540 Old Jacksonboro Rd\, Ravenel\, SC 29470\, Ravenel\, SC\, 29470\, United States
CATEGORIES:Client Choice Market
END:VEVENT
BEGIN:VEVENT
DTSTART;TZID=America/New_York:20260126T170000
DTEND;TZID=America/New_York:20260126T190000
DTSTAMP:20260424T125441
CREATED:20251217T160454Z
LAST-MODIFIED:20251217T160454Z
UID:10005522-1769446800-1769454000@lowcountryfoodbank.org
SUMMARY:North Charleston
DESCRIPTION:
URL:https://lowcountryfoodbank.org/event/north-charleston-192/
LOCATION:Pinehurst Elementary School\, 7793 Northside Drive\, North Charleston\, 29420\, United States
CATEGORIES:Client Choice Market
END:VEVENT
BEGIN:VEVENT
DTSTART;TZID=America/New_York:20260131T100000
DTEND;TZID=America/New_York:20260131T120000
DTSTAMP:20260424T125441
CREATED:20260120T162435Z
LAST-MODIFIED:20260128T191035Z
UID:10005988-1769853600-1769860800@lowcountryfoodbank.org
SUMMARY:Smoaks
DESCRIPTION:Cancelled \ndue to \nInclement Weather.
URL:https://lowcountryfoodbank.org/event/smoaks/
LOCATION:Springtown United Methodist Church\, 8807 Augusta Highway\, Smoiaks\, 29481\, United States
CATEGORIES:Client Choice Market
END:VEVENT
END:VCALENDAR