BEGIN:VCALENDAR
VERSION:2.0
PRODID:-//Lowcountry Food Bank - ECPv6.15.20//NONSGML v1.0//EN
CALSCALE:GREGORIAN
METHOD:PUBLISH
X-ORIGINAL-URL:https://lowcountryfoodbank.org
X-WR-CALDESC:Events for Lowcountry Food Bank
REFRESH-INTERVAL;VALUE=DURATION:PT1H
X-Robots-Tag:noindex
X-PUBLISHED-TTL:PT1H
BEGIN:VTIMEZONE
TZID:America/New_York
BEGIN:DAYLIGHT
TZOFFSETFROM:-0500
TZOFFSETTO:-0400
TZNAME:EDT
DTSTART:20250309T070000
END:DAYLIGHT
BEGIN:STANDARD
TZOFFSETFROM:-0400
TZOFFSETTO:-0500
TZNAME:EST
DTSTART:20251102T060000
END:STANDARD
BEGIN:DAYLIGHT
TZOFFSETFROM:-0500
TZOFFSETTO:-0400
TZNAME:EDT
DTSTART:20260308T070000
END:DAYLIGHT
BEGIN:STANDARD
TZOFFSETFROM:-0400
TZOFFSETTO:-0500
TZNAME:EST
DTSTART:20261101T060000
END:STANDARD
BEGIN:DAYLIGHT
TZOFFSETFROM:-0500
TZOFFSETTO:-0400
TZNAME:EDT
DTSTART:20270314T070000
END:DAYLIGHT
BEGIN:STANDARD
TZOFFSETFROM:-0400
TZOFFSETTO:-0500
TZNAME:EST
DTSTART:20271107T060000
END:STANDARD
END:VTIMEZONE
BEGIN:VEVENT
DTSTART;TZID=America/New_York:20260203T090000
DTEND;TZID=America/New_York:20260203T110000
DTSTAMP:20260424T125102
CREATED:20260120T162753Z
LAST-MODIFIED:20260120T162753Z
UID:10005989-1770109200-1770116400@lowcountryfoodbank.org
SUMMARY:West Ashley
DESCRIPTION:
URL:https://lowcountryfoodbank.org/event/west-ashley-17/
LOCATION:West Ashley\, 65 Sycamore Ave\, Charleston\, SC\, 29407\, United States
CATEGORIES:Client Choice Market,Fresh for All produce distribution
GEO:32.7906236;-79.9891924
X-APPLE-STRUCTURED-LOCATION;VALUE=URI;X-ADDRESS=West Ashley 65 Sycamore Ave Charleston SC 29407 United States;X-APPLE-RADIUS=500;X-TITLE=65 Sycamore Ave:geo:-79.9891924,32.7906236
END:VEVENT
BEGIN:VEVENT
DTSTART;TZID=America/New_York:20260205T150000
DTEND;TZID=America/New_York:20260205T170000
DTSTAMP:20260424T125102
CREATED:20260127T152347Z
LAST-MODIFIED:20260205T115811Z
UID:10005990-1770303600-1770310800@lowcountryfoodbank.org
SUMMARY:Cross-Cancelled
DESCRIPTION:This Food Distribution has been Cancelled.\n\nPlease reference our Calendar for other sources of food available using link below:\nFind a Pantry Near You – Lowcountry Food Bank
URL:https://lowcountryfoodbank.org/event/cross-11/
LOCATION:Cross High School\, 1293 Old Highway 6\, Cross\, 29436\, United States
CATEGORIES:Client Choice Market
END:VEVENT
BEGIN:VEVENT
DTSTART;TZID=America/New_York:20260206T090000
DTEND;TZID=America/New_York:20260206T230000
DTSTAMP:20260424T125102
CREATED:20260127T152649Z
LAST-MODIFIED:20260127T152649Z
UID:10005991-1770368400-1770418800@lowcountryfoodbank.org
SUMMARY:Ridgeville
DESCRIPTION:
URL:https://lowcountryfoodbank.org/event/ridgeville-20/
LOCATION:Clay Hill Elementary School\, 387 Railroad Ave.\, Ridgeville\, 29472\, United States
CATEGORIES:Client Choice Market
END:VEVENT
BEGIN:VEVENT
DTSTART;TZID=America/New_York:20260225T073000
DTEND;TZID=America/New_York:20260225T090000
DTSTAMP:20260424T125102
CREATED:20260217T145233Z
LAST-MODIFIED:20260217T145233Z
UID:10006005-1772004600-1772010000@lowcountryfoodbank.org
SUMMARY:North Charleston
DESCRIPTION:
URL:https://lowcountryfoodbank.org/event/north-charleston-219/
LOCATION:Mary Ford Early Learning & Family Center\, 3180 Thomasina McPherson Blvd.\, North Charleston\, 29405\, United States
CATEGORIES:Client Choice Market,Fresh Xpress Produce Distribution
END:VEVENT
BEGIN:VEVENT
DTSTART;TZID=America/New_York:20260226T170000
DTEND;TZID=America/New_York:20260226T190000
DTSTAMP:20260424T125102
CREATED:20260210T121842Z
LAST-MODIFIED:20260210T121842Z
UID:10006002-1772125200-1772132400@lowcountryfoodbank.org
SUMMARY:Moncks Corner
DESCRIPTION:
URL:https://lowcountryfoodbank.org/event/moncks-corner-161/
LOCATION:Moncks Corner Elementary School\, 777 Stony Landing Road\, Moncks Corner\, SC\, 29461\, United States
CATEGORIES:Client Choice Market,Fresh for All produce distribution
END:VEVENT
BEGIN:VEVENT
DTSTART;TZID=America/New_York:20260228T100000
DTEND;TZID=America/New_York:20260228T120000
DTSTAMP:20260424T125102
CREATED:20260220T140052Z
LAST-MODIFIED:20260220T140052Z
UID:10006017-1772272800-1772280000@lowcountryfoodbank.org
SUMMARY:St. Stephen
DESCRIPTION:
URL:https://lowcountryfoodbank.org/event/st-stephen-18/
LOCATION:St. Stephen Middle School\, 225 Carolina Drive\, St. Stephen\, SC\, 29479\, United States
CATEGORIES:Client Choice Market
GEO:33.4054589;-79.9336985
X-APPLE-STRUCTURED-LOCATION;VALUE=URI;X-ADDRESS=St. Stephen Middle School 225 Carolina Drive St. Stephen SC 29479 United States;X-APPLE-RADIUS=500;X-TITLE=225 Carolina Drive:geo:-79.9336985,33.4054589
END:VEVENT
END:VCALENDAR