BEGIN:VCALENDAR
VERSION:2.0
PRODID:-//Lowcountry Food Bank - ECPv6.15.20//NONSGML v1.0//EN
CALSCALE:GREGORIAN
METHOD:PUBLISH
X-ORIGINAL-URL:https://lowcountryfoodbank.org
X-WR-CALDESC:Events for Lowcountry Food Bank
REFRESH-INTERVAL;VALUE=DURATION:PT1H
X-Robots-Tag:noindex
X-PUBLISHED-TTL:PT1H
BEGIN:VTIMEZONE
TZID:America/New_York
BEGIN:DAYLIGHT
TZOFFSETFROM:-0500
TZOFFSETTO:-0400
TZNAME:EDT
DTSTART:20240310T070000
END:DAYLIGHT
BEGIN:STANDARD
TZOFFSETFROM:-0400
TZOFFSETTO:-0500
TZNAME:EST
DTSTART:20241103T060000
END:STANDARD
BEGIN:DAYLIGHT
TZOFFSETFROM:-0500
TZOFFSETTO:-0400
TZNAME:EDT
DTSTART:20250309T070000
END:DAYLIGHT
BEGIN:STANDARD
TZOFFSETFROM:-0400
TZOFFSETTO:-0500
TZNAME:EST
DTSTART:20251102T060000
END:STANDARD
BEGIN:DAYLIGHT
TZOFFSETFROM:-0500
TZOFFSETTO:-0400
TZNAME:EDT
DTSTART:20260308T070000
END:DAYLIGHT
BEGIN:STANDARD
TZOFFSETFROM:-0400
TZOFFSETTO:-0500
TZNAME:EST
DTSTART:20261101T060000
END:STANDARD
END:VTIMEZONE
BEGIN:VEVENT
DTSTART;TZID=America/New_York:20250909T090000
DTEND;TZID=America/New_York:20250909T110000
DTSTAMP:20260423T065813
CREATED:20250811T143600Z
LAST-MODIFIED:20250811T143600Z
UID:10005453-1757408400-1757415600@lowcountryfoodbank.org
SUMMARY:Charleston
DESCRIPTION:
URL:https://lowcountryfoodbank.org/event/charleston-241/
LOCATION:West Ashley\, 65 Sycamore Ave\, Charleston\, SC\, 29407\, United States
CATEGORIES:Fresh for All produce distribution
GEO:32.7906236;-79.9891924
X-APPLE-STRUCTURED-LOCATION;VALUE=URI;X-ADDRESS=West Ashley 65 Sycamore Ave Charleston SC 29407 United States;X-APPLE-RADIUS=500;X-TITLE=65 Sycamore Ave:geo:-79.9891924,32.7906236
END:VEVENT
BEGIN:VEVENT
DTSTART;TZID=America/New_York:20250910T150000
DTEND;TZID=America/New_York:20250910T170000
DTSTAMP:20260423T065813
CREATED:20250710T144645Z
LAST-MODIFIED:20250710T144645Z
UID:10005427-1757516400-1757523600@lowcountryfoodbank.org
SUMMARY:Myrtle Beach
DESCRIPTION:
URL:https://lowcountryfoodbank.org/event/myrtle-beach-64/
LOCATION:South Strand Recreation Center\, 9650 Scipio Lane\, Myrtle Beach\, SC\, 29588\, United States
CATEGORIES:Fresh for All produce distribution
END:VEVENT
BEGIN:VEVENT
DTSTART;TZID=America/New_York:20250910T170000
DTEND;TZID=America/New_York:20250910T190000
DTSTAMP:20260423T065813
CREATED:20250905T113153Z
LAST-MODIFIED:20250905T113153Z
UID:10005461-1757523600-1757530800@lowcountryfoodbank.org
SUMMARY:North Charleston
DESCRIPTION:
URL:https://lowcountryfoodbank.org/event/north-charleston-188/
LOCATION:R.B. Stall High School\, 3625 Ashley Phosphate Road\, North Charleston\, SC\, 29418\, United States
CATEGORIES:Fresh for All produce distribution
END:VEVENT
BEGIN:VEVENT
DTSTART;TZID=America/New_York:20250911T150000
DTEND;TZID=America/New_York:20250911T170000
DTSTAMP:20260423T065813
CREATED:20250827T165843Z
LAST-MODIFIED:20250827T165843Z
UID:10005458-1757602800-1757610000@lowcountryfoodbank.org
SUMMARY:Moncks Corner
DESCRIPTION:
URL:https://lowcountryfoodbank.org/event/moncks-corner-141/
LOCATION:Moncks Corner Elementary School\, 777 Stony Landing Road\, Moncks Corner\, SC\, 29461\, United States
CATEGORIES:Fresh for All produce distribution
END:VEVENT
BEGIN:VEVENT
DTSTART;TZID=America/New_York:20250912T100000
DTEND;TZID=America/New_York:20250912T120000
DTSTAMP:20260423T065813
CREATED:20250827T170411Z
LAST-MODIFIED:20250827T170714Z
UID:10005459-1757671200-1757678400@lowcountryfoodbank.org
SUMMARY:Beaufort-St. Helena Island
DESCRIPTION:
URL:https://lowcountryfoodbank.org/event/beaufort-st-helena-island-7/
LOCATION:St. Helena Elementary School\, 1025 Sea Island Pkwy\, St. Helena Island\, SC\, 29920
CATEGORIES:Fresh for All produce distribution
GEO:32.401551;-80.5636888
X-APPLE-STRUCTURED-LOCATION;VALUE=URI;X-ADDRESS=St. Helena Elementary School 1025 Sea Island Pkwy St. Helena Island SC 29920;X-APPLE-RADIUS=500;X-TITLE=1025 Sea Island Pkwy:geo:-80.5636888,32.401551
END:VEVENT
BEGIN:VEVENT
DTSTART;TZID=America/New_York:20250913T100000
DTEND;TZID=America/New_York:20250913T120000
DTSTAMP:20260423T065813
CREATED:20250827T171018Z
LAST-MODIFIED:20250827T171018Z
UID:10005460-1757757600-1757764800@lowcountryfoodbank.org
SUMMARY:Summerville
DESCRIPTION:
URL:https://lowcountryfoodbank.org/event/summerville-72/
LOCATION:Beech Hill Elementary School\, 1001 Beech Hill Road\, Summerville\, SC\, 29485\, United States
CATEGORIES:Fresh for All produce distribution
GEO:32.9510318;-80.2272299
X-APPLE-STRUCTURED-LOCATION;VALUE=URI;X-ADDRESS=Beech Hill Elementary School 1001 Beech Hill Road Summerville SC 29485 United States;X-APPLE-RADIUS=500;X-TITLE=1001 Beech Hill Road:geo:-80.2272299,32.9510318
END:VEVENT
BEGIN:VEVENT
DTSTART;TZID=America/New_York:20250922T080000
DTEND;TZID=America/New_York:20250922T100000
DTSTAMP:20260423T065813
CREATED:20250710T150240Z
LAST-MODIFIED:20250710T150240Z
UID:10005433-1758528000-1758535200@lowcountryfoodbank.org
SUMMARY:Socastee
DESCRIPTION:
URL:https://lowcountryfoodbank.org/event/socastee-3/
LOCATION:Socastee Park\, 7485 Butler Rd\, Myrtle Beach\, SC\, 29588\, United States
CATEGORIES:Fresh for All produce distribution
END:VEVENT
BEGIN:VEVENT
DTSTART;TZID=America/New_York:20250926T100000
DTEND;TZID=America/New_York:20250926T120000
DTSTAMP:20260423T065813
CREATED:20250923T110301Z
LAST-MODIFIED:20250923T110301Z
UID:10005468-1758880800-1758888000@lowcountryfoodbank.org
SUMMARY:Beaufort
DESCRIPTION:
URL:https://lowcountryfoodbank.org/event/beaufort-83/
LOCATION:Whale Branch Early College High School\, 169 Detour Road\, Beaufort\, SC\, 29940\, United States
CATEGORIES:Fresh for All produce distribution
GEO:32.52177;-80.7596333
X-APPLE-STRUCTURED-LOCATION;VALUE=URI;X-ADDRESS=Whale Branch Early College High School 169 Detour Road Beaufort SC 29940 United States;X-APPLE-RADIUS=500;X-TITLE=169 Detour Road:geo:-80.7596333,32.52177
END:VEVENT
BEGIN:VEVENT
DTSTART;TZID=America/New_York:20250930T160000
DTEND;TZID=America/New_York:20250930T180000
DTSTAMP:20260423T065813
CREATED:20250924T165544Z
LAST-MODIFIED:20250924T165544Z
UID:10005469-1759248000-1759255200@lowcountryfoodbank.org
SUMMARY:North Charleston
DESCRIPTION:
URL:https://lowcountryfoodbank.org/event/north-charleston-191/
LOCATION:Eagle Nest Elementary & River Oaks Middle Schools\, 8640 River Oaks Drive\, North Charleston\, SC\, 29420\, United States
CATEGORIES:Fresh for All produce distribution
END:VEVENT
END:VCALENDAR