BEGIN:VCALENDAR
VERSION:2.0
PRODID:-//Lowcountry Food Bank - ECPv6.15.20//NONSGML v1.0//EN
CALSCALE:GREGORIAN
METHOD:PUBLISH
X-ORIGINAL-URL:https://lowcountryfoodbank.org
X-WR-CALDESC:Events for Lowcountry Food Bank
REFRESH-INTERVAL;VALUE=DURATION:PT1H
X-Robots-Tag:noindex
X-PUBLISHED-TTL:PT1H
BEGIN:VTIMEZONE
TZID:America/New_York
BEGIN:DAYLIGHT
TZOFFSETFROM:-0500
TZOFFSETTO:-0400
TZNAME:EDT
DTSTART:20250309T070000
END:DAYLIGHT
BEGIN:STANDARD
TZOFFSETFROM:-0400
TZOFFSETTO:-0500
TZNAME:EST
DTSTART:20251102T060000
END:STANDARD
BEGIN:DAYLIGHT
TZOFFSETFROM:-0500
TZOFFSETTO:-0400
TZNAME:EDT
DTSTART:20260308T070000
END:DAYLIGHT
BEGIN:STANDARD
TZOFFSETFROM:-0400
TZOFFSETTO:-0500
TZNAME:EST
DTSTART:20261101T060000
END:STANDARD
BEGIN:DAYLIGHT
TZOFFSETFROM:-0500
TZOFFSETTO:-0400
TZNAME:EDT
DTSTART:20270314T070000
END:DAYLIGHT
BEGIN:STANDARD
TZOFFSETFROM:-0400
TZOFFSETTO:-0500
TZNAME:EST
DTSTART:20271107T060000
END:STANDARD
END:VTIMEZONE
BEGIN:VEVENT
DTSTART;TZID=America/New_York:20260303T090000
DTEND;TZID=America/New_York:20260303T110000
DTSTAMP:20260422T215406
CREATED:20260224T104826Z
LAST-MODIFIED:20260224T104826Z
UID:10006022-1772528400-1772535600@lowcountryfoodbank.org
SUMMARY:West Ashley
DESCRIPTION:
URL:https://lowcountryfoodbank.org/event/west-ashley-18/
LOCATION:West Ashley\, 65 Sycamore Ave\, Charleston\, SC\, 29407\, United States
CATEGORIES:Fresh for All produce distribution
GEO:32.7906236;-79.9891924
X-APPLE-STRUCTURED-LOCATION;VALUE=URI;X-ADDRESS=West Ashley 65 Sycamore Ave Charleston SC 29407 United States;X-APPLE-RADIUS=500;X-TITLE=65 Sycamore Ave:geo:-79.9891924,32.7906236
END:VEVENT
BEGIN:VEVENT
DTSTART;TZID=America/New_York:20260305T150000
DTEND;TZID=America/New_York:20260305T170000
DTSTAMP:20260422T215406
CREATED:20260303T153421Z
LAST-MODIFIED:20260303T155926Z
UID:10006025-1772722800-1772730000@lowcountryfoodbank.org
SUMMARY:Ladson
DESCRIPTION:
URL:https://lowcountryfoodbank.org/event/north-charleston-227/
LOCATION:Joseph R. Pye Elementary School\, 9701 Patriot Blvd.\, Ladson\, SC\, 29456\, United States
CATEGORIES:Fresh for All produce distribution
END:VEVENT
BEGIN:VEVENT
DTSTART;TZID=America/New_York:20260311T150000
DTEND;TZID=America/New_York:20260311T170000
DTSTAMP:20260422T215406
CREATED:20260105T165957Z
LAST-MODIFIED:20260105T165957Z
UID:10005933-1773241200-1773248400@lowcountryfoodbank.org
SUMMARY:Myrtle Beach
DESCRIPTION:
URL:https://lowcountryfoodbank.org/event/myrtle-beach-71/
LOCATION:South Strand Recreation Center\, 9650 Scipio Lane\, Myrtle Beach\, SC\, 29588\, United States
CATEGORIES:Fresh for All produce distribution
END:VEVENT
BEGIN:VEVENT
DTSTART;TZID=America/New_York:20260312T120000
DTEND;TZID=America/New_York:20260312T140000
DTSTAMP:20260422T215406
CREATED:20260220T162606Z
LAST-MODIFIED:20260220T162606Z
UID:10006018-1773316800-1773324000@lowcountryfoodbank.org
SUMMARY:Conway
DESCRIPTION:
URL:https://lowcountryfoodbank.org/event/conway-207/
LOCATION:Bucksport Senior Center\, 8879 Henrietta Bluffs\, Conway\, SC\, 29527\, United States
CATEGORIES:Fresh for All produce distribution
END:VEVENT
BEGIN:VEVENT
DTSTART;TZID=America/New_York:20260314T100000
DTEND;TZID=America/New_York:20260314T120000
DTSTAMP:20260422T215406
CREATED:20260217T153902Z
LAST-MODIFIED:20260217T153902Z
UID:10006014-1773482400-1773489600@lowcountryfoodbank.org
SUMMARY:Summerville
DESCRIPTION:
URL:https://lowcountryfoodbank.org/event/summerville-88/
LOCATION:Beech Hill Elementary School\, 1001 Beech Hill Road\, Summerville\, SC\, 29485\, United States
CATEGORIES:Client Choice Market,Fresh for All produce distribution
GEO:32.9510318;-80.2272299
X-APPLE-STRUCTURED-LOCATION;VALUE=URI;X-ADDRESS=Beech Hill Elementary School 1001 Beech Hill Road Summerville SC 29485 United States;X-APPLE-RADIUS=500;X-TITLE=1001 Beech Hill Road:geo:-80.2272299,32.9510318
END:VEVENT
BEGIN:VEVENT
DTSTART;TZID=America/New_York:20260319T120000
DTEND;TZID=America/New_York:20260319T140000
DTSTAMP:20260422T215406
CREATED:20260220T162727Z
LAST-MODIFIED:20260220T162727Z
UID:10006020-1773921600-1773928800@lowcountryfoodbank.org
SUMMARY:Loris
DESCRIPTION:
URL:https://lowcountryfoodbank.org/event/loris-105/
LOCATION:Mt Vernon Senior Center\, 3200 Red Bluff Rd\, Loris\, SC\, 29569\, United States
CATEGORIES:Fresh for All produce distribution
END:VEVENT
BEGIN:VEVENT
DTSTART;TZID=America/New_York:20260319T160000
DTEND;TZID=America/New_York:20260319T180000
DTSTAMP:20260422T215406
CREATED:20260317T120623Z
LAST-MODIFIED:20260317T120623Z
UID:10006037-1773936000-1773943200@lowcountryfoodbank.org
SUMMARY:North Charleston
DESCRIPTION:
URL:https://lowcountryfoodbank.org/event/north-charleston-228/
LOCATION:Eagle Nest Elementary & River Oaks Middle Schools\, 8640 River Oaks Drive\, North Charleston\, SC\, 29420\, United States
CATEGORIES:Fresh for All produce distribution
END:VEVENT
BEGIN:VEVENT
DTSTART;TZID=America/New_York:20260323T090000
DTEND;TZID=America/New_York:20260323T110000
DTSTAMP:20260422T215406
CREATED:20260105T171423Z
LAST-MODIFIED:20260113T194618Z
UID:10005945-1774256400-1774263600@lowcountryfoodbank.org
SUMMARY:Socastee
DESCRIPTION:
URL:https://lowcountryfoodbank.org/event/socastee-9/
LOCATION:Socastee Park\, 7485 Butler Rd\, Myrtle Beach\, SC\, 29588\, United States
CATEGORIES:Fresh for All produce distribution
END:VEVENT
BEGIN:VEVENT
DTSTART;TZID=America/New_York:20260326T153000
DTEND;TZID=America/New_York:20260326T173000
DTSTAMP:20260422T215406
CREATED:20260324T105711Z
LAST-MODIFIED:20260324T105747Z
UID:10006038-1774539000-1774546200@lowcountryfoodbank.org
SUMMARY:Ladson
DESCRIPTION:
URL:https://lowcountryfoodbank.org/event/ladson-32/
LOCATION:Sangaree Middle School\, 1050 Discovery Dr.\, Ladson\, SC\, 29456\, United States
CATEGORIES:Fresh for All produce distribution
GEO:33.0272285;-80.1078888
X-APPLE-STRUCTURED-LOCATION;VALUE=URI;X-ADDRESS=Sangaree Middle School 1050 Discovery Dr. Ladson SC 29456 United States;X-APPLE-RADIUS=500;X-TITLE=1050 Discovery Dr.:geo:-80.1078888,33.0272285
END:VEVENT
BEGIN:VEVENT
DTSTART;TZID=America/New_York:20260331T153000
DTEND;TZID=America/New_York:20260331T170000
DTSTAMP:20260422T215406
CREATED:20260212T151723Z
LAST-MODIFIED:20260212T151723Z
UID:10006003-1774971000-1774976400@lowcountryfoodbank.org
SUMMARY:Ladson
DESCRIPTION:
URL:https://lowcountryfoodbank.org/event/ladson-31/
LOCATION:College Park Middle School\, 713 College Park Road\, Ladson\, SC\, 29456\, United States
CATEGORIES:Fresh for All produce distribution
GEO:33.0189133;-80.0903023
X-APPLE-STRUCTURED-LOCATION;VALUE=URI;X-ADDRESS=College Park Middle School 713 College Park Road Ladson SC 29456 United States;X-APPLE-RADIUS=500;X-TITLE=713 College Park Road:geo:-80.0903023,33.0189133
END:VEVENT
END:VCALENDAR