BEGIN:VCALENDAR
VERSION:2.0
PRODID:-//Lowcountry Food Bank - ECPv6.15.20//NONSGML v1.0//EN
CALSCALE:GREGORIAN
METHOD:PUBLISH
X-WR-CALNAME:Lowcountry Food Bank
X-ORIGINAL-URL:https://lowcountryfoodbank.org
X-WR-CALDESC:Events for Lowcountry Food Bank
REFRESH-INTERVAL;VALUE=DURATION:PT1H
X-Robots-Tag:noindex
X-PUBLISHED-TTL:PT1H
BEGIN:VTIMEZONE
TZID:America/New_York
BEGIN:DAYLIGHT
TZOFFSETFROM:-0500
TZOFFSETTO:-0400
TZNAME:EDT
DTSTART:20250309T070000
END:DAYLIGHT
BEGIN:STANDARD
TZOFFSETFROM:-0400
TZOFFSETTO:-0500
TZNAME:EST
DTSTART:20251102T060000
END:STANDARD
BEGIN:DAYLIGHT
TZOFFSETFROM:-0500
TZOFFSETTO:-0400
TZNAME:EDT
DTSTART:20260308T070000
END:DAYLIGHT
BEGIN:STANDARD
TZOFFSETFROM:-0400
TZOFFSETTO:-0500
TZNAME:EST
DTSTART:20261101T060000
END:STANDARD
BEGIN:DAYLIGHT
TZOFFSETFROM:-0500
TZOFFSETTO:-0400
TZNAME:EDT
DTSTART:20270314T070000
END:DAYLIGHT
BEGIN:STANDARD
TZOFFSETFROM:-0400
TZOFFSETTO:-0500
TZNAME:EST
DTSTART:20271107T060000
END:STANDARD
END:VTIMEZONE
BEGIN:VEVENT
DTSTART;TZID=America/New_York:20260211T150000
DTEND;TZID=America/New_York:20260211T170000
DTSTAMP:20260419T083910
CREATED:20260105T165931Z
LAST-MODIFIED:20260105T165931Z
UID:10005932-1770822000-1770829200@lowcountryfoodbank.org
SUMMARY:Myrtle Beach
DESCRIPTION:
URL:https://lowcountryfoodbank.org/event/myrtle-beach-70/
LOCATION:South Strand Recreation Center\, 9650 Scipio Lane\, Myrtle Beach\, SC\, 29588\, United States
CATEGORIES:Fresh for All produce distribution
END:VEVENT
BEGIN:VEVENT
DTSTART;TZID=America/New_York:20260212T120000
DTEND;TZID=America/New_York:20260212T140000
DTSTAMP:20260419T083910
CREATED:20260105T173615Z
LAST-MODIFIED:20260105T173615Z
UID:10005955-1770897600-1770904800@lowcountryfoodbank.org
SUMMARY:Conway
DESCRIPTION:
URL:https://lowcountryfoodbank.org/event/conway-203/
LOCATION:Bucksport Senior Center\, 8879 Henrietta Bluffs\, Conway\, SC\, 29527\, United States
CATEGORIES:Fresh for All produce distribution
END:VEVENT
BEGIN:VEVENT
DTSTART;TZID=America/New_York:20260213T100000
DTEND;TZID=America/New_York:20260213T120000
DTSTAMP:20260419T083910
CREATED:20260127T155200Z
LAST-MODIFIED:20260127T155200Z
UID:10005994-1770976800-1770984000@lowcountryfoodbank.org
SUMMARY:Beaufort
DESCRIPTION:
URL:https://lowcountryfoodbank.org/event/beaufort-101/
LOCATION:St. Helena Elementary School\, 1025 Sea Island Pkwy\, St. Helena Island\, SC\, 29920
CATEGORIES:Fresh for All produce distribution
GEO:32.401551;-80.5636888
X-APPLE-STRUCTURED-LOCATION;VALUE=URI;X-ADDRESS=St. Helena Elementary School 1025 Sea Island Pkwy St. Helena Island SC 29920;X-APPLE-RADIUS=500;X-TITLE=1025 Sea Island Pkwy:geo:-80.5636888,32.401551
END:VEVENT
END:VCALENDAR