BEGIN:VCALENDAR
VERSION:2.0
PRODID:-//Lowcountry Food Bank - ECPv6.15.20//NONSGML v1.0//EN
CALSCALE:GREGORIAN
METHOD:PUBLISH
X-WR-CALNAME:Lowcountry Food Bank
X-ORIGINAL-URL:https://lowcountryfoodbank.org
X-WR-CALDESC:Events for Lowcountry Food Bank
REFRESH-INTERVAL;VALUE=DURATION:PT1H
X-Robots-Tag:noindex
X-PUBLISHED-TTL:PT1H
BEGIN:VTIMEZONE
TZID:America/New_York
BEGIN:DAYLIGHT
TZOFFSETFROM:-0500
TZOFFSETTO:-0400
TZNAME:EDT
DTSTART:20220313T070000
END:DAYLIGHT
BEGIN:STANDARD
TZOFFSETFROM:-0400
TZOFFSETTO:-0500
TZNAME:EST
DTSTART:20221106T060000
END:STANDARD
BEGIN:DAYLIGHT
TZOFFSETFROM:-0500
TZOFFSETTO:-0400
TZNAME:EDT
DTSTART:20230312T070000
END:DAYLIGHT
BEGIN:STANDARD
TZOFFSETFROM:-0400
TZOFFSETTO:-0500
TZNAME:EST
DTSTART:20231105T060000
END:STANDARD
BEGIN:DAYLIGHT
TZOFFSETFROM:-0500
TZOFFSETTO:-0400
TZNAME:EDT
DTSTART:20240310T070000
END:DAYLIGHT
BEGIN:STANDARD
TZOFFSETFROM:-0400
TZOFFSETTO:-0500
TZNAME:EST
DTSTART:20241103T060000
END:STANDARD
END:VTIMEZONE
BEGIN:VEVENT
DTSTART;TZID=America/New_York:20230314T100000
DTEND;TZID=America/New_York:20230314T120000
DTSTAMP:20260424T105353
CREATED:20230111T203434Z
LAST-MODIFIED:20230111T203434Z
UID:10003773-1678788000-1678795200@lowcountryfoodbank.org
SUMMARY:Charleston
DESCRIPTION:
URL:https://lowcountryfoodbank.org/event/charleston-105/
LOCATION:Soldiers’ Angels\, 1113 Sam Rittenberg Blvd\, Charleston\, SC\, 29407
CATEGORIES:Fresh Xpress Produce Distribution
END:VEVENT
BEGIN:VEVENT
DTSTART;TZID=America/New_York:20230314T120000
DTEND;TZID=America/New_York:20230314T160000
DTSTAMP:20260424T105353
CREATED:20230111T203432Z
LAST-MODIFIED:20230111T203432Z
UID:10003772-1678795200-1678809600@lowcountryfoodbank.org
SUMMARY:Hardeeville
DESCRIPTION:
URL:https://lowcountryfoodbank.org/event/hardeeville-12/
LOCATION:Catholic Charities/Mercy Mission\, 19869 Whyte-Hardee Blvd.\, Hardeeville\, SC\, 29927
CATEGORIES:Fresh Xpress Produce Distribution
END:VEVENT
END:VCALENDAR