BEGIN:VCALENDAR
VERSION:2.0
PRODID:-//Lowcountry Food Bank - ECPv6.15.20//NONSGML v1.0//EN
CALSCALE:GREGORIAN
METHOD:PUBLISH
X-WR-CALNAME:Lowcountry Food Bank
X-ORIGINAL-URL:https://lowcountryfoodbank.org
X-WR-CALDESC:Events for Lowcountry Food Bank
REFRESH-INTERVAL;VALUE=DURATION:PT1H
X-Robots-Tag:noindex
X-PUBLISHED-TTL:PT1H
BEGIN:VTIMEZONE
TZID:America/New_York
BEGIN:DAYLIGHT
TZOFFSETFROM:-0500
TZOFFSETTO:-0400
TZNAME:EDT
DTSTART:20220313T070000
END:DAYLIGHT
BEGIN:STANDARD
TZOFFSETFROM:-0400
TZOFFSETTO:-0500
TZNAME:EST
DTSTART:20221106T060000
END:STANDARD
BEGIN:DAYLIGHT
TZOFFSETFROM:-0500
TZOFFSETTO:-0400
TZNAME:EDT
DTSTART:20230312T070000
END:DAYLIGHT
BEGIN:STANDARD
TZOFFSETFROM:-0400
TZOFFSETTO:-0500
TZNAME:EST
DTSTART:20231105T060000
END:STANDARD
BEGIN:DAYLIGHT
TZOFFSETFROM:-0500
TZOFFSETTO:-0400
TZNAME:EDT
DTSTART:20240310T070000
END:DAYLIGHT
BEGIN:STANDARD
TZOFFSETFROM:-0400
TZOFFSETTO:-0500
TZNAME:EST
DTSTART:20241103T060000
END:STANDARD
END:VTIMEZONE
BEGIN:VEVENT
DTSTART;TZID=America/New_York:20230321T083000
DTEND;TZID=America/New_York:20230321T120000
DTSTAMP:20260419T154305
CREATED:20230111T204036Z
LAST-MODIFIED:20230111T204036Z
UID:10003788-1679387400-1679400000@lowcountryfoodbank.org
SUMMARY:Beaufort
DESCRIPTION:
URL:https://lowcountryfoodbank.org/event/beaufort-25/
LOCATION:HELP of Beaufort\, 1600 Ribaut Rd.\, Port Royal\, SC\, 29935\, United States
CATEGORIES:Fresh Xpress Produce Distribution
GEO:32.3841494;-80.6976386
X-APPLE-STRUCTURED-LOCATION;VALUE=URI;X-ADDRESS=HELP of Beaufort 1600 Ribaut Rd. Port Royal SC 29935 United States;X-APPLE-RADIUS=500;X-TITLE=1600 Ribaut Rd.:geo:-80.6976386,32.3841494
END:VEVENT
BEGIN:VEVENT
DTSTART;TZID=America/New_York:20230321T093000
DTEND;TZID=America/New_York:20230321T120000
DTSTAMP:20260419T154305
CREATED:20230111T204038Z
LAST-MODIFIED:20230111T204038Z
UID:10003789-1679391000-1679400000@lowcountryfoodbank.org
SUMMARY:Walterboro
DESCRIPTION:
URL:https://lowcountryfoodbank.org/event/walterboro-36/
LOCATION:Mt. Olive Baptist Walterboro\, 329 Savage Street\, Walterboro\, SC\, 29488
CATEGORIES:Fresh Xpress Produce Distribution
END:VEVENT
END:VCALENDAR