BEGIN:VCALENDAR
VERSION:2.0
PRODID:-//Lowcountry Food Bank - ECPv6.15.20//NONSGML v1.0//EN
CALSCALE:GREGORIAN
METHOD:PUBLISH
X-ORIGINAL-URL:https://lowcountryfoodbank.org
X-WR-CALDESC:Events for Lowcountry Food Bank
REFRESH-INTERVAL;VALUE=DURATION:PT1H
X-Robots-Tag:noindex
X-PUBLISHED-TTL:PT1H
BEGIN:VTIMEZONE
TZID:America/New_York
BEGIN:DAYLIGHT
TZOFFSETFROM:-0500
TZOFFSETTO:-0400
TZNAME:EDT
DTSTART:20250309T070000
END:DAYLIGHT
BEGIN:STANDARD
TZOFFSETFROM:-0400
TZOFFSETTO:-0500
TZNAME:EST
DTSTART:20251102T060000
END:STANDARD
BEGIN:DAYLIGHT
TZOFFSETFROM:-0500
TZOFFSETTO:-0400
TZNAME:EDT
DTSTART:20260308T070000
END:DAYLIGHT
BEGIN:STANDARD
TZOFFSETFROM:-0400
TZOFFSETTO:-0500
TZNAME:EST
DTSTART:20261101T060000
END:STANDARD
BEGIN:DAYLIGHT
TZOFFSETFROM:-0500
TZOFFSETTO:-0400
TZNAME:EDT
DTSTART:20270314T070000
END:DAYLIGHT
BEGIN:STANDARD
TZOFFSETFROM:-0400
TZOFFSETTO:-0500
TZNAME:EST
DTSTART:20271107T060000
END:STANDARD
END:VTIMEZONE
BEGIN:VEVENT
DTSTART;TZID=America/New_York:20260421T093000
DTEND;TZID=America/New_York:20260421T123000
DTSTAMP:20260421T201033
CREATED:20251230T162334Z
LAST-MODIFIED:20251230T162334Z
UID:10005647-1776763800-1776774600@lowcountryfoodbank.org
SUMMARY:Walterboro
DESCRIPTION:
URL:https://lowcountryfoodbank.org/event/walterboro-103/
LOCATION:Mt. Olive Baptist Walterboro\, 329 Savage Street\, Walterboro\, SC\, 29488
CATEGORIES:Fresh Xpress Produce Distribution
END:VEVENT
BEGIN:VEVENT
DTSTART;TZID=America/New_York:20260421T100000
DTEND;TZID=America/New_York:20260421T110000
DTSTAMP:20260421T201033
CREATED:20251230T162336Z
LAST-MODIFIED:20251230T162336Z
UID:10005648-1776765600-1776769200@lowcountryfoodbank.org
SUMMARY:Hilton Head Island
DESCRIPTION:
URL:https://lowcountryfoodbank.org/event/hilton-head-island-4/
LOCATION:St. Andrew By-The-Sea – Second Helpings\, 20 Pope Ave\, Hilton Head Island\, SC\, 29928
CATEGORIES:Fresh Xpress Produce Distribution
END:VEVENT
BEGIN:VEVENT
DTSTART;TZID=America/New_York:20260422T073000
DTEND;TZID=America/New_York:20260422T090000
DTSTAMP:20260421T201033
CREATED:20260217T150210Z
LAST-MODIFIED:20260217T150210Z
UID:10006008-1776843000-1776848400@lowcountryfoodbank.org
SUMMARY:North Charleston
DESCRIPTION:
URL:https://lowcountryfoodbank.org/event/north-charleston-222/
LOCATION:Mary Ford Early Learning & Family Center\, 3180 Thomasina McPherson Blvd.\, North Charleston\, 29405\, United States
CATEGORIES:Client Choice Market,Fresh Xpress Produce Distribution
END:VEVENT
BEGIN:VEVENT
DTSTART;TZID=America/New_York:20260423T093000
DTEND;TZID=America/New_York:20260423T120000
DTSTAMP:20260421T201033
CREATED:20251230T162337Z
LAST-MODIFIED:20251230T162337Z
UID:10005649-1776936600-1776945600@lowcountryfoodbank.org
SUMMARY:Islandton
DESCRIPTION:
URL:https://lowcountryfoodbank.org/event/islandton-28/
LOCATION:Higher Ground Baptist Ministries\, 5548 Moselle Road\, Islandton\, SC\, 29929
CATEGORIES:Fresh Xpress Produce Distribution
END:VEVENT
BEGIN:VEVENT
DTSTART;TZID=America/New_York:20260425T090000
DTEND;TZID=America/New_York:20260425T103000
DTSTAMP:20260421T201033
CREATED:20251230T162402Z
LAST-MODIFIED:20251230T162402Z
UID:10005650-1777107600-1777113000@lowcountryfoodbank.org
SUMMARY:Pineville
DESCRIPTION:
URL:https://lowcountryfoodbank.org/event/pineville-28/
LOCATION:Redeemer RE Church\, 2173 Highway 45\, Pineville\, SC\, 29468\, United States
CATEGORIES:Fresh Xpress Produce Distribution
GEO:33.4283619;-80.0315294
X-APPLE-STRUCTURED-LOCATION;VALUE=URI;X-ADDRESS=Redeemer RE Church 2173 Highway 45 Pineville SC 29468 United States;X-APPLE-RADIUS=500;X-TITLE=2173 Highway 45:geo:-80.0315294,33.4283619
END:VEVENT
BEGIN:VEVENT
DTSTART;TZID=America/New_York:20260425T110000
DTEND;TZID=America/New_York:20260425T130000
DTSTAMP:20260421T201033
CREATED:20251230T162405Z
LAST-MODIFIED:20251230T162405Z
UID:10005651-1777114800-1777122000@lowcountryfoodbank.org
SUMMARY:Beaufort
DESCRIPTION:
URL:https://lowcountryfoodbank.org/event/beaufort-92/
LOCATION:Healing Waters Mission and Wellness Center\, 22 St. Paul's Church Road\, Beaufort\, SC\, 29906
CATEGORIES:Fresh Xpress Produce Distribution
END:VEVENT
BEGIN:VEVENT
DTSTART;TZID=America/New_York:20260427T120000
DTEND;TZID=America/New_York:20260427T140000
DTSTAMP:20260421T201033
CREATED:20251230T162409Z
LAST-MODIFIED:20251230T162409Z
UID:10005652-1777291200-1777298400@lowcountryfoodbank.org
SUMMARY:Bluffton
DESCRIPTION:
URL:https://lowcountryfoodbank.org/event/bluffton-102/
LOCATION:The Church of The Cross Food Bank\, 15 Centre Drive\, Bluffton\, SC\, 29910
CATEGORIES:Fresh Xpress Produce Distribution
END:VEVENT
BEGIN:VEVENT
DTSTART;TZID=America/New_York:20260428T100000
DTEND;TZID=America/New_York:20260428T120000
DTSTAMP:20260421T201033
CREATED:20251230T162410Z
LAST-MODIFIED:20251230T162410Z
UID:10005653-1777370400-1777377600@lowcountryfoodbank.org
SUMMARY:Bluffton
DESCRIPTION:
URL:https://lowcountryfoodbank.org/event/bluffton-103/
LOCATION:Bluffton Self Help\, 39 Sheridan Park Circle\, Bluffton\, SC\, 29910\, United States
CATEGORIES:Fresh Xpress Produce Distribution
GEO:32.2630253;-80.8612596
X-APPLE-STRUCTURED-LOCATION;VALUE=URI;X-ADDRESS=Bluffton Self Help 39 Sheridan Park Circle Bluffton SC 29910 United States;X-APPLE-RADIUS=500;X-TITLE=39 Sheridan Park Circle:geo:-80.8612596,32.2630253
END:VEVENT
BEGIN:VEVENT
DTSTART;TZID=America/New_York:20260428T100000
DTEND;TZID=America/New_York:20260428T140000
DTSTAMP:20260421T201033
CREATED:20251230T162411Z
LAST-MODIFIED:20251230T162411Z
UID:10005654-1777370400-1777384800@lowcountryfoodbank.org
SUMMARY:Conway
DESCRIPTION:
URL:https://lowcountryfoodbank.org/event/conway-186/
LOCATION:Churches Assisting People\, 307 Wright Blvd.\, Conway\, SC\, 29526\, United States
CATEGORIES:Fresh Xpress Produce Distribution
GEO:33.8311637;-79.055987
X-APPLE-STRUCTURED-LOCATION;VALUE=URI;X-ADDRESS=Churches Assisting People 307 Wright Blvd. Conway SC 29526 United States;X-APPLE-RADIUS=500;X-TITLE=307 Wright Blvd.:geo:-79.055987,33.8311637
END:VEVENT
BEGIN:VEVENT
DTSTART;TZID=America/New_York:20260428T140000
DTEND;TZID=America/New_York:20260428T160000
DTSTAMP:20260421T201033
CREATED:20251230T162432Z
LAST-MODIFIED:20251230T162432Z
UID:10005655-1777384800-1777392000@lowcountryfoodbank.org
SUMMARY:Port Royal
DESCRIPTION:
URL:https://lowcountryfoodbank.org/event/port-royal-60/
LOCATION:HELP of Beaufort\, 1600 Ribaut Rd.\, Port Royal\, SC\, 29935\, United States
CATEGORIES:Fresh Xpress Produce Distribution
GEO:32.3841494;-80.6976386
X-APPLE-STRUCTURED-LOCATION;VALUE=URI;X-ADDRESS=HELP of Beaufort 1600 Ribaut Rd. Port Royal SC 29935 United States;X-APPLE-RADIUS=500;X-TITLE=1600 Ribaut Rd.:geo:-80.6976386,32.3841494
END:VEVENT
END:VCALENDAR