BEGIN:VCALENDAR
VERSION:2.0
PRODID:-//Lowcountry Food Bank - ECPv6.15.20//NONSGML v1.0//EN
CALSCALE:GREGORIAN
METHOD:PUBLISH
X-WR-CALNAME:Lowcountry Food Bank
X-ORIGINAL-URL:https://lowcountryfoodbank.org
X-WR-CALDESC:Events for Lowcountry Food Bank
REFRESH-INTERVAL;VALUE=DURATION:PT1H
X-Robots-Tag:noindex
X-PUBLISHED-TTL:PT1H
BEGIN:VTIMEZONE
TZID:America/New_York
BEGIN:DAYLIGHT
TZOFFSETFROM:-0500
TZOFFSETTO:-0400
TZNAME:EDT
DTSTART:20250309T070000
END:DAYLIGHT
BEGIN:STANDARD
TZOFFSETFROM:-0400
TZOFFSETTO:-0500
TZNAME:EST
DTSTART:20251102T060000
END:STANDARD
BEGIN:DAYLIGHT
TZOFFSETFROM:-0500
TZOFFSETTO:-0400
TZNAME:EDT
DTSTART:20260308T070000
END:DAYLIGHT
BEGIN:STANDARD
TZOFFSETFROM:-0400
TZOFFSETTO:-0500
TZNAME:EST
DTSTART:20261101T060000
END:STANDARD
BEGIN:DAYLIGHT
TZOFFSETFROM:-0500
TZOFFSETTO:-0400
TZNAME:EDT
DTSTART:20270314T070000
END:DAYLIGHT
BEGIN:STANDARD
TZOFFSETFROM:-0400
TZOFFSETTO:-0500
TZNAME:EST
DTSTART:20271107T060000
END:STANDARD
END:VTIMEZONE
BEGIN:VEVENT
DTSTART;TZID=America/New_York:20260224T100000
DTEND;TZID=America/New_York:20260224T120000
DTSTAMP:20260425T083231
CREATED:20251230T161710Z
LAST-MODIFIED:20251230T161710Z
UID:10005583-1771927200-1771934400@lowcountryfoodbank.org
SUMMARY:Bluffton
DESCRIPTION:
URL:https://lowcountryfoodbank.org/event/bluffton-97/
LOCATION:Bluffton Self Help\, 39 Sheridan Park Circle\, Bluffton\, SC\, 29910\, United States
CATEGORIES:Fresh Xpress Produce Distribution
GEO:32.2630253;-80.8612596
X-APPLE-STRUCTURED-LOCATION;VALUE=URI;X-ADDRESS=Bluffton Self Help 39 Sheridan Park Circle Bluffton SC 29910 United States;X-APPLE-RADIUS=500;X-TITLE=39 Sheridan Park Circle:geo:-80.8612596,32.2630253
END:VEVENT
BEGIN:VEVENT
DTSTART;TZID=America/New_York:20260224T100000
DTEND;TZID=America/New_York:20260224T140000
DTSTAMP:20260425T083231
CREATED:20251230T161711Z
LAST-MODIFIED:20251230T161711Z
UID:10005584-1771927200-1771941600@lowcountryfoodbank.org
SUMMARY:Conway
DESCRIPTION:
URL:https://lowcountryfoodbank.org/event/conway-180/
LOCATION:Churches Assisting People\, 307 Wright Blvd.\, Conway\, SC\, 29526\, United States
CATEGORIES:Fresh Xpress Produce Distribution
GEO:33.8311637;-79.055987
X-APPLE-STRUCTURED-LOCATION;VALUE=URI;X-ADDRESS=Churches Assisting People 307 Wright Blvd. Conway SC 29526 United States;X-APPLE-RADIUS=500;X-TITLE=307 Wright Blvd.:geo:-79.055987,33.8311637
END:VEVENT
BEGIN:VEVENT
DTSTART;TZID=America/New_York:20260224T140000
DTEND;TZID=America/New_York:20260224T160000
DTSTAMP:20260425T083231
CREATED:20251230T161732Z
LAST-MODIFIED:20251230T161732Z
UID:10005585-1771941600-1771948800@lowcountryfoodbank.org
SUMMARY:Port Royal
DESCRIPTION:
URL:https://lowcountryfoodbank.org/event/port-royal-56/
LOCATION:HELP of Beaufort\, 1600 Ribaut Rd.\, Port Royal\, SC\, 29935\, United States
CATEGORIES:Fresh Xpress Produce Distribution
GEO:32.3841494;-80.6976386
X-APPLE-STRUCTURED-LOCATION;VALUE=URI;X-ADDRESS=HELP of Beaufort 1600 Ribaut Rd. Port Royal SC 29935 United States;X-APPLE-RADIUS=500;X-TITLE=1600 Ribaut Rd.:geo:-80.6976386,32.3841494
END:VEVENT
BEGIN:VEVENT
DTSTART;TZID=America/New_York:20260225T073000
DTEND;TZID=America/New_York:20260225T090000
DTSTAMP:20260425T083231
CREATED:20260217T145233Z
LAST-MODIFIED:20260217T145233Z
UID:10006005-1772004600-1772010000@lowcountryfoodbank.org
SUMMARY:North Charleston
DESCRIPTION:
URL:https://lowcountryfoodbank.org/event/north-charleston-219/
LOCATION:Mary Ford Early Learning & Family Center\, 3180 Thomasina McPherson Blvd.\, North Charleston\, 29405\, United States
CATEGORIES:Client Choice Market,Fresh Xpress Produce Distribution
END:VEVENT
BEGIN:VEVENT
DTSTART;TZID=America/New_York:20260226T093000
DTEND;TZID=America/New_York:20260226T120000
DTSTAMP:20260425T083231
CREATED:20251230T161733Z
LAST-MODIFIED:20251230T161733Z
UID:10005586-1772098200-1772107200@lowcountryfoodbank.org
SUMMARY:Islandton
DESCRIPTION:
URL:https://lowcountryfoodbank.org/event/islandton-26/
LOCATION:Higher Ground Baptist Ministries\, 5548 Moselle Road\, Islandton\, SC\, 29929
CATEGORIES:Fresh Xpress Produce Distribution
END:VEVENT
BEGIN:VEVENT
DTSTART;TZID=America/New_York:20260228T090000
DTEND;TZID=America/New_York:20260228T103000
DTSTAMP:20260425T083232
CREATED:20251230T161734Z
LAST-MODIFIED:20251230T161734Z
UID:10005587-1772269200-1772274600@lowcountryfoodbank.org
SUMMARY:Pineville
DESCRIPTION:
URL:https://lowcountryfoodbank.org/event/pineville-27/
LOCATION:Redeemer RE Church\, 2173 Highway 45\, Pineville\, SC\, 29468\, United States
CATEGORIES:Fresh Xpress Produce Distribution
GEO:33.4283619;-80.0315294
X-APPLE-STRUCTURED-LOCATION;VALUE=URI;X-ADDRESS=Redeemer RE Church 2173 Highway 45 Pineville SC 29468 United States;X-APPLE-RADIUS=500;X-TITLE=2173 Highway 45:geo:-80.0315294,33.4283619
END:VEVENT
BEGIN:VEVENT
DTSTART;TZID=America/New_York:20260228T110000
DTEND;TZID=America/New_York:20260228T130000
DTSTAMP:20260425T083232
CREATED:20251230T161736Z
LAST-MODIFIED:20251230T161736Z
UID:10005588-1772276400-1772283600@lowcountryfoodbank.org
SUMMARY:Beaufort
DESCRIPTION:
URL:https://lowcountryfoodbank.org/event/beaufort-90/
LOCATION:Healing Waters Mission and Wellness Center\, 22 St. Paul's Church Road\, Beaufort\, SC\, 29906
CATEGORIES:Fresh Xpress Produce Distribution
END:VEVENT
BEGIN:VEVENT
DTSTART;TZID=America/New_York:20260303T120000
DTEND;TZID=America/New_York:20260303T140000
DTSTAMP:20260425T083232
CREATED:20251230T161737Z
LAST-MODIFIED:20251230T161737Z
UID:10005589-1772539200-1772546400@lowcountryfoodbank.org
SUMMARY:Conway
DESCRIPTION:
URL:https://lowcountryfoodbank.org/event/conway-181/
LOCATION:Catholic Charities of SC – Conway\, 1370 Bucksport Road\, Conway\, SC\, 29527
CATEGORIES:Fresh Xpress Produce Distribution
END:VEVENT
BEGIN:VEVENT
DTSTART;TZID=America/New_York:20260304T090000
DTEND;TZID=America/New_York:20260304T120000
DTSTAMP:20260425T083232
CREATED:20251230T161806Z
LAST-MODIFIED:20251230T161806Z
UID:10005591-1772614800-1772625600@lowcountryfoodbank.org
SUMMARY:Walterboro
DESCRIPTION:
URL:https://lowcountryfoodbank.org/event/walterboro-100/
LOCATION:Edgewood Baptist Church\, 138 Wildwood Drive\, Walterboro\, SC\, 29488
CATEGORIES:Fresh Xpress Produce Distribution
END:VEVENT
BEGIN:VEVENT
DTSTART;TZID=America/New_York:20260304T120000
DTEND;TZID=America/New_York:20260304T140000
DTSTAMP:20260425T083232
CREATED:20251230T161803Z
LAST-MODIFIED:20251230T161803Z
UID:10005590-1772625600-1772632800@lowcountryfoodbank.org
SUMMARY:Bluffton
DESCRIPTION:
URL:https://lowcountryfoodbank.org/event/bluffton-98/
LOCATION:Bluffton Self Help USCB\, 1 University Blvd\, Bluffton\, SC\, 29909
CATEGORIES:Fresh Xpress Produce Distribution
END:VEVENT
BEGIN:VEVENT
DTSTART;TZID=America/New_York:20260309T123000
DTEND;TZID=America/New_York:20260309T133000
DTSTAMP:20260425T083232
CREATED:20251230T161809Z
LAST-MODIFIED:20251230T161809Z
UID:10005592-1773059400-1773063000@lowcountryfoodbank.org
SUMMARY:Port Royal
DESCRIPTION:
URL:https://lowcountryfoodbank.org/event/port-royal-57/
LOCATION:Port Royal UMC – Second Helpings\, 1602 Columbia Ave\, Port Royal\, SC\, 29935
CATEGORIES:Fresh Xpress Produce Distribution
END:VEVENT
BEGIN:VEVENT
DTSTART;TZID=America/New_York:20260310T090000
DTEND;TZID=America/New_York:20260310T110000
DTSTAMP:20260425T083232
CREATED:20251230T161811Z
LAST-MODIFIED:20251230T161811Z
UID:10005593-1773133200-1773140400@lowcountryfoodbank.org
SUMMARY:Charleston
DESCRIPTION:
URL:https://lowcountryfoodbank.org/event/charleston-249/
LOCATION:Soldiers Angels\, 1113 Sam Rittenberg Blvd\, Charleston\, SC\, 29407
CATEGORIES:Fresh Xpress Produce Distribution
END:VEVENT
BEGIN:VEVENT
DTSTART;TZID=America/New_York:20260310T100000
DTEND;TZID=America/New_York:20260310T110000
DTSTAMP:20260425T083232
CREATED:20251230T161832Z
LAST-MODIFIED:20251230T161832Z
UID:10005595-1773136800-1773140400@lowcountryfoodbank.org
SUMMARY:Hampton
DESCRIPTION:
URL:https://lowcountryfoodbank.org/event/hampton-40/
LOCATION:Greater Cherry Grove Food Pantry\, 80 Cherry Grove Road\, Hampton\, SC\, 29924
CATEGORIES:Fresh Xpress Produce Distribution
END:VEVENT
BEGIN:VEVENT
DTSTART;TZID=America/New_York:20260310T120000
DTEND;TZID=America/New_York:20260310T150000
DTSTAMP:20260425T083232
CREATED:20251230T161812Z
LAST-MODIFIED:20251230T161812Z
UID:10005594-1773144000-1773154800@lowcountryfoodbank.org
SUMMARY:Hardeeville
DESCRIPTION:
URL:https://lowcountryfoodbank.org/event/hardeeville-44/
LOCATION:Catholic Charities / Mercy Mission\, 19869 Whyte Hardee Blvd\, Hardeeville\, SC\, 29927
CATEGORIES:Fresh Xpress Produce Distribution
END:VEVENT
BEGIN:VEVENT
DTSTART;TZID=America/New_York:20260311T073000
DTEND;TZID=America/New_York:20260311T090000
DTSTAMP:20260425T083232
CREATED:20260217T145520Z
LAST-MODIFIED:20260217T145520Z
UID:10006006-1773214200-1773219600@lowcountryfoodbank.org
SUMMARY:North Charleston
DESCRIPTION:
URL:https://lowcountryfoodbank.org/event/north-charleston-220/
LOCATION:Mary Ford Early Learning & Family Center\, 3180 Thomasina McPherson Blvd.\, North Charleston\, 29405\, United States
CATEGORIES:Client Choice Market,Fresh Xpress Produce Distribution
END:VEVENT
BEGIN:VEVENT
DTSTART;TZID=America/New_York:20260313T110000
DTEND;TZID=America/New_York:20260313T120000
DTSTAMP:20260425T083232
CREATED:20251230T161833Z
LAST-MODIFIED:20251230T161833Z
UID:10005596-1773399600-1773403200@lowcountryfoodbank.org
SUMMARY:Hampton
DESCRIPTION:
URL:https://lowcountryfoodbank.org/event/hampton-41/
LOCATION:Hampton United Methodist Church\, 202 Mulberry Street\, Hampton\, SC\, 29924
CATEGORIES:Fresh Xpress Produce Distribution
END:VEVENT
BEGIN:VEVENT
DTSTART;TZID=America/New_York:20260314T090000
DTEND;TZID=America/New_York:20260314T110000
DTSTAMP:20260425T083232
CREATED:20251230T161836Z
LAST-MODIFIED:20251230T161836Z
UID:10005598-1773478800-1773486000@lowcountryfoodbank.org
SUMMARY:Summerville
DESCRIPTION:
URL:https://lowcountryfoodbank.org/event/summerville-78/
LOCATION:Cathedral Impact Center\, 3790 Ashley Phosphate Rd\, North Charleston\, SC\, 29418\, United States
CATEGORIES:Fresh Xpress Produce Distribution
END:VEVENT
BEGIN:VEVENT
DTSTART;TZID=America/New_York:20260314T090000
DTEND;TZID=America/New_York:20260314T110000
DTSTAMP:20260425T083232
CREATED:20251230T161837Z
LAST-MODIFIED:20251230T161837Z
UID:10005599-1773478800-1773486000@lowcountryfoodbank.org
SUMMARY:Andrews
DESCRIPTION:
URL:https://lowcountryfoodbank.org/event/andrews-37/
LOCATION:Ebenezer Missionary Baptist Church\, 1207 Martin Luther King Dr\, Andrews\, SC\, 29440\, United States
CATEGORIES:Fresh Xpress Produce Distribution
GEO:33.4508996;-79.5718712
X-APPLE-STRUCTURED-LOCATION;VALUE=URI;X-ADDRESS=Ebenezer Missionary Baptist Church 1207 Martin Luther King Dr Andrews SC 29440 United States;X-APPLE-RADIUS=500;X-TITLE=1207 Martin Luther King Dr:geo:-79.5718712,33.4508996
END:VEVENT
BEGIN:VEVENT
DTSTART;TZID=America/New_York:20260314T093000
DTEND;TZID=America/New_York:20260314T120000
DTSTAMP:20260425T083232
CREATED:20251230T161834Z
LAST-MODIFIED:20251230T161834Z
UID:10005597-1773480600-1773489600@lowcountryfoodbank.org
SUMMARY:Charleston
DESCRIPTION:
URL:https://lowcountryfoodbank.org/event/charleston-250/
LOCATION:Bethel United Methodist Church\, 57 Pitt Street\, Charleston\, SC\, 29401\, United States
CATEGORIES:Fresh Xpress Produce Distribution
GEO:32.783947;-79.9410624
X-APPLE-STRUCTURED-LOCATION;VALUE=URI;X-ADDRESS=Bethel United Methodist Church 57 Pitt Street Charleston SC 29401 United States;X-APPLE-RADIUS=500;X-TITLE=57 Pitt Street:geo:-79.9410624,32.783947
END:VEVENT
BEGIN:VEVENT
DTSTART;TZID=America/New_York:20260314T093000
DTEND;TZID=America/New_York:20260314T120000
DTSTAMP:20260425T083232
CREATED:20251230T161905Z
LAST-MODIFIED:20251230T161905Z
UID:10005601-1773480600-1773489600@lowcountryfoodbank.org
SUMMARY:Ridgeland
DESCRIPTION:
URL:https://lowcountryfoodbank.org/event/ridgeland-39/
LOCATION:Jasper County Hunger Free Zone\, 506 Grays Hwy\, Ridgeland\, SC\, 29936\, United States
CATEGORIES:Fresh Xpress Produce Distribution
GEO:32.5880355;-80.9493706
X-APPLE-STRUCTURED-LOCATION;VALUE=URI;X-ADDRESS=Jasper County Hunger Free Zone 506 Grays Hwy Ridgeland SC 29936 United States;X-APPLE-RADIUS=500;X-TITLE=506 Grays Hwy:geo:-80.9493706,32.5880355
END:VEVENT
BEGIN:VEVENT
DTSTART;TZID=America/New_York:20260314T120000
DTEND;TZID=America/New_York:20260314T140000
DTSTAMP:20260425T083232
CREATED:20251230T161902Z
LAST-MODIFIED:20251230T161902Z
UID:10005600-1773489600-1773496800@lowcountryfoodbank.org
SUMMARY:Hemingway
DESCRIPTION:
URL:https://lowcountryfoodbank.org/event/hemingway-32/
LOCATION:Greater St. Mark AME Church\, 1297 Old Georgetown Rd\, Hemingway\, SC\, 29554
CATEGORIES:Fresh Xpress Produce Distribution
END:VEVENT
BEGIN:VEVENT
DTSTART;TZID=America/New_York:20260317T090000
DTEND;TZID=America/New_York:20260317T120000
DTSTAMP:20260425T083232
CREATED:20251230T161908Z
LAST-MODIFIED:20251230T161908Z
UID:10005602-1773738000-1773748800@lowcountryfoodbank.org
SUMMARY:Charleston
DESCRIPTION:
URL:https://lowcountryfoodbank.org/event/charleston-251/
LOCATION:Tricounty Veterans Support Network\, 109 Bee Street\, Charleston\, SC\, 29401
CATEGORIES:Fresh Xpress Produce Distribution
END:VEVENT
BEGIN:VEVENT
DTSTART;TZID=America/New_York:20260317T093000
DTEND;TZID=America/New_York:20260317T123000
DTSTAMP:20260425T083232
CREATED:20251230T161910Z
LAST-MODIFIED:20251230T161910Z
UID:10005604-1773739800-1773750600@lowcountryfoodbank.org
SUMMARY:Walterboro
DESCRIPTION:
URL:https://lowcountryfoodbank.org/event/walterboro-101/
LOCATION:Mt. Olive Baptist Walterboro\, 329 Savage Street\, Walterboro\, SC\, 29488
CATEGORIES:Fresh Xpress Produce Distribution
END:VEVENT
BEGIN:VEVENT
DTSTART;TZID=America/New_York:20260317T100000
DTEND;TZID=America/New_York:20260317T110000
DTSTAMP:20260425T083232
CREATED:20251230T161932Z
LAST-MODIFIED:20251230T161932Z
UID:10005605-1773741600-1773745200@lowcountryfoodbank.org
SUMMARY:Hilton Head Island
DESCRIPTION:
URL:https://lowcountryfoodbank.org/event/hilton-head-island-3/
LOCATION:St. Andrew By-The-Sea – Second Helpings\, 20 Pope Ave\, Hilton Head Island\, SC\, 29928
CATEGORIES:Fresh Xpress Produce Distribution
END:VEVENT
BEGIN:VEVENT
DTSTART;TZID=America/New_York:20260317T120000
DTEND;TZID=America/New_York:20260317T140000
DTSTAMP:20260425T083232
CREATED:20251230T161909Z
LAST-MODIFIED:20251230T161909Z
UID:10005603-1773748800-1773756000@lowcountryfoodbank.org
SUMMARY:Georgetown
DESCRIPTION:
URL:https://lowcountryfoodbank.org/event/georgetown-24/
LOCATION:Catholic Charities of SC – Georgetown\, 1905 Front Street\, Georgetown\, SC\, 29440
CATEGORIES:Fresh Xpress Produce Distribution
END:VEVENT
BEGIN:VEVENT
DTSTART;TZID=America/New_York:20260318T090000
DTEND;TZID=America/New_York:20260318T120000
DTSTAMP:20260425T083232
CREATED:20251230T161935Z
LAST-MODIFIED:20251230T161935Z
UID:10005607-1773824400-1773835200@lowcountryfoodbank.org
SUMMARY:Mt. Pleasant
DESCRIPTION:
URL:https://lowcountryfoodbank.org/event/mt-pleasant-28/
LOCATION:East Cooper Community Outreach\, 1145 Six Mile Rd\, Mt. Pleasant\, SC\, 29466\, United States
CATEGORIES:Fresh Xpress Produce Distribution
GEO:32.8399487;-79.8157781
X-APPLE-STRUCTURED-LOCATION;VALUE=URI;X-ADDRESS=East Cooper Community Outreach 1145 Six Mile Rd Mt. Pleasant SC 29466 United States;X-APPLE-RADIUS=500;X-TITLE=1145 Six Mile Rd:geo:-79.8157781,32.8399487
END:VEVENT
BEGIN:VEVENT
DTSTART;TZID=America/New_York:20260318T103000
DTEND;TZID=America/New_York:20260318T120000
DTSTAMP:20260425T083232
CREATED:20251230T161933Z
LAST-MODIFIED:20251230T161933Z
UID:10005606-1773829800-1773835200@lowcountryfoodbank.org
SUMMARY:St. George
DESCRIPTION:
URL:https://lowcountryfoodbank.org/event/st-george-117/
LOCATION:Bethel Outreach Minsitries\, 5585 Memorial Blvd.\, St. George\, SC\, 29477
CATEGORIES:Fresh Xpress Produce Distribution
END:VEVENT
BEGIN:VEVENT
DTSTART;TZID=America/New_York:20260318T143000
DTEND;TZID=America/New_York:20260318T170000
DTSTAMP:20260425T083232
CREATED:20251230T161935Z
LAST-MODIFIED:20251230T161935Z
UID:10005608-1773844200-1773853200@lowcountryfoodbank.org
SUMMARY:Yemassee
DESCRIPTION:
URL:https://lowcountryfoodbank.org/event/yemassee-20/
LOCATION:Mt. Nebo Baptist Church II\, 22 Jonesville Ave\, Yemassee\, SC\, 29945
CATEGORIES:Fresh Xpress Produce Distribution
END:VEVENT
BEGIN:VEVENT
DTSTART;TZID=America/New_York:20260319T130000
DTEND;TZID=America/New_York:20260319T170000
DTSTAMP:20260425T083232
CREATED:20251230T161937Z
LAST-MODIFIED:20251230T161937Z
UID:10005609-1773925200-1773939600@lowcountryfoodbank.org
SUMMARY:Edisto Island
DESCRIPTION:
URL:https://lowcountryfoodbank.org/event/edisto-island-55/
LOCATION:The Presbyterian Church on Edisto\, 2164 Hwy 174\, Edisto Island\, SC\, 29438
CATEGORIES:Fresh Xpress Produce Distribution
END:VEVENT
BEGIN:VEVENT
DTSTART;TZID=America/New_York:20260320T143000
DTEND;TZID=America/New_York:20260320T163000
DTSTAMP:20260425T083232
CREATED:20251230T162002Z
LAST-MODIFIED:20251230T162002Z
UID:10005610-1774017000-1774024200@lowcountryfoodbank.org
SUMMARY:Murrells Inlet
DESCRIPTION:
URL:https://lowcountryfoodbank.org/event/murrells-inlet-54/
LOCATION:Inlet Food Pantry\, 4581 Old River Road\, Murrells Inlet\, SC\, 29576\, United States
CATEGORIES:Fresh Xpress Produce Distribution
GEO:33.5459662;-79.0767305
X-APPLE-STRUCTURED-LOCATION;VALUE=URI;X-ADDRESS=Inlet Food Pantry 4581 Old River Road Murrells Inlet SC 29576 United States;X-APPLE-RADIUS=500;X-TITLE=4581 Old River Road:geo:-79.0767305,33.5459662
END:VEVENT
END:VCALENDAR