BEGIN:VCALENDAR
VERSION:2.0
PRODID:-//Lowcountry Food Bank - ECPv6.15.20//NONSGML v1.0//EN
CALSCALE:GREGORIAN
METHOD:PUBLISH
X-WR-CALNAME:Lowcountry Food Bank
X-ORIGINAL-URL:https://lowcountryfoodbank.org
X-WR-CALDESC:Events for Lowcountry Food Bank
REFRESH-INTERVAL;VALUE=DURATION:PT1H
X-Robots-Tag:noindex
X-PUBLISHED-TTL:PT1H
BEGIN:VTIMEZONE
TZID:America/New_York
BEGIN:DAYLIGHT
TZOFFSETFROM:-0500
TZOFFSETTO:-0400
TZNAME:EDT
DTSTART:20200308T070000
END:DAYLIGHT
BEGIN:STANDARD
TZOFFSETFROM:-0400
TZOFFSETTO:-0500
TZNAME:EST
DTSTART:20201101T060000
END:STANDARD
BEGIN:DAYLIGHT
TZOFFSETFROM:-0500
TZOFFSETTO:-0400
TZNAME:EDT
DTSTART:20210314T070000
END:DAYLIGHT
BEGIN:STANDARD
TZOFFSETFROM:-0400
TZOFFSETTO:-0500
TZNAME:EST
DTSTART:20211107T060000
END:STANDARD
BEGIN:DAYLIGHT
TZOFFSETFROM:-0500
TZOFFSETTO:-0400
TZNAME:EDT
DTSTART:20220313T070000
END:DAYLIGHT
BEGIN:STANDARD
TZOFFSETFROM:-0400
TZOFFSETTO:-0500
TZNAME:EST
DTSTART:20221106T060000
END:STANDARD
END:VTIMEZONE
BEGIN:VEVENT
DTSTART;TZID=America/New_York:20211110T100000
DTEND;TZID=America/New_York:20211110T100000
DTSTAMP:20260419T140053
CREATED:20211109T182109Z
LAST-MODIFIED:20211109T182109Z
UID:10002812-1636538400-1636538400@lowcountryfoodbank.org
SUMMARY:Conway
DESCRIPTION:
URL:https://lowcountryfoodbank.org/event/conway-7/
LOCATION:Aimwell Presbyterian Church\, 8925 Charleston Hwy.\, Walterboro\, SC\, 29474\, United States
CATEGORIES:Mobile Pantry
GEO:33.9084355;-78.9360724
X-APPLE-STRUCTURED-LOCATION;VALUE=URI;X-ADDRESS=Aimwell Presbyterian Church 8925 Charleston Hwy. Walterboro SC 29474 United States;X-APPLE-RADIUS=500;X-TITLE=8925 Charleston Hwy.:geo:-78.9360724,33.9084355
END:VEVENT
END:VCALENDAR