BEGIN:VCALENDAR
VERSION:2.0
PRODID:-//Lowcountry Food Bank - ECPv6.15.20//NONSGML v1.0//EN
CALSCALE:GREGORIAN
METHOD:PUBLISH
X-ORIGINAL-URL:https://lowcountryfoodbank.org
X-WR-CALDESC:Events for Lowcountry Food Bank
REFRESH-INTERVAL;VALUE=DURATION:PT1H
X-Robots-Tag:noindex
X-PUBLISHED-TTL:PT1H
BEGIN:VTIMEZONE
TZID:America/New_York
BEGIN:DAYLIGHT
TZOFFSETFROM:-0500
TZOFFSETTO:-0400
TZNAME:EDT
DTSTART:20240310T070000
END:DAYLIGHT
BEGIN:STANDARD
TZOFFSETFROM:-0400
TZOFFSETTO:-0500
TZNAME:EST
DTSTART:20241103T060000
END:STANDARD
BEGIN:DAYLIGHT
TZOFFSETFROM:-0500
TZOFFSETTO:-0400
TZNAME:EDT
DTSTART:20250309T070000
END:DAYLIGHT
BEGIN:STANDARD
TZOFFSETFROM:-0400
TZOFFSETTO:-0500
TZNAME:EST
DTSTART:20251102T060000
END:STANDARD
BEGIN:DAYLIGHT
TZOFFSETFROM:-0500
TZOFFSETTO:-0400
TZNAME:EDT
DTSTART:20260308T070000
END:DAYLIGHT
BEGIN:STANDARD
TZOFFSETFROM:-0400
TZOFFSETTO:-0500
TZNAME:EST
DTSTART:20261101T060000
END:STANDARD
END:VTIMEZONE
BEGIN:VEVENT
DTSTART;TZID=America/New_York:20250425T090000
DTEND;TZID=America/New_York:20250425T110000
DTSTAMP:20260423T005550
CREATED:20250414T172821Z
LAST-MODIFIED:20250414T172950Z
UID:10005373-1745571600-1745578800@lowcountryfoodbank.org
SUMMARY:Cottageville
DESCRIPTION:Early Food Distribution Times:\n9 AM to 11 AM\n\nJoin Us!\nOpen To All\nNo Charge
URL:https://lowcountryfoodbank.org/event/cottageville-9/
LOCATION:Cottageville Elementary School\, 648 Peirce Road\, Cottageville\, SC\, 29435\, United States
CATEGORIES:Mobile Pantry
GEO:32.9414388;-80.4724554
X-APPLE-STRUCTURED-LOCATION;VALUE=URI;X-ADDRESS=Cottageville Elementary School 648 Peirce Road Cottageville SC 29435 United States;X-APPLE-RADIUS=500;X-TITLE=648 Peirce Road:geo:-80.4724554,32.9414388
END:VEVENT
END:VCALENDAR