BEGIN:VCALENDAR
VERSION:2.0
PRODID:-//Lowcountry Food Bank - ECPv6.15.20//NONSGML v1.0//EN
CALSCALE:GREGORIAN
METHOD:PUBLISH
X-ORIGINAL-URL:https://lowcountryfoodbank.org
X-WR-CALDESC:Events for Lowcountry Food Bank
REFRESH-INTERVAL;VALUE=DURATION:PT1H
X-Robots-Tag:noindex
X-PUBLISHED-TTL:PT1H
BEGIN:VTIMEZONE
TZID:America/New_York
BEGIN:DAYLIGHT
TZOFFSETFROM:-0500
TZOFFSETTO:-0400
TZNAME:EDT
DTSTART:20220313T070000
END:DAYLIGHT
BEGIN:STANDARD
TZOFFSETFROM:-0400
TZOFFSETTO:-0500
TZNAME:EST
DTSTART:20221106T060000
END:STANDARD
BEGIN:DAYLIGHT
TZOFFSETFROM:-0500
TZOFFSETTO:-0400
TZNAME:EDT
DTSTART:20230312T070000
END:DAYLIGHT
BEGIN:STANDARD
TZOFFSETFROM:-0400
TZOFFSETTO:-0500
TZNAME:EST
DTSTART:20231105T060000
END:STANDARD
BEGIN:DAYLIGHT
TZOFFSETFROM:-0500
TZOFFSETTO:-0400
TZNAME:EDT
DTSTART:20240310T070000
END:DAYLIGHT
BEGIN:STANDARD
TZOFFSETFROM:-0400
TZOFFSETTO:-0500
TZNAME:EST
DTSTART:20241103T060000
END:STANDARD
END:VTIMEZONE
BEGIN:VEVENT
DTSTART;TZID=America/New_York:20231013T100000
DTEND;TZID=America/New_York:20231013T120000
DTSTAMP:20260423T024454
CREATED:20231003T154008Z
LAST-MODIFIED:20231003T154008Z
UID:10004195-1697191200-1697198400@lowcountryfoodbank.org
SUMMARY:Beaufort
DESCRIPTION:
URL:https://lowcountryfoodbank.org/event/beaufort-46/
LOCATION:St. Helena Elementary School\, 1025 Sea Island Pkwy\, St. Helena Island\, SC\, 29920
CATEGORIES:Mobile Pantry
GEO:32.401551;-80.5636888
X-APPLE-STRUCTURED-LOCATION;VALUE=URI;X-ADDRESS=St. Helena Elementary School 1025 Sea Island Pkwy St. Helena Island SC 29920;X-APPLE-RADIUS=500;X-TITLE=1025 Sea Island Pkwy:geo:-80.5636888,32.401551
END:VEVENT
BEGIN:VEVENT
DTSTART;TZID=America/New_York:20231014T100000
DTEND;TZID=America/New_York:20231014T120000
DTSTAMP:20260423T024454
CREATED:20230915T132614Z
LAST-MODIFIED:20230915T132614Z
UID:10004182-1697277600-1697284800@lowcountryfoodbank.org
SUMMARY:Myrtle Beach
DESCRIPTION:
URL:https://lowcountryfoodbank.org/event/myrtle-beach-37/
LOCATION:Derrick Law Firm\, 3023 Church St\, Myrtle Beach\, SC\, 29577\, United States
CATEGORIES:Mobile Pantry
END:VEVENT
BEGIN:VEVENT
DTSTART;TZID=America/New_York:20231020T100000
DTEND;TZID=America/New_York:20231020T120000
DTSTAMP:20260423T024454
CREATED:20221219T183833Z
LAST-MODIFIED:20221219T183833Z
UID:10003508-1697796000-1697803200@lowcountryfoodbank.org
SUMMARY:Conway
DESCRIPTION:
URL:https://lowcountryfoodbank.org/event/conway-62/
LOCATION:Conway Recreation Center\, 1519 Mill Pond Road\, Conway\, SC\, 29527\, United States
CATEGORIES:Mobile Pantry
GEO:33.8438465;-79.0691839
X-APPLE-STRUCTURED-LOCATION;VALUE=URI;X-ADDRESS=Conway Recreation Center 1519 Mill Pond Road Conway SC 29527 United States;X-APPLE-RADIUS=500;X-TITLE=1519 Mill Pond Road:geo:-79.0691839,33.8438465
END:VEVENT
BEGIN:VEVENT
DTSTART;TZID=America/New_York:20231021T140000
DTEND;TZID=America/New_York:20231021T170000
DTSTAMP:20260423T024454
CREATED:20231006T123034Z
LAST-MODIFIED:20231006T123034Z
UID:10004197-1697896800-1697907600@lowcountryfoodbank.org
SUMMARY:Myrtle Beach
DESCRIPTION:
URL:https://lowcountryfoodbank.org/event/myrtle-beach-34/
LOCATION:Sandy Grove Missionary Baptist Church\, 1008 Carver St\, Myrtle Beach\, SC\, 29577\, United States
CATEGORIES:Mobile Pantry
END:VEVENT
BEGIN:VEVENT
DTSTART;TZID=America/New_York:20231025T080000
DTEND;TZID=America/New_York:20231025T170000
DTSTAMP:20260423T024454
CREATED:20231025T143841Z
LAST-MODIFIED:20231025T144247Z
UID:10004213-1698220800-1698253200@lowcountryfoodbank.org
SUMMARY:North Charleston
DESCRIPTION:The Naval Weapons Station/Military Families \nThe U.S. Department of Veterans Affairs-North Charleston Outpatient Clinic\npartner with the Lowcountry Food Bank \nto bring you a \nHoliday Food Distribution\nSaturday\, November 18\, 2023\n6450 Rivers Avenue\nNorth Charleston\, SC 29406\n  \n10:00 AM to 12 Noon\, until quantities last\nThis is a No Cost/Open to All Event\n 
URL:https://lowcountryfoodbank.org/event/north-charleston-107/
LOCATION:U.S. Department of Veterans Affairs-North Charleston Outpatient Clinic\, 6450 Rivers Avenue\, North Charleston\, SC\, 29406\, United States
CATEGORIES:Mobile Pantry
END:VEVENT
BEGIN:VEVENT
DTSTART;TZID=America/New_York:20231028T090000
DTEND;TZID=America/New_York:20231028T110000
DTSTAMP:20260423T024454
CREATED:20231006T185441Z
LAST-MODIFIED:20231006T185441Z
UID:10004200-1698483600-1698490800@lowcountryfoodbank.org
SUMMARY:Loris
DESCRIPTION:
URL:https://lowcountryfoodbank.org/event/loris-40/
LOCATION:Safe Hands\, 3421 Casey St\, Loris\, SC\, 29569\, United States
CATEGORIES:Mobile Pantry
END:VEVENT
BEGIN:VEVENT
DTSTART;TZID=America/New_York:20231028T100000
DTEND;TZID=America/New_York:20231028T120000
DTSTAMP:20260423T024454
CREATED:20230823T132647Z
LAST-MODIFIED:20230823T132647Z
UID:10004171-1698487200-1698494400@lowcountryfoodbank.org
SUMMARY:Myrtle Beach
DESCRIPTION:
URL:https://lowcountryfoodbank.org/event/myrtle-beach-31/
LOCATION:Myrtle Beach Elementary School\, 950 Seahawk Way\, Myrtle Beach\, SC\, 29577\, United States
CATEGORIES:Mobile Pantry
GEO:33.7189574;-78.8646274
X-APPLE-STRUCTURED-LOCATION;VALUE=URI;X-ADDRESS=Myrtle Beach Elementary School 950 Seahawk Way Myrtle Beach SC 29577 United States;X-APPLE-RADIUS=500;X-TITLE=950 Seahawk Way:geo:-78.8646274,33.7189574
END:VEVENT
BEGIN:VEVENT
DTSTART;TZID=America/New_York:20231104T090000
DTEND;TZID=America/New_York:20231104T110000
DTSTAMP:20260423T024454
CREATED:20231020T122834Z
LAST-MODIFIED:20231020T122848Z
UID:10004205-1699088400-1699095600@lowcountryfoodbank.org
SUMMARY:Johns Island
DESCRIPTION:
URL:https://lowcountryfoodbank.org/event/johns-island-4/
LOCATION:Haut Gap Middle School\, 1861 Bohicket Road\, Johns Island\, SC\, 29445\, United States
CATEGORIES:Mobile Pantry
GEO:32.7195442;-80.0780713
X-APPLE-STRUCTURED-LOCATION;VALUE=URI;X-ADDRESS=Haut Gap Middle School 1861 Bohicket Road Johns Island SC 29445 United States;X-APPLE-RADIUS=500;X-TITLE=1861 Bohicket Road:geo:-80.0780713,32.7195442
END:VEVENT
BEGIN:VEVENT
DTSTART;TZID=America/New_York:20231104T100000
DTEND;TZID=America/New_York:20231104T120000
DTSTAMP:20260423T024454
CREATED:20221219T182759Z
LAST-MODIFIED:20221219T182759Z
UID:10003497-1699092000-1699099200@lowcountryfoodbank.org
SUMMARY:Loris
DESCRIPTION:
URL:https://lowcountryfoodbank.org/event/loris-35/
LOCATION:Loris Middle School\, 5209 Highway 66\, Loris\, SC\, 29569\, United States
CATEGORIES:Mobile Pantry
GEO:34.0290844;-78.8544546
X-APPLE-STRUCTURED-LOCATION;VALUE=URI;X-ADDRESS=Loris Middle School 5209 Highway 66 Loris SC 29569 United States;X-APPLE-RADIUS=500;X-TITLE=5209 Highway 66:geo:-78.8544546,34.0290844
END:VEVENT
BEGIN:VEVENT
DTSTART;TZID=America/New_York:20231104T120000
DTEND;TZID=America/New_York:20231104T140000
DTSTAMP:20260423T024454
CREATED:20231020T123251Z
LAST-MODIFIED:20231027T142749Z
UID:10004206-1699099200-1699106400@lowcountryfoodbank.org
SUMMARY:Varnville
DESCRIPTION:
URL:https://lowcountryfoodbank.org/event/varnville-3/
LOCATION:North District Middle School\, 507 Tillman Road\, Varnville\, SC\, 29944\, United States
CATEGORIES:Mobile Pantry
GEO:32.860294;-81.091332
X-APPLE-STRUCTURED-LOCATION;VALUE=URI;X-ADDRESS=North District Middle School 507 Tillman Road Varnville SC 29944 United States;X-APPLE-RADIUS=500;X-TITLE=507 Tillman Road:geo:-81.091332,32.860294
END:VEVENT
BEGIN:VEVENT
DTSTART;TZID=America/New_York:20231109T100000
DTEND;TZID=America/New_York:20231109T120000
DTSTAMP:20260423T024454
CREATED:20230915T134136Z
LAST-MODIFIED:20230915T134136Z
UID:10004184-1699524000-1699531200@lowcountryfoodbank.org
SUMMARY:Aynor
DESCRIPTION:
URL:https://lowcountryfoodbank.org/event/aynor-4/
LOCATION:Aynor Senior Citizens Center\, 845 North Main Street\, Aynor\, SC\, 29511\, United States
CATEGORIES:Mobile Pantry
END:VEVENT
BEGIN:VEVENT
DTSTART;TZID=America/New_York:20231111T100000
DTEND;TZID=America/New_York:20231111T120000
DTSTAMP:20260423T024454
CREATED:20230823T132745Z
LAST-MODIFIED:20230823T132745Z
UID:10004172-1699696800-1699704000@lowcountryfoodbank.org
SUMMARY:Myrtle Beach
DESCRIPTION:
URL:https://lowcountryfoodbank.org/event/myrtle-beach-32/
LOCATION:Myrtle Beach Elementary School\, 950 Seahawk Way\, Myrtle Beach\, SC\, 29577\, United States
CATEGORIES:Mobile Pantry
GEO:33.7189574;-78.8646274
X-APPLE-STRUCTURED-LOCATION;VALUE=URI;X-ADDRESS=Myrtle Beach Elementary School 950 Seahawk Way Myrtle Beach SC 29577 United States;X-APPLE-RADIUS=500;X-TITLE=950 Seahawk Way:geo:-78.8646274,33.7189574
END:VEVENT
BEGIN:VEVENT
DTSTART;TZID=America/New_York:20231111T100000
DTEND;TZID=America/New_York:20231111T120000
DTSTAMP:20260423T024454
CREATED:20230915T131951Z
LAST-MODIFIED:20230915T131951Z
UID:10004180-1699696800-1699704000@lowcountryfoodbank.org
SUMMARY:Myrtle Beach
DESCRIPTION:
URL:https://lowcountryfoodbank.org/event/myrtle-beach-35/
LOCATION:Derrick Law Firm\, 3023 Church St\, Myrtle Beach\, SC\, 29577\, United States
CATEGORIES:Mobile Pantry
END:VEVENT
BEGIN:VEVENT
DTSTART;TZID=America/New_York:20231114T090000
DTEND;TZID=America/New_York:20231114T110000
DTSTAMP:20260423T024454
CREATED:20231025T142213Z
LAST-MODIFIED:20231025T142327Z
UID:10004212-1699952400-1699959600@lowcountryfoodbank.org
SUMMARY:Round O
DESCRIPTION:
URL:https://lowcountryfoodbank.org/event/round-o-26/
LOCATION:Neyles Community Center\, 445 Featherbed Road\, Round O\, SC\, 29474\, United States
CATEGORIES:Mobile Pantry
GEO:32.8314782;-80.5595693
X-APPLE-STRUCTURED-LOCATION;VALUE=URI;X-ADDRESS=Neyles Community Center 445 Featherbed Road Round O SC 29474 United States;X-APPLE-RADIUS=500;X-TITLE=445 Featherbed Road:geo:-80.5595693,32.8314782
END:VEVENT
BEGIN:VEVENT
DTSTART;TZID=America/New_York:20231114T100000
DTEND;TZID=America/New_York:20231114T120000
DTSTAMP:20260423T024454
CREATED:20231020T124921Z
LAST-MODIFIED:20231020T124921Z
UID:10004209-1699956000-1699963200@lowcountryfoodbank.org
SUMMARY:Cross
DESCRIPTION:
URL:https://lowcountryfoodbank.org/event/cross-5/
LOCATION:Cross-Old Highway 6\, 1682 Old Highway 6 (Former Piggly Wiggly)\, Cross\, SC\, 29436\, United States
CATEGORIES:Mobile Pantry
END:VEVENT
BEGIN:VEVENT
DTSTART;TZID=America/New_York:20231117T100000
DTEND;TZID=America/New_York:20231117T120000
DTSTAMP:20260423T024454
CREATED:20221219T183904Z
LAST-MODIFIED:20221219T183904Z
UID:10003509-1700215200-1700222400@lowcountryfoodbank.org
SUMMARY:Conway
DESCRIPTION:
URL:https://lowcountryfoodbank.org/event/conway-63/
LOCATION:Conway Recreation Center\, 1519 Mill Pond Road\, Conway\, SC\, 29527\, United States
CATEGORIES:Mobile Pantry
GEO:33.8438465;-79.0691839
X-APPLE-STRUCTURED-LOCATION;VALUE=URI;X-ADDRESS=Conway Recreation Center 1519 Mill Pond Road Conway SC 29527 United States;X-APPLE-RADIUS=500;X-TITLE=1519 Mill Pond Road:geo:-79.0691839,33.8438465
END:VEVENT
BEGIN:VEVENT
DTSTART;TZID=America/New_York:20231118T090000
DTEND;TZID=America/New_York:20231118T110000
DTSTAMP:20260423T024454
CREATED:20231006T185304Z
LAST-MODIFIED:20231006T185304Z
UID:10004199-1700298000-1700305200@lowcountryfoodbank.org
SUMMARY:Longs
DESCRIPTION:
URL:https://lowcountryfoodbank.org/event/longs-2/
LOCATION:Fremont Missionary Baptist Church\, 541 Fremont Rd\, Longs\, SC\, 29568\, United States
CATEGORIES:Mobile Pantry
END:VEVENT
BEGIN:VEVENT
DTSTART;TZID=America/New_York:20231118T100000
DTEND;TZID=America/New_York:20231118T120000
DTSTAMP:20260423T024454
CREATED:20231025T144420Z
LAST-MODIFIED:20231030T121723Z
UID:10004214-1700301600-1700308800@lowcountryfoodbank.org
SUMMARY:Walterboro
DESCRIPTION:
URL:https://lowcountryfoodbank.org/event/walterboro-54/
LOCATION:Colleton County Recreation Center\, 280 Recreation Lane\, Walterboro\, SC\, 29488\, United States
CATEGORIES:Mobile Pantry
END:VEVENT
BEGIN:VEVENT
DTSTART;TZID=America/New_York:20231118T110000
DTEND;TZID=America/New_York:20231118T130000
DTSTAMP:20260423T024454
CREATED:20231102T143203Z
LAST-MODIFIED:20231107T132340Z
UID:10004217-1700305200-1700312400@lowcountryfoodbank.org
SUMMARY:North Charleston
DESCRIPTION:This Lowcountry Food Bank Food Distribution \nis Open To The Public\n at No Cost\n\n11 AM to 1 PM \nUntil Supplies Last
URL:https://lowcountryfoodbank.org/event/north-charleston-108/
LOCATION:U.S. Department of Veterans Affairs-North Charleston Outpatient Clinic\, 6450 Rivers Avenue\, North Charleston\, SC\, 29406\, United States
CATEGORIES:Mobile Pantry
END:VEVENT
BEGIN:VEVENT
DTSTART;TZID=America/New_York:20231120T140000
DTEND;TZID=America/New_York:20231120T170000
DTSTAMP:20260423T024454
CREATED:20231006T123151Z
LAST-MODIFIED:20231006T123151Z
UID:10004198-1700488800-1700499600@lowcountryfoodbank.org
SUMMARY:Myrtle Beach
DESCRIPTION:
URL:https://lowcountryfoodbank.org/event/myrtle-beach-38/
LOCATION:Sandy Grove Missionary Baptist Church\, 1008 Carver St\, Myrtle Beach\, SC\, 29577\, United States
CATEGORIES:Mobile Pantry
END:VEVENT
BEGIN:VEVENT
DTSTART;TZID=America/New_York:20231121T150000
DTEND;TZID=America/New_York:20231121T170000
DTSTAMP:20260423T024454
CREATED:20231113T135906Z
LAST-MODIFIED:20231113T135906Z
UID:10004220-1700578800-1700586000@lowcountryfoodbank.org
SUMMARY:Ridgeville
DESCRIPTION:
URL:https://lowcountryfoodbank.org/event/ridgeville-12/
LOCATION:Ridgeville Town Hall\, 105 School Street\, Ridgeville\, SC\, 29472\, United States
CATEGORIES:Mobile Pantry
GEO:33.0995651;-80.3097123
X-APPLE-STRUCTURED-LOCATION;VALUE=URI;X-ADDRESS=Ridgeville Town Hall 105 School Street Ridgeville SC 29472 United States;X-APPLE-RADIUS=500;X-TITLE=105 School Street:geo:-80.3097123,33.0995651
END:VEVENT
BEGIN:VEVENT
DTSTART;TZID=America/New_York:20231128T100000
DTEND;TZID=America/New_York:20231128T120000
DTSTAMP:20260423T024454
CREATED:20231127T114450Z
LAST-MODIFIED:20231127T114450Z
UID:10004221-1701165600-1701172800@lowcountryfoodbank.org
SUMMARY:Estill
DESCRIPTION:
URL:https://lowcountryfoodbank.org/event/estill-5/
LOCATION:Estill Head Start & Community Center\, 768 1st Street\, Estill\, SC\, 29918\, United States
CATEGORIES:Mobile Pantry
END:VEVENT
BEGIN:VEVENT
DTSTART;TZID=America/New_York:20231129T150000
DTEND;TZID=America/New_York:20231129T170000
DTSTAMP:20260423T024454
CREATED:20231027T123554Z
LAST-MODIFIED:20231127T114900Z
UID:10004215-1701270000-1701277200@lowcountryfoodbank.org
SUMMARY:Summerville/Jedburg
DESCRIPTION:
URL:https://lowcountryfoodbank.org/event/summerville-jedburg-7/
LOCATION:Greater St. James AME Church\, 1831 Jedburg Road\, Summerville\, SC\, 29486\, United States
CATEGORIES:Mobile Pantry
GEO:33.1404781;-80.1617844
X-APPLE-STRUCTURED-LOCATION;VALUE=URI;X-ADDRESS=Greater St. James AME Church 1831 Jedburg Road Summerville SC 29486 United States;X-APPLE-RADIUS=500;X-TITLE=1831 Jedburg Road:geo:-80.1617844,33.1404781
END:VEVENT
BEGIN:VEVENT
DTSTART;TZID=America/New_York:20231202T100000
DTEND;TZID=America/New_York:20231202T120000
DTSTAMP:20260423T024454
CREATED:20221219T182852Z
LAST-MODIFIED:20221219T182852Z
UID:10003498-1701511200-1701518400@lowcountryfoodbank.org
SUMMARY:Loris
DESCRIPTION:
URL:https://lowcountryfoodbank.org/event/loris-36/
LOCATION:Loris Middle School\, 5209 Highway 66\, Loris\, SC\, 29569\, United States
CATEGORIES:Mobile Pantry
GEO:34.0290844;-78.8544546
X-APPLE-STRUCTURED-LOCATION;VALUE=URI;X-ADDRESS=Loris Middle School 5209 Highway 66 Loris SC 29569 United States;X-APPLE-RADIUS=500;X-TITLE=5209 Highway 66:geo:-78.8544546,34.0290844
END:VEVENT
BEGIN:VEVENT
DTSTART;TZID=America/New_York:20231209T100000
DTEND;TZID=America/New_York:20231209T120000
DTSTAMP:20260423T024454
CREATED:20230823T132834Z
LAST-MODIFIED:20230823T132834Z
UID:10004173-1702116000-1702123200@lowcountryfoodbank.org
SUMMARY:Myrtle Beach
DESCRIPTION:
URL:https://lowcountryfoodbank.org/event/myrtle-beach-33/
LOCATION:Myrtle Beach Elementary School\, 950 Seahawk Way\, Myrtle Beach\, SC\, 29577\, United States
CATEGORIES:Mobile Pantry
GEO:33.7189574;-78.8646274
X-APPLE-STRUCTURED-LOCATION;VALUE=URI;X-ADDRESS=Myrtle Beach Elementary School 950 Seahawk Way Myrtle Beach SC 29577 United States;X-APPLE-RADIUS=500;X-TITLE=950 Seahawk Way:geo:-78.8646274,33.7189574
END:VEVENT
BEGIN:VEVENT
DTSTART;TZID=America/New_York:20231209T100000
DTEND;TZID=America/New_York:20231209T120000
DTSTAMP:20260423T024454
CREATED:20230915T132155Z
LAST-MODIFIED:20230915T132155Z
UID:10004181-1702116000-1702123200@lowcountryfoodbank.org
SUMMARY:Myrtle Beach
DESCRIPTION:
URL:https://lowcountryfoodbank.org/event/myrtle-beach-36/
LOCATION:Derrick Law Firm\, 3023 Church St\, Myrtle Beach\, SC\, 29577\, United States
CATEGORIES:Mobile Pantry
END:VEVENT
BEGIN:VEVENT
DTSTART;TZID=America/New_York:20231209T100000
DTEND;TZID=America/New_York:20231209T120000
DTSTAMP:20260423T024454
CREATED:20231127T125947Z
LAST-MODIFIED:20231127T125947Z
UID:10004226-1702116000-1702123200@lowcountryfoodbank.org
SUMMARY:Summerville
DESCRIPTION:
URL:https://lowcountryfoodbank.org/event/summerville-48/
LOCATION:Beech Hill Elementary School\, 1001 Beech Hill Road\, Summerville\, SC\, 29485\, United States
CATEGORIES:Mobile Pantry
GEO:32.9510318;-80.2272299
X-APPLE-STRUCTURED-LOCATION;VALUE=URI;X-ADDRESS=Beech Hill Elementary School 1001 Beech Hill Road Summerville SC 29485 United States;X-APPLE-RADIUS=500;X-TITLE=1001 Beech Hill Road:geo:-80.2272299,32.9510318
END:VEVENT
BEGIN:VEVENT
DTSTART;TZID=America/New_York:20231211T160000
DTEND;TZID=America/New_York:20231211T180000
DTSTAMP:20260423T024454
CREATED:20231127T130216Z
LAST-MODIFIED:20231127T130909Z
UID:10004227-1702310400-1702317600@lowcountryfoodbank.org
SUMMARY:North Charleston
DESCRIPTION:
URL:https://lowcountryfoodbank.org/event/north-charleston-110/
LOCATION:Eagle Nest Elementary & River Oaks Middle Schools\, 8640 River Oaks Drive\, North Charleston\, SC\, 29420\, United States
CATEGORIES:Mobile Pantry
END:VEVENT
BEGIN:VEVENT
DTSTART;TZID=America/New_York:20231212T090000
DTEND;TZID=America/New_York:20231212T110000
DTSTAMP:20260423T024454
CREATED:20231127T131216Z
LAST-MODIFIED:20231127T131216Z
UID:10004228-1702371600-1702378800@lowcountryfoodbank.org
SUMMARY:Round O
DESCRIPTION:
URL:https://lowcountryfoodbank.org/event/round-o-27/
LOCATION:Neyles Community Center\, 445 Featherbed Road\, Round O\, SC\, 29474\, United States
CATEGORIES:Mobile Pantry
GEO:32.8314782;-80.5595693
X-APPLE-STRUCTURED-LOCATION;VALUE=URI;X-ADDRESS=Neyles Community Center 445 Featherbed Road Round O SC 29474 United States;X-APPLE-RADIUS=500;X-TITLE=445 Featherbed Road:geo:-80.5595693,32.8314782
END:VEVENT
BEGIN:VEVENT
DTSTART;TZID=America/New_York:20231214T100000
DTEND;TZID=America/New_York:20231214T120000
DTSTAMP:20260423T024454
CREATED:20230915T134228Z
LAST-MODIFIED:20230915T134228Z
UID:10004185-1702548000-1702555200@lowcountryfoodbank.org
SUMMARY:Aynor
DESCRIPTION:
URL:https://lowcountryfoodbank.org/event/aynor-5/
LOCATION:Aynor Senior Citizens Center\, 845 North Main Street\, Aynor\, SC\, 29511\, United States
CATEGORIES:Mobile Pantry
END:VEVENT
END:VCALENDAR