BEGIN:VCALENDAR
VERSION:2.0
PRODID:-//Lowcountry Food Bank - ECPv6.15.20//NONSGML v1.0//EN
CALSCALE:GREGORIAN
METHOD:PUBLISH
X-ORIGINAL-URL:https://lowcountryfoodbank.org
X-WR-CALDESC:Events for Lowcountry Food Bank
REFRESH-INTERVAL;VALUE=DURATION:PT1H
X-Robots-Tag:noindex
X-PUBLISHED-TTL:PT1H
BEGIN:VTIMEZONE
TZID:America/New_York
BEGIN:DAYLIGHT
TZOFFSETFROM:-0500
TZOFFSETTO:-0400
TZNAME:EDT
DTSTART:20200308T070000
END:DAYLIGHT
BEGIN:STANDARD
TZOFFSETFROM:-0400
TZOFFSETTO:-0500
TZNAME:EST
DTSTART:20201101T060000
END:STANDARD
BEGIN:DAYLIGHT
TZOFFSETFROM:-0500
TZOFFSETTO:-0400
TZNAME:EDT
DTSTART:20210314T070000
END:DAYLIGHT
BEGIN:STANDARD
TZOFFSETFROM:-0400
TZOFFSETTO:-0500
TZNAME:EST
DTSTART:20211107T060000
END:STANDARD
BEGIN:DAYLIGHT
TZOFFSETFROM:-0500
TZOFFSETTO:-0400
TZNAME:EDT
DTSTART:20220313T070000
END:DAYLIGHT
BEGIN:STANDARD
TZOFFSETFROM:-0400
TZOFFSETTO:-0500
TZNAME:EST
DTSTART:20221106T060000
END:STANDARD
END:VTIMEZONE
BEGIN:VEVENT
DTSTART;TZID=America/New_York:20211214T090000
DTEND;TZID=America/New_York:20211214T090000
DTSTAMP:20260422T052746
CREATED:20211124T203845Z
LAST-MODIFIED:20211124T203845Z
UID:10002863-1639472400-1639472400@lowcountryfoodbank.org
SUMMARY:Round O
DESCRIPTION:
URL:https://lowcountryfoodbank.org/event/round-o-3/
LOCATION:Neyles Community Center\, 445 Featherbed Road\, Round O\, SC\, 29474\, United States
CATEGORIES:Mobile Pantry
GEO:32.8314782;-80.5595693
X-APPLE-STRUCTURED-LOCATION;VALUE=URI;X-ADDRESS=Neyles Community Center 445 Featherbed Road Round O SC 29474 United States;X-APPLE-RADIUS=500;X-TITLE=445 Featherbed Road:geo:-80.5595693,32.8314782
END:VEVENT
BEGIN:VEVENT
DTSTART;TZID=America/New_York:20211216T100000
DTEND;TZID=America/New_York:20211216T100000
DTSTAMP:20260422T052746
CREATED:20211124T203846Z
LAST-MODIFIED:20211124T203846Z
UID:10002866-1639648800-1639648800@lowcountryfoodbank.org
SUMMARY:Hampton
DESCRIPTION:
URL:https://lowcountryfoodbank.org/event/hampton-4/
LOCATION:Huspah Missionary Baptist Church\, 729 Magnolia Street W.\, Hampton\, SC\, 29924\, United States
CATEGORIES:Mobile Pantry
GEO:32.8742231;-81.1156858
X-APPLE-STRUCTURED-LOCATION;VALUE=URI;X-ADDRESS=Huspah Missionary Baptist Church 729 Magnolia Street W. Hampton SC 29924 United States;X-APPLE-RADIUS=500;X-TITLE=729 Magnolia Street W.:geo:-81.1156858,32.8742231
END:VEVENT
BEGIN:VEVENT
DTSTART;TZID=America/New_York:20211217T090000
DTEND;TZID=America/New_York:20211217T090000
DTSTAMP:20260422T052746
CREATED:20211124T204046Z
LAST-MODIFIED:20211129T173051Z
UID:10002870-1639731600-1639731600@lowcountryfoodbank.org
SUMMARY:Conway
DESCRIPTION:
URL:https://lowcountryfoodbank.org/event/conway-10/
LOCATION:Conway Recreation Center\, 1519 Mill Pond Road\, Conway\, SC\, 29527\, United States
CATEGORIES:Mobile Pantry
GEO:33.8438465;-79.0691839
X-APPLE-STRUCTURED-LOCATION;VALUE=URI;X-ADDRESS=Conway Recreation Center 1519 Mill Pond Road Conway SC 29527 United States;X-APPLE-RADIUS=500;X-TITLE=1519 Mill Pond Road:geo:-79.0691839,33.8438465
END:VEVENT
END:VCALENDAR