BEGIN:VCALENDAR
VERSION:2.0
PRODID:-//Lowcountry Food Bank - ECPv6.15.20//NONSGML v1.0//EN
CALSCALE:GREGORIAN
METHOD:PUBLISH
X-ORIGINAL-URL:https://lowcountryfoodbank.org
X-WR-CALDESC:Events for Lowcountry Food Bank
REFRESH-INTERVAL;VALUE=DURATION:PT1H
X-Robots-Tag:noindex
X-PUBLISHED-TTL:PT1H
BEGIN:VTIMEZONE
TZID:America/New_York
BEGIN:DAYLIGHT
TZOFFSETFROM:-0500
TZOFFSETTO:-0400
TZNAME:EDT
DTSTART:20210314T070000
END:DAYLIGHT
BEGIN:STANDARD
TZOFFSETFROM:-0400
TZOFFSETTO:-0500
TZNAME:EST
DTSTART:20211107T060000
END:STANDARD
BEGIN:DAYLIGHT
TZOFFSETFROM:-0500
TZOFFSETTO:-0400
TZNAME:EDT
DTSTART:20220313T070000
END:DAYLIGHT
BEGIN:STANDARD
TZOFFSETFROM:-0400
TZOFFSETTO:-0500
TZNAME:EST
DTSTART:20221106T060000
END:STANDARD
BEGIN:DAYLIGHT
TZOFFSETFROM:-0500
TZOFFSETTO:-0400
TZNAME:EDT
DTSTART:20230312T070000
END:DAYLIGHT
BEGIN:STANDARD
TZOFFSETFROM:-0400
TZOFFSETTO:-0500
TZNAME:EST
DTSTART:20231105T060000
END:STANDARD
END:VTIMEZONE
BEGIN:VEVENT
DTSTART;TZID=America/New_York:20221012T083000
DTEND;TZID=America/New_York:20221012T083000
DTSTAMP:20260422T132953
CREATED:20220815T204851Z
LAST-MODIFIED:20220815T204851Z
UID:10003288-1665563400-1665563400@lowcountryfoodbank.org
SUMMARY:Charleston
DESCRIPTION:
URL:https://lowcountryfoodbank.org/event/charleston-59/
LOCATION:Tricounty Veterans Support Network/VA\, 109 Bee St.\, Charleston\, SC\, 29401\, United States
CATEGORIES:Produce Distribution
GEO:32.7841197;-79.9540689
X-APPLE-STRUCTURED-LOCATION;VALUE=URI;X-ADDRESS=Tricounty Veterans Support Network/VA 109 Bee St. Charleston SC 29401 United States;X-APPLE-RADIUS=500;X-TITLE=109 Bee St.:geo:-79.9540689,32.7841197
END:VEVENT
BEGIN:VEVENT
DTSTART;TZID=America/New_York:20221012T110000
DTEND;TZID=America/New_York:20221012T110000
DTSTAMP:20260422T132953
CREATED:20220815T205049Z
LAST-MODIFIED:20220815T205049Z
UID:10003289-1665572400-1665572400@lowcountryfoodbank.org
SUMMARY:Wando
DESCRIPTION:
URL:https://lowcountryfoodbank.org/event/wando-15/
LOCATION:Feeding of the Multitudes\, 2130-A Cainhoy Road\, Huger\, SC\, 29450\, United States
CATEGORIES:Produce Distribution
GEO:32.916029;-79.8859697
X-APPLE-STRUCTURED-LOCATION;VALUE=URI;X-ADDRESS=Feeding of the Multitudes 2130-A Cainhoy Road Huger SC 29450 United States;X-APPLE-RADIUS=500;X-TITLE=2130-A Cainhoy Road:geo:-79.8859697,32.916029
END:VEVENT
BEGIN:VEVENT
DTSTART;TZID=America/New_York:20221013T094500
DTEND;TZID=America/New_York:20221013T094500
DTSTAMP:20260422T132953
CREATED:20220815T205050Z
LAST-MODIFIED:20220815T205050Z
UID:10003290-1665654300-1665654300@lowcountryfoodbank.org
SUMMARY:St. George
DESCRIPTION:
URL:https://lowcountryfoodbank.org/event/st-george-25/
LOCATION:Jerusalem Helping Hands Foodbank\, 135 Jerusalem Loop\, St. George\, SC\, 29477\, United States
CATEGORIES:Produce Distribution
GEO:33.0934892;-80.5966743
X-APPLE-STRUCTURED-LOCATION;VALUE=URI;X-ADDRESS=Jerusalem Helping Hands Foodbank 135 Jerusalem Loop St. George SC 29477 United States;X-APPLE-RADIUS=500;X-TITLE=135 Jerusalem Loop:geo:-80.5966743,33.0934892
END:VEVENT
BEGIN:VEVENT
DTSTART;TZID=America/New_York:20221013T103000
DTEND;TZID=America/New_York:20221013T103000
DTSTAMP:20260422T132953
CREATED:20220815T205050Z
LAST-MODIFIED:20220815T205050Z
UID:10003291-1665657000-1665657000@lowcountryfoodbank.org
SUMMARY:Brunson
DESCRIPTION:
URL:https://lowcountryfoodbank.org/event/brunson-15/
LOCATION:Greater Cherry Grove Christian Church\, 80 Cherry Grove Road\, Brunson\, SC\, 29911\, United States
CATEGORIES:Produce Distribution
GEO:32.983602;-81.0562054
X-APPLE-STRUCTURED-LOCATION;VALUE=URI;X-ADDRESS=Greater Cherry Grove Christian Church 80 Cherry Grove Road Brunson SC 29911 United States;X-APPLE-RADIUS=500;X-TITLE=80 Cherry Grove Road:geo:-81.0562054,32.983602
END:VEVENT
BEGIN:VEVENT
DTSTART;TZID=America/New_York:20221013T150000
DTEND;TZID=America/New_York:20221013T150000
DTSTAMP:20260422T132953
CREATED:20220815T205051Z
LAST-MODIFIED:20220815T205051Z
UID:10003292-1665673200-1665673200@lowcountryfoodbank.org
SUMMARY:Charleston
DESCRIPTION:
URL:https://lowcountryfoodbank.org/event/charleston-60/
LOCATION:Coastal Catholic Charities\, 1662 Ingram Rd\, Charleston\, SC\, 29407\, United States
CATEGORIES:Produce Distribution
GEO:32.8150536;-79.9930918
X-APPLE-STRUCTURED-LOCATION;VALUE=URI;X-ADDRESS=Coastal Catholic Charities 1662 Ingram Rd Charleston SC 29407 United States;X-APPLE-RADIUS=500;X-TITLE=1662 Ingram Rd:geo:-79.9930918,32.8150536
END:VEVENT
BEGIN:VEVENT
DTSTART;TZID=America/New_York:20221014T150000
DTEND;TZID=America/New_York:20221014T150000
DTSTAMP:20260422T132953
CREATED:20220815T205052Z
LAST-MODIFIED:20220815T205052Z
UID:10003293-1665759600-1665759600@lowcountryfoodbank.org
SUMMARY:Moncks Corner
DESCRIPTION:
URL:https://lowcountryfoodbank.org/event/moncks-corner-30/
LOCATION:Gateway Open Arms\, 3537 S Live Oak Drive\, Moncks Corner\, SC\, 29461\, United States
CATEGORIES:Produce Distribution
GEO:33.0720233;-80.0876046
X-APPLE-STRUCTURED-LOCATION;VALUE=URI;X-ADDRESS=Gateway Open Arms 3537 S Live Oak Drive Moncks Corner SC 29461 United States;X-APPLE-RADIUS=500;X-TITLE=3537 S Live Oak Drive:geo:-80.0876046,33.0720233
END:VEVENT
BEGIN:VEVENT
DTSTART;TZID=America/New_York:20221015T080000
DTEND;TZID=America/New_York:20221015T080000
DTSTAMP:20260422T132953
CREATED:20220815T205250Z
LAST-MODIFIED:20220815T205250Z
UID:10003294-1665820800-1665820800@lowcountryfoodbank.org
SUMMARY:Surfside
DESCRIPTION:
URL:https://lowcountryfoodbank.org/event/surfside-15/
LOCATION:Faith Outreach Ministries of the Grand Strand\, 8901 US Hwy 17 Bypass South\, Surfside\, SC\, 29575\, United States
CATEGORIES:Produce Distribution
GEO:33.6105689;-79.0119849
X-APPLE-STRUCTURED-LOCATION;VALUE=URI;X-ADDRESS=Faith Outreach Ministries of the Grand Strand 8901 US Hwy 17 Bypass South Surfside SC 29575 United States;X-APPLE-RADIUS=500;X-TITLE=8901 US Hwy 17 Bypass South:geo:-79.0119849,33.6105689
END:VEVENT
BEGIN:VEVENT
DTSTART;TZID=America/New_York:20221015T080000
DTEND;TZID=America/New_York:20221015T080000
DTSTAMP:20260422T132953
CREATED:20220815T205251Z
LAST-MODIFIED:20220815T205251Z
UID:10003295-1665820800-1665820800@lowcountryfoodbank.org
SUMMARY:North Charleston
DESCRIPTION:
URL:https://lowcountryfoodbank.org/event/north-charleston-44/
LOCATION:Faith Remount/ Revive Charleston\, 1527 Remount Road\, North Charleston\, SC\, 29406\, United States
CATEGORIES:Produce Distribution
GEO:32.9004453;-80.0029649
X-APPLE-STRUCTURED-LOCATION;VALUE=URI;X-ADDRESS=Faith Remount/ Revive Charleston 1527 Remount Road North Charleston SC 29406 United States;X-APPLE-RADIUS=500;X-TITLE=1527 Remount Road:geo:-80.0029649,32.9004453
END:VEVENT
BEGIN:VEVENT
DTSTART;TZID=America/New_York:20221015T090000
DTEND;TZID=America/New_York:20221015T090000
DTSTAMP:20260422T132953
CREATED:20220815T205251Z
LAST-MODIFIED:20220815T205251Z
UID:10003296-1665824400-1665824400@lowcountryfoodbank.org
SUMMARY:Conway
DESCRIPTION:
URL:https://lowcountryfoodbank.org/event/conway-43/
LOCATION:The Shepherds Table\, 1412 Gamecock Ave\, Conway\, SC\, 29527\, United States
CATEGORIES:Produce Distribution
GEO:33.8338336;-79.054254
X-APPLE-STRUCTURED-LOCATION;VALUE=URI;X-ADDRESS=The Shepherds Table 1412 Gamecock Ave Conway SC 29527 United States;X-APPLE-RADIUS=500;X-TITLE=1412 Gamecock Ave:geo:-79.054254,33.8338336
END:VEVENT
BEGIN:VEVENT
DTSTART;TZID=America/New_York:20221015T093000
DTEND;TZID=America/New_York:20221015T093000
DTSTAMP:20260422T132953
CREATED:20220815T205252Z
LAST-MODIFIED:20220815T205252Z
UID:10003297-1665826200-1665826200@lowcountryfoodbank.org
SUMMARY:Moncks Corner
DESCRIPTION:
URL:https://lowcountryfoodbank.org/event/moncks-corner-31/
LOCATION:Faith Assembly Moncks Corner\, 2186 N. Hwy 52\, Moncks Corner\, SC\, 29461\, United States
CATEGORIES:Produce Distribution
GEO:33.183454;-80.014112
X-APPLE-STRUCTURED-LOCATION;VALUE=URI;X-ADDRESS=Faith Assembly Moncks Corner 2186 N. Hwy 52 Moncks Corner SC 29461 United States;X-APPLE-RADIUS=500;X-TITLE=2186 N. Hwy 52:geo:-80.014112,33.183454
END:VEVENT
BEGIN:VEVENT
DTSTART;TZID=America/New_York:20221015T100000
DTEND;TZID=America/New_York:20221015T100000
DTSTAMP:20260422T132953
CREATED:20220815T205253Z
LAST-MODIFIED:20220815T205253Z
UID:10003298-1665828000-1665828000@lowcountryfoodbank.org
SUMMARY:North Charleston
DESCRIPTION:
URL:https://lowcountryfoodbank.org/event/north-charleston-45/
LOCATION:Park Circle Cares\, Inc.\, NCHS\, 1087 East Montague Avenue\, North Charleston\, SC\, 29405\, United States
CATEGORIES:Produce Distribution
GEO:32.8804901;-79.978717
X-APPLE-STRUCTURED-LOCATION;VALUE=URI;X-ADDRESS=Park Circle Cares Inc. NCHS 1087 East Montague Avenue North Charleston SC 29405 United States;X-APPLE-RADIUS=500;X-TITLE=NCHS\, 1087 East Montague Avenue:geo:-79.978717,32.8804901
END:VEVENT
END:VCALENDAR