BEGIN:VCALENDAR
VERSION:2.0
PRODID:-//Lowcountry Food Bank - ECPv6.15.20//NONSGML v1.0//EN
CALSCALE:GREGORIAN
METHOD:PUBLISH
X-WR-CALNAME:Lowcountry Food Bank
X-ORIGINAL-URL:https://lowcountryfoodbank.org
X-WR-CALDESC:Events for Lowcountry Food Bank
REFRESH-INTERVAL;VALUE=DURATION:PT1H
X-Robots-Tag:noindex
X-PUBLISHED-TTL:PT1H
BEGIN:VTIMEZONE
TZID:America/New_York
BEGIN:DAYLIGHT
TZOFFSETFROM:-0500
TZOFFSETTO:-0400
TZNAME:EDT
DTSTART:20200308T070000
END:DAYLIGHT
BEGIN:STANDARD
TZOFFSETFROM:-0400
TZOFFSETTO:-0500
TZNAME:EST
DTSTART:20201101T060000
END:STANDARD
BEGIN:DAYLIGHT
TZOFFSETFROM:-0500
TZOFFSETTO:-0400
TZNAME:EDT
DTSTART:20210314T070000
END:DAYLIGHT
BEGIN:STANDARD
TZOFFSETFROM:-0400
TZOFFSETTO:-0500
TZNAME:EST
DTSTART:20211107T060000
END:STANDARD
BEGIN:DAYLIGHT
TZOFFSETFROM:-0500
TZOFFSETTO:-0400
TZNAME:EDT
DTSTART:20220313T070000
END:DAYLIGHT
BEGIN:STANDARD
TZOFFSETFROM:-0400
TZOFFSETTO:-0500
TZNAME:EST
DTSTART:20221106T060000
END:STANDARD
END:VTIMEZONE
BEGIN:VEVENT
DTSTART;TZID=America/New_York:20211101T100000
DTEND;TZID=America/New_York:20211101T100000
DTSTAMP:20260420T103501
CREATED:20211109T182050Z
LAST-MODIFIED:20211109T182050Z
UID:10002799-1635760800-1635760800@lowcountryfoodbank.org
SUMMARY:Summerville
DESCRIPTION:
URL:https://lowcountryfoodbank.org/event/summerville-5/
LOCATION:Greater St. James AME Church\, 1831 Jedburg Road\, Summerville\, SC\, 29486\, United States
CATEGORIES:Mobile Pantry
GEO:33.1404781;-80.1617844
X-APPLE-STRUCTURED-LOCATION;VALUE=URI;X-ADDRESS=Greater St. James AME Church 1831 Jedburg Road Summerville SC 29486 United States;X-APPLE-RADIUS=500;X-TITLE=1831 Jedburg Road:geo:-80.1617844,33.1404781
END:VEVENT
BEGIN:VEVENT
DTSTART;TZID=America/New_York:20211102T100000
DTEND;TZID=America/New_York:20211102T100000
DTSTAMP:20260420T103501
CREATED:20211109T182051Z
LAST-MODIFIED:20211109T182051Z
UID:10002800-1635847200-1635847200@lowcountryfoodbank.org
SUMMARY:West Ashley
DESCRIPTION:
URL:https://lowcountryfoodbank.org/event/west-ashley-3/
LOCATION:West Ashley\, 65 Sycamore Ave\, Charleston\, SC\, 29407\, United States
CATEGORIES:Mobile Pantry
GEO:32.7906236;-79.9891924
X-APPLE-STRUCTURED-LOCATION;VALUE=URI;X-ADDRESS=West Ashley 65 Sycamore Ave Charleston SC 29407 United States;X-APPLE-RADIUS=500;X-TITLE=65 Sycamore Ave:geo:-79.9891924,32.7906236
END:VEVENT
BEGIN:VEVENT
DTSTART;TZID=America/New_York:20211102T143000
DTEND;TZID=America/New_York:20211102T143000
DTSTAMP:20260420T103501
CREATED:20211109T182051Z
LAST-MODIFIED:20211109T182051Z
UID:10002801-1635863400-1635863400@lowcountryfoodbank.org
SUMMARY:Harleyville
DESCRIPTION:
URL:https://lowcountryfoodbank.org/event/harleyville-5/
LOCATION:House of Prayer and Praise\, 104 East Main Street\, Harleyville\, SC\, 29448\, United States
CATEGORIES:Produce Distribution
GEO:33.2139744;-80.4479065
X-APPLE-STRUCTURED-LOCATION;VALUE=URI;X-ADDRESS=House of Prayer and Praise 104 East Main Street Harleyville SC 29448 United States;X-APPLE-RADIUS=500;X-TITLE=104 East Main Street:geo:-80.4479065,33.2139744
END:VEVENT
BEGIN:VEVENT
DTSTART;TZID=America/New_York:20211104T110000
DTEND;TZID=America/New_York:20211104T110000
DTSTAMP:20260420T103501
CREATED:20211109T182052Z
LAST-MODIFIED:20211109T182052Z
UID:10002803-1636023600-1636023600@lowcountryfoodbank.org
SUMMARY:Brunson
DESCRIPTION:
URL:https://lowcountryfoodbank.org/event/brunson-4/
LOCATION:Greater Cherry Grove\, 1895 Greater Cherry Grove Rd.\, Brunson\, SC\, 29911
CATEGORIES:Produce Distribution
GEO:33.0003464;-81.075276
X-APPLE-STRUCTURED-LOCATION;VALUE=URI;X-ADDRESS=Greater Cherry Grove 1895 Greater Cherry Grove Rd. Brunson SC 29911;X-APPLE-RADIUS=500;X-TITLE=1895 Greater Cherry Grove Rd.:geo:-81.075276,33.0003464
END:VEVENT
BEGIN:VEVENT
DTSTART;TZID=America/New_York:20211104T133000
DTEND;TZID=America/New_York:20211104T133000
DTSTAMP:20260420T103501
CREATED:20211109T182053Z
LAST-MODIFIED:20211109T182053Z
UID:10002804-1636032600-1636032600@lowcountryfoodbank.org
SUMMARY:Scotia
DESCRIPTION:
URL:https://lowcountryfoodbank.org/event/scotia-4/
LOCATION:Hopewell CME\, 3200 Daily Road\, Scotia\, SC\, 29939\, United States
CATEGORIES:Produce Distribution
GEO:32.6870477;-81.2243444
X-APPLE-STRUCTURED-LOCATION;VALUE=URI;X-ADDRESS=Hopewell CME 3200 Daily Road Scotia SC 29939 United States;X-APPLE-RADIUS=500;X-TITLE=3200 Daily Road:geo:-81.2243444,32.6870477
END:VEVENT
BEGIN:VEVENT
DTSTART;TZID=America/New_York:20211104T163000
DTEND;TZID=America/New_York:20211104T163000
DTSTAMP:20260420T103501
CREATED:20211109T182051Z
LAST-MODIFIED:20211109T182051Z
UID:10002802-1636043400-1636043400@lowcountryfoodbank.org
SUMMARY:Goose Creek
DESCRIPTION:
URL:https://lowcountryfoodbank.org/event/goose-creek-3/
LOCATION:Devon Forest Elementary School\, 1127 Dorothy Street\, Goose Creek\, SC\, 29445\, United States
CATEGORIES:Mobile Pantry
GEO:33.0396543;-80.0761044
X-APPLE-STRUCTURED-LOCATION;VALUE=URI;X-ADDRESS=Devon Forest Elementary School 1127 Dorothy Street Goose Creek SC 29445 United States;X-APPLE-RADIUS=500;X-TITLE=1127 Dorothy Street:geo:-80.0761044,33.0396543
END:VEVENT
BEGIN:VEVENT
DTSTART;TZID=America/New_York:20211105T123000
DTEND;TZID=America/New_York:20211105T123000
DTSTAMP:20260420T103501
CREATED:20211109T182054Z
LAST-MODIFIED:20211109T182054Z
UID:10002805-1636115400-1636115400@lowcountryfoodbank.org
SUMMARY:Kingstree
DESCRIPTION:
URL:https://lowcountryfoodbank.org/event/kingstree-4/
LOCATION:Catholic Charities of South Carolina – Williamsburg\, 2084 Thurgood Marshall Hwy.\, Kingstree\, SC\, 29556\, United States
CATEGORIES:Produce Distribution
GEO:33.6560322;-79.8105446
X-APPLE-STRUCTURED-LOCATION;VALUE=URI;X-ADDRESS=Catholic Charities of South Carolina – Williamsburg 2084 Thurgood Marshall Hwy. Kingstree SC 29556 United States;X-APPLE-RADIUS=500;X-TITLE=2084 Thurgood Marshall Hwy.:geo:-79.8105446,33.6560322
END:VEVENT
BEGIN:VEVENT
DTSTART;TZID=America/New_York:20211106T080000
DTEND;TZID=America/New_York:20211106T080000
DTSTAMP:20260420T103501
CREATED:20211109T182054Z
LAST-MODIFIED:20211109T182054Z
UID:10002806-1636185600-1636185600@lowcountryfoodbank.org
SUMMARY:North Charleston
DESCRIPTION:
URL:https://lowcountryfoodbank.org/event/north-charleston-4/
LOCATION:Revive Charleston\, 1527 Remount Road\, North Charleston\, SC\, 29406\, United States
CATEGORIES:Produce Distribution
GEO:32.9004453;-80.0029649
X-APPLE-STRUCTURED-LOCATION;VALUE=URI;X-ADDRESS=Revive Charleston 1527 Remount Road North Charleston SC 29406 United States;X-APPLE-RADIUS=500;X-TITLE=1527 Remount Road:geo:-80.0029649,32.9004453
END:VEVENT
BEGIN:VEVENT
DTSTART;TZID=America/New_York:20211106T100000
DTEND;TZID=America/New_York:20211106T100000
DTSTAMP:20260420T103501
CREATED:20211109T182054Z
LAST-MODIFIED:20211109T182054Z
UID:10002807-1636192800-1636192800@lowcountryfoodbank.org
SUMMARY:Andrews
DESCRIPTION:
URL:https://lowcountryfoodbank.org/event/andrews-3/
LOCATION:Ebenezer Baptist Church\, 1207 Martin Luther King Dr\, Andrews\, SC\, 29510\, United States
CATEGORIES:Produce Distribution
GEO:33.452498;-79.5803172
X-APPLE-STRUCTURED-LOCATION;VALUE=URI;X-ADDRESS=Ebenezer Baptist Church 1207 Martin Luther King Dr Andrews SC 29510 United States;X-APPLE-RADIUS=500;X-TITLE=1207 Martin Luther King Dr:geo:-79.5803172,33.452498
END:VEVENT
BEGIN:VEVENT
DTSTART;TZID=America/New_York:20211106T100000
DTEND;TZID=America/New_York:20211106T100000
DTSTAMP:20260420T103501
CREATED:20211109T182108Z
LAST-MODIFIED:20211109T182108Z
UID:10002809-1636192800-1636192800@lowcountryfoodbank.org
SUMMARY:Loris
DESCRIPTION:
URL:https://lowcountryfoodbank.org/event/loris-4/
LOCATION:Loris Middle School\, 5209 Highway 66\, Loris\, SC\, 29569\, United States
CATEGORIES:Mobile Pantry
GEO:34.0290844;-78.8544546
X-APPLE-STRUCTURED-LOCATION;VALUE=URI;X-ADDRESS=Loris Middle School 5209 Highway 66 Loris SC 29569 United States;X-APPLE-RADIUS=500;X-TITLE=5209 Highway 66:geo:-78.8544546,34.0290844
END:VEVENT
BEGIN:VEVENT
DTSTART;TZID=America/New_York:20211106T100000
DTEND;TZID=America/New_York:20211106T100000
DTSTAMP:20260420T103501
CREATED:20211109T182108Z
LAST-MODIFIED:20211109T182108Z
UID:10002810-1636192800-1636192800@lowcountryfoodbank.org
SUMMARY:Johns Island
DESCRIPTION:
URL:https://lowcountryfoodbank.org/event/johns-island-3/
LOCATION:Haut Gap Middle School\, 1861 Bohicket Road\, Johns Island\, SC\, 29445\, United States
CATEGORIES:Mobile Pantry
GEO:32.7195442;-80.0780713
X-APPLE-STRUCTURED-LOCATION;VALUE=URI;X-ADDRESS=Haut Gap Middle School 1861 Bohicket Road Johns Island SC 29445 United States;X-APPLE-RADIUS=500;X-TITLE=1861 Bohicket Road:geo:-80.0780713,32.7195442
END:VEVENT
BEGIN:VEVENT
DTSTART;TZID=America/New_York:20211106T101500
DTEND;TZID=America/New_York:20211106T101500
DTSTAMP:20260420T103501
CREATED:20211109T182054Z
LAST-MODIFIED:20211109T182054Z
UID:10002808-1636193700-1636193700@lowcountryfoodbank.org
SUMMARY:Saint George
DESCRIPTION:
URL:https://lowcountryfoodbank.org/event/saint-george-3/
LOCATION:Upper Dorchester Community Ministries\, 101 Ridge Street\, St. George\, SC\, 29477\, United States
CATEGORIES:Produce Distribution
GEO:33.1848427;-80.577651
X-APPLE-STRUCTURED-LOCATION;VALUE=URI;X-ADDRESS=Upper Dorchester Community Ministries 101 Ridge Street St. George SC 29477 United States;X-APPLE-RADIUS=500;X-TITLE=101 Ridge Street:geo:-80.577651,33.1848427
END:VEVENT
END:VCALENDAR