BEGIN:VCALENDAR
VERSION:2.0
PRODID:-//Lowcountry Food Bank - ECPv6.15.20//NONSGML v1.0//EN
CALSCALE:GREGORIAN
METHOD:PUBLISH
X-WR-CALNAME:Lowcountry Food Bank
X-ORIGINAL-URL:https://lowcountryfoodbank.org
X-WR-CALDESC:Events for Lowcountry Food Bank
REFRESH-INTERVAL;VALUE=DURATION:PT1H
X-Robots-Tag:noindex
X-PUBLISHED-TTL:PT1H
BEGIN:VTIMEZONE
TZID:America/New_York
BEGIN:DAYLIGHT
TZOFFSETFROM:-0500
TZOFFSETTO:-0400
TZNAME:EDT
DTSTART:20240310T070000
END:DAYLIGHT
BEGIN:STANDARD
TZOFFSETFROM:-0400
TZOFFSETTO:-0500
TZNAME:EST
DTSTART:20241103T060000
END:STANDARD
BEGIN:DAYLIGHT
TZOFFSETFROM:-0500
TZOFFSETTO:-0400
TZNAME:EDT
DTSTART:20250309T070000
END:DAYLIGHT
BEGIN:STANDARD
TZOFFSETFROM:-0400
TZOFFSETTO:-0500
TZNAME:EST
DTSTART:20251102T060000
END:STANDARD
BEGIN:DAYLIGHT
TZOFFSETFROM:-0500
TZOFFSETTO:-0400
TZNAME:EDT
DTSTART:20260308T070000
END:DAYLIGHT
BEGIN:STANDARD
TZOFFSETFROM:-0400
TZOFFSETTO:-0500
TZNAME:EST
DTSTART:20261101T060000
END:STANDARD
END:VTIMEZONE
BEGIN:VEVENT
DTSTART;TZID=America/New_York:20250107T090000
DTEND;TZID=America/New_York:20250107T110000
DTSTAMP:20260423T202850
CREATED:20241219T172812Z
LAST-MODIFIED:20241219T172812Z
UID:10004909-1736240400-1736247600@lowcountryfoodbank.org
SUMMARY:Charleston-West Ashley
DESCRIPTION:
URL:https://lowcountryfoodbank.org/event/charleston-west-ashley-10/
LOCATION:West Ashley\, 65 Sycamore Ave\, Charleston\, SC\, 29407\, United States
CATEGORIES:Fresh for All produce distribution
GEO:32.7906236;-79.9891924
X-APPLE-STRUCTURED-LOCATION;VALUE=URI;X-ADDRESS=West Ashley 65 Sycamore Ave Charleston SC 29407 United States;X-APPLE-RADIUS=500;X-TITLE=65 Sycamore Ave:geo:-79.9891924,32.7906236
END:VEVENT
BEGIN:VEVENT
DTSTART;TZID=America/New_York:20250107T120000
DTEND;TZID=America/New_York:20250107T150000
DTSTAMP:20260423T202850
CREATED:20250110T200034Z
LAST-MODIFIED:20250110T200034Z
UID:10004918-1736251200-1736262000@lowcountryfoodbank.org
SUMMARY:Hardeeville
DESCRIPTION:
URL:https://lowcountryfoodbank.org/event/hardeeville-30/
LOCATION:Catholic Charities/Mercy Mission\, 19869 Whyte-Hardee Blvd.\, Hardeeville\, SC\, 29927
END:VEVENT
BEGIN:VEVENT
DTSTART;TZID=America/New_York:20250107T133000
DTEND;TZID=America/New_York:20250107T160000
DTSTAMP:20260423T202850
CREATED:20250110T200035Z
LAST-MODIFIED:20250110T200035Z
UID:10004919-1736256600-1736265600@lowcountryfoodbank.org
SUMMARY:Harleyville
DESCRIPTION:
URL:https://lowcountryfoodbank.org/event/harleyville-29/
LOCATION:House of Prayer And Praise Baptist Church\, 104 East Main Street\, Harleyville\, SC\, 29448\, United States
GEO:33.2139744;-80.4479065
X-APPLE-STRUCTURED-LOCATION;VALUE=URI;X-ADDRESS=House of Prayer And Praise Baptist Church 104 East Main Street Harleyville SC 29448 United States;X-APPLE-RADIUS=500;X-TITLE=104 East Main Street:geo:-80.4479065,33.2139744
END:VEVENT
BEGIN:VEVENT
DTSTART;TZID=America/New_York:20250109T100000
DTEND;TZID=America/New_York:20250109T120000
DTSTAMP:20260423T202850
CREATED:20241219T164900Z
LAST-MODIFIED:20241219T164900Z
UID:10004906-1736416800-1736424000@lowcountryfoodbank.org
SUMMARY:Little River
DESCRIPTION:
URL:https://lowcountryfoodbank.org/event/little-river-6/
LOCATION:Little River United Methodist Church\, 1629 US-17\, Little River\, SC\, 29566\, United States
CATEGORIES:Client Choice Market
END:VEVENT
BEGIN:VEVENT
DTSTART;TZID=America/New_York:20250110T100000
DTEND;TZID=America/New_York:20250113T120000
DTSTAMP:20260423T202850
CREATED:20250107T122628Z
LAST-MODIFIED:20250107T122739Z
UID:10004912-1736503200-1736769600@lowcountryfoodbank.org
SUMMARY:Beaufort
DESCRIPTION:
URL:https://lowcountryfoodbank.org/event/beaufort-67/
LOCATION:St. Helena Elementary School\, 1025 Sea Island Pkwy\, St. Helena Island\, SC\, 29920
CATEGORIES:Fresh for All produce distribution
GEO:32.401551;-80.5636888
X-APPLE-STRUCTURED-LOCATION;VALUE=URI;X-ADDRESS=St. Helena Elementary School 1025 Sea Island Pkwy St. Helena Island SC 29920;X-APPLE-RADIUS=500;X-TITLE=1025 Sea Island Pkwy:geo:-80.5636888,32.401551
END:VEVENT
BEGIN:VEVENT
DTSTART;TZID=America/New_York:20250110T110000
DTEND;TZID=America/New_York:20250110T120000
DTSTAMP:20260423T202850
CREATED:20250110T200036Z
LAST-MODIFIED:20250110T200036Z
UID:10004920-1736506800-1736510400@lowcountryfoodbank.org
SUMMARY:Hampton
DESCRIPTION:
URL:https://lowcountryfoodbank.org/event/hampton-23/
LOCATION:Hampton United Methodist Church\, 202 Mulberry Street\, Hampton\, SC\, 29924
END:VEVENT
BEGIN:VEVENT
DTSTART;TZID=America/New_York:20250111T093000
DTEND;TZID=America/New_York:20250111T120000
DTSTAMP:20260423T202850
CREATED:20241219T164617Z
LAST-MODIFIED:20241224T150632Z
UID:10004903-1736587800-1736596800@lowcountryfoodbank.org
SUMMARY:Myrtle Beach
DESCRIPTION:
URL:https://lowcountryfoodbank.org/event/myrtle-beach-54/
LOCATION:Myrtle Beach Elementary School\, 950 Seahawk Way\, Myrtle Beach\, SC\, 29577\, United States
CATEGORIES:Mobile Pantry
GEO:33.7189574;-78.8646274
X-APPLE-STRUCTURED-LOCATION;VALUE=URI;X-ADDRESS=Myrtle Beach Elementary School 950 Seahawk Way Myrtle Beach SC 29577 United States;X-APPLE-RADIUS=500;X-TITLE=950 Seahawk Way:geo:-78.8646274,33.7189574
END:VEVENT
BEGIN:VEVENT
DTSTART;TZID=America/New_York:20250111T093000
DTEND;TZID=America/New_York:20250111T120000
DTSTAMP:20260423T202850
CREATED:20250110T200036Z
LAST-MODIFIED:20250110T200036Z
UID:10004921-1736587800-1736596800@lowcountryfoodbank.org
SUMMARY:Charleston
DESCRIPTION:
URL:https://lowcountryfoodbank.org/event/charleston-199/
LOCATION:Bethel United Methodist Church\, 57 Pitt Street\, Charleston\, SC\, 29401\, United States
GEO:32.783947;-79.9410624
X-APPLE-STRUCTURED-LOCATION;VALUE=URI;X-ADDRESS=Bethel United Methodist Church 57 Pitt Street Charleston SC 29401 United States;X-APPLE-RADIUS=500;X-TITLE=57 Pitt Street:geo:-79.9410624,32.783947
END:VEVENT
BEGIN:VEVENT
DTSTART;TZID=America/New_York:20250111T100000
DTEND;TZID=America/New_York:20250111T120000
DTSTAMP:20260423T202850
CREATED:20250110T200037Z
LAST-MODIFIED:20250110T200037Z
UID:10004922-1736589600-1736596800@lowcountryfoodbank.org
SUMMARY:Ridgeland
DESCRIPTION:
URL:https://lowcountryfoodbank.org/event/ridgeland-27/
LOCATION:Jasper County Hunger Free Zone\, 506 Grays Hwy\, Ridgeland\, SC\, 29936\, United States
GEO:32.5880355;-80.9493706
X-APPLE-STRUCTURED-LOCATION;VALUE=URI;X-ADDRESS=Jasper County Hunger Free Zone 506 Grays Hwy Ridgeland SC 29936 United States;X-APPLE-RADIUS=500;X-TITLE=506 Grays Hwy:geo:-80.9493706,32.5880355
END:VEVENT
BEGIN:VEVENT
DTSTART;TZID=America/New_York:20250111T100000
DTEND;TZID=America/New_York:20250111T120000
DTSTAMP:20260423T202850
CREATED:20250110T200041Z
LAST-MODIFIED:20250110T200041Z
UID:10004923-1736589600-1736596800@lowcountryfoodbank.org
SUMMARY:Beaufort
DESCRIPTION:
URL:https://lowcountryfoodbank.org/event/beaufort-69/
LOCATION:Healing Waters\, 22 St Pauls Church Rd\, Beaufort\, SC\, 29906
END:VEVENT
END:VCALENDAR