BEGIN:VCALENDAR
VERSION:2.0
PRODID:-//Lowcountry Food Bank - ECPv6.15.20//NONSGML v1.0//EN
CALSCALE:GREGORIAN
METHOD:PUBLISH
X-ORIGINAL-URL:https://lowcountryfoodbank.org
X-WR-CALDESC:Events for Lowcountry Food Bank
REFRESH-INTERVAL;VALUE=DURATION:PT1H
X-Robots-Tag:noindex
X-PUBLISHED-TTL:PT1H
BEGIN:VTIMEZONE
TZID:America/New_York
BEGIN:DAYLIGHT
TZOFFSETFROM:-0500
TZOFFSETTO:-0400
TZNAME:EDT
DTSTART:20240310T070000
END:DAYLIGHT
BEGIN:STANDARD
TZOFFSETFROM:-0400
TZOFFSETTO:-0500
TZNAME:EST
DTSTART:20241103T060000
END:STANDARD
BEGIN:DAYLIGHT
TZOFFSETFROM:-0500
TZOFFSETTO:-0400
TZNAME:EDT
DTSTART:20250309T070000
END:DAYLIGHT
BEGIN:STANDARD
TZOFFSETFROM:-0400
TZOFFSETTO:-0500
TZNAME:EST
DTSTART:20251102T060000
END:STANDARD
BEGIN:DAYLIGHT
TZOFFSETFROM:-0500
TZOFFSETTO:-0400
TZNAME:EDT
DTSTART:20260308T070000
END:DAYLIGHT
BEGIN:STANDARD
TZOFFSETFROM:-0400
TZOFFSETTO:-0500
TZNAME:EST
DTSTART:20261101T060000
END:STANDARD
END:VTIMEZONE
BEGIN:VEVENT
DTSTART;TZID=America/New_York:20250414T120000
DTEND;TZID=America/New_York:20250414T140000
DTSTAMP:20260425T153056
CREATED:20250218T210120Z
LAST-MODIFIED:20250218T211317Z
UID:10005339-1744632000-1744639200@lowcountryfoodbank.org
SUMMARY:Bluffton
DESCRIPTION:
URL:https://lowcountryfoodbank.org/event/bluffton-77/
LOCATION:The Church of The Cross Food Bank\, 15 Centre Drive\, Bluffton\, SC\, 29910
CATEGORIES:Fresh Xpress Produce Distribution
END:VEVENT
BEGIN:VEVENT
DTSTART;TZID=America/New_York:20250414T123000
DTEND;TZID=America/New_York:20250414T143000
DTSTAMP:20260425T153056
CREATED:20250218T210025Z
LAST-MODIFIED:20250218T210912Z
UID:10005327-1744633800-1744641000@lowcountryfoodbank.org
SUMMARY:Port Royal
DESCRIPTION:
URL:https://lowcountryfoodbank.org/event/port-royal-44/
LOCATION:Second Helpings – Port Royal UMC\, 1602 Columbia Avenue\, Port Royal\, SC\, 29935
CATEGORIES:Fresh Xpress Produce Distribution
END:VEVENT
BEGIN:VEVENT
DTSTART;TZID=America/New_York:20250415T093000
DTEND;TZID=America/New_York:20250415T120000
DTSTAMP:20260425T153056
CREATED:20250110T201016Z
LAST-MODIFIED:20250110T201016Z
UID:10005022-1744709400-1744718400@lowcountryfoodbank.org
SUMMARY:Walterboro
DESCRIPTION:
URL:https://lowcountryfoodbank.org/event/walterboro-82/
LOCATION:Mt. Olive Baptist Walterboro\, 329 Savage Street\, Walterboro\, SC\, 29488
END:VEVENT
BEGIN:VEVENT
DTSTART;TZID=America/New_York:20250416T100000
DTEND;TZID=America/New_York:20250416T113000
DTSTAMP:20260425T153056
CREATED:20250110T201042Z
LAST-MODIFIED:20250110T201042Z
UID:10005023-1744797600-1744803000@lowcountryfoodbank.org
SUMMARY:St. George
DESCRIPTION:
URL:https://lowcountryfoodbank.org/event/st-george-102/
LOCATION:Bethel Outreach Minsitries\, 5585 Memorial Blvd.\, St. George\, SC\, 29477
END:VEVENT
BEGIN:VEVENT
DTSTART;TZID=America/New_York:20250416T100000
DTEND;TZID=America/New_York:20250416T120000
DTSTAMP:20260425T153056
CREATED:20250407T120650Z
LAST-MODIFIED:20250407T120650Z
UID:10005369-1744797600-1744804800@lowcountryfoodbank.org
SUMMARY:Walterboro
DESCRIPTION:
URL:https://lowcountryfoodbank.org/event/walterboro-93/
LOCATION:National Guard Armory\, 849 Cottageville Hwy.\, Walterboro\, 29488\, United States
CATEGORIES:Fresh for All produce distribution
END:VEVENT
BEGIN:VEVENT
DTSTART;TZID=America/New_York:20250417T090000
DTEND;TZID=America/New_York:20250417T120000
DTSTAMP:20260425T153056
CREATED:20250110T201044Z
LAST-MODIFIED:20250110T201044Z
UID:10005025-1744880400-1744891200@lowcountryfoodbank.org
SUMMARY:Mt. Pleasant
DESCRIPTION:
URL:https://lowcountryfoodbank.org/event/mt-pleasant-17/
LOCATION:East Cooper Community Outreach\, 1145 Six Mile Rd\, Mt. Pleasant\, SC\, 29466\, United States
GEO:32.8399487;-79.8157781
X-APPLE-STRUCTURED-LOCATION;VALUE=URI;X-ADDRESS=East Cooper Community Outreach 1145 Six Mile Rd Mt. Pleasant SC 29466 United States;X-APPLE-RADIUS=500;X-TITLE=1145 Six Mile Rd:geo:-79.8157781,32.8399487
END:VEVENT
BEGIN:VEVENT
DTSTART;TZID=America/New_York:20250417T130000
DTEND;TZID=America/New_York:20250417T170000
DTSTAMP:20260425T153056
CREATED:20250110T201045Z
LAST-MODIFIED:20250110T201045Z
UID:10005026-1744894800-1744909200@lowcountryfoodbank.org
SUMMARY:Edisto Island
DESCRIPTION:
URL:https://lowcountryfoodbank.org/event/edisto-island-44/
LOCATION:The Presbyterian Church on Edisto\, 2164 Hwy 174\, Edisto Island\, SC\, 29438
END:VEVENT
BEGIN:VEVENT
DTSTART;TZID=America/New_York:20250417T150000
DTEND;TZID=America/New_York:20250417T170000
DTSTAMP:20260425T153056
CREATED:20250110T201043Z
LAST-MODIFIED:20250110T201043Z
UID:10005024-1744902000-1744909200@lowcountryfoodbank.org
SUMMARY:Charleston
DESCRIPTION:
URL:https://lowcountryfoodbank.org/event/charleston-214/
LOCATION:Charleston Jewish Federation\, 155 Jackson Street\, Charleston\, SC\, 29403\, United States
GEO:32.7992853;-79.9392488
X-APPLE-STRUCTURED-LOCATION;VALUE=URI;X-ADDRESS=Charleston Jewish Federation 155 Jackson Street Charleston SC 29403 United States;X-APPLE-RADIUS=500;X-TITLE=155 Jackson Street:geo:-79.9392488,32.7992853
END:VEVENT
BEGIN:VEVENT
DTSTART;TZID=America/New_York:20250418T143000
DTEND;TZID=America/New_York:20250418T163000
DTSTAMP:20260425T153056
CREATED:20250110T201046Z
LAST-MODIFIED:20250110T201046Z
UID:10005027-1744986600-1744993800@lowcountryfoodbank.org
SUMMARY:Murrells Inlet
DESCRIPTION:
URL:https://lowcountryfoodbank.org/event/murrells-inlet-43/
LOCATION:Inlet Food Pantry\, 4581 Old River Road\, Murrells Inlet\, SC\, 29576\, United States
GEO:33.5459662;-79.0767305
X-APPLE-STRUCTURED-LOCATION;VALUE=URI;X-ADDRESS=Inlet Food Pantry 4581 Old River Road Murrells Inlet SC 29576 United States;X-APPLE-RADIUS=500;X-TITLE=4581 Old River Road:geo:-79.0767305,33.5459662
END:VEVENT
BEGIN:VEVENT
DTSTART;TZID=America/New_York:20250419T071500
DTEND;TZID=America/New_York:20250419T093000
DTSTAMP:20260425T153056
CREATED:20250110T201114Z
LAST-MODIFIED:20250110T201114Z
UID:10005029-1745046900-1745055000@lowcountryfoodbank.org
SUMMARY:Surfside
DESCRIPTION:
URL:https://lowcountryfoodbank.org/event/surfside-33/
LOCATION:Faith Outreach Ministries of the Grand Strand\, 8901 US Hwy 17 Bypass South\, Surfside\, SC\, 29575\, United States
GEO:33.6105689;-79.0119849
X-APPLE-STRUCTURED-LOCATION;VALUE=URI;X-ADDRESS=Faith Outreach Ministries of the Grand Strand 8901 US Hwy 17 Bypass South Surfside SC 29575 United States;X-APPLE-RADIUS=500;X-TITLE=8901 US Hwy 17 Bypass South:geo:-79.0119849,33.6105689
END:VEVENT
BEGIN:VEVENT
DTSTART;TZID=America/New_York:20250419T080000
DTEND;TZID=America/New_York:20250419T100000
DTSTAMP:20260425T153056
CREATED:20250110T201116Z
LAST-MODIFIED:20250110T201116Z
UID:10005031-1745049600-1745056800@lowcountryfoodbank.org
SUMMARY:North Charleston
DESCRIPTION:
URL:https://lowcountryfoodbank.org/event/north-charleston-160/
LOCATION:Revive Charleston\, 1527 Remount Road\, North Charleston\, SC\, 29406\, United States
GEO:32.9004453;-80.0029649
X-APPLE-STRUCTURED-LOCATION;VALUE=URI;X-ADDRESS=Revive Charleston 1527 Remount Road North Charleston SC 29406 United States;X-APPLE-RADIUS=500;X-TITLE=1527 Remount Road:geo:-80.0029649,32.9004453
END:VEVENT
BEGIN:VEVENT
DTSTART;TZID=America/New_York:20250419T083000
DTEND;TZID=America/New_York:20250419T103000
DTSTAMP:20260425T153056
CREATED:20250110T201115Z
LAST-MODIFIED:20250110T201115Z
UID:10005030-1745051400-1745058600@lowcountryfoodbank.org
SUMMARY:North Charleston
DESCRIPTION:
URL:https://lowcountryfoodbank.org/event/north-charleston-159/
LOCATION:Park Circle Cares\, Inc.\, NCHS\, 1087 East Montague Avenue\, North Charleston\, SC\, 29405\, United States
GEO:32.8804901;-79.978717
X-APPLE-STRUCTURED-LOCATION;VALUE=URI;X-ADDRESS=Park Circle Cares Inc. NCHS 1087 East Montague Avenue North Charleston SC 29405 United States;X-APPLE-RADIUS=500;X-TITLE=NCHS\, 1087 East Montague Avenue:geo:-79.978717,32.8804901
END:VEVENT
BEGIN:VEVENT
DTSTART;TZID=America/New_York:20250419T090000
DTEND;TZID=America/New_York:20250419T110000
DTSTAMP:20260425T153056
CREATED:20250110T201117Z
LAST-MODIFIED:20250110T201117Z
UID:10005032-1745053200-1745060400@lowcountryfoodbank.org
SUMMARY:Conway
DESCRIPTION:
URL:https://lowcountryfoodbank.org/event/conway-158/
LOCATION:SC
END:VEVENT
BEGIN:VEVENT
DTSTART;TZID=America/New_York:20250419T093000
DTEND;TZID=America/New_York:20250419T110000
DTSTAMP:20260425T153056
CREATED:20250110T201113Z
LAST-MODIFIED:20250110T201113Z
UID:10005028-1745055000-1745060400@lowcountryfoodbank.org
SUMMARY:Moncks Corner
DESCRIPTION:
URL:https://lowcountryfoodbank.org/event/moncks-corner-134/
LOCATION:Faith Assembly Moncks Corner\, 2186 N. Hwy 52\, Moncks Corner\, SC\, 29461\, United States
GEO:33.183454;-80.014112
X-APPLE-STRUCTURED-LOCATION;VALUE=URI;X-ADDRESS=Faith Assembly Moncks Corner 2186 N. Hwy 52 Moncks Corner SC 29461 United States;X-APPLE-RADIUS=500;X-TITLE=2186 N. Hwy 52:geo:-80.014112,33.183454
END:VEVENT
END:VCALENDAR