BEGIN:VCALENDAR
VERSION:2.0
PRODID:-//Lowcountry Food Bank - ECPv6.15.20//NONSGML v1.0//EN
CALSCALE:GREGORIAN
METHOD:PUBLISH
X-ORIGINAL-URL:https://lowcountryfoodbank.org
X-WR-CALDESC:Events for Lowcountry Food Bank
REFRESH-INTERVAL;VALUE=DURATION:PT1H
X-Robots-Tag:noindex
X-PUBLISHED-TTL:PT1H
BEGIN:VTIMEZONE
TZID:America/New_York
BEGIN:DAYLIGHT
TZOFFSETFROM:-0500
TZOFFSETTO:-0400
TZNAME:EDT
DTSTART:20240310T070000
END:DAYLIGHT
BEGIN:STANDARD
TZOFFSETFROM:-0400
TZOFFSETTO:-0500
TZNAME:EST
DTSTART:20241103T060000
END:STANDARD
BEGIN:DAYLIGHT
TZOFFSETFROM:-0500
TZOFFSETTO:-0400
TZNAME:EDT
DTSTART:20250309T070000
END:DAYLIGHT
BEGIN:STANDARD
TZOFFSETFROM:-0400
TZOFFSETTO:-0500
TZNAME:EST
DTSTART:20251102T060000
END:STANDARD
BEGIN:DAYLIGHT
TZOFFSETFROM:-0500
TZOFFSETTO:-0400
TZNAME:EDT
DTSTART:20260308T070000
END:DAYLIGHT
BEGIN:STANDARD
TZOFFSETFROM:-0400
TZOFFSETTO:-0500
TZNAME:EST
DTSTART:20261101T060000
END:STANDARD
END:VTIMEZONE
BEGIN:VEVENT
DTSTART;TZID=America/New_York:20250616T120000
DTEND;TZID=America/New_York:20250616T140000
DTSTAMP:20260423T230705
CREATED:20250218T210123Z
LAST-MODIFIED:20250218T211320Z
UID:10005341-1750075200-1750082400@lowcountryfoodbank.org
SUMMARY:Bluffton
DESCRIPTION:
URL:https://lowcountryfoodbank.org/event/bluffton-79/
LOCATION:The Church of The Cross Food Bank\, 15 Centre Drive\, Bluffton\, SC\, 29910
CATEGORIES:Fresh Xpress Produce Distribution
END:VEVENT
BEGIN:VEVENT
DTSTART;TZID=America/New_York:20250617T093000
DTEND;TZID=America/New_York:20250617T120000
DTSTAMP:20260423T230705
CREATED:20250110T201616Z
LAST-MODIFIED:20250110T201616Z
UID:10005082-1750152600-1750161600@lowcountryfoodbank.org
SUMMARY:Walterboro
DESCRIPTION:
URL:https://lowcountryfoodbank.org/event/walterboro-85/
LOCATION:Mt. Olive Baptist Walterboro\, 329 Savage Street\, Walterboro\, SC\, 29488
END:VEVENT
BEGIN:VEVENT
DTSTART;TZID=America/New_York:20250618T100000
DTEND;TZID=America/New_York:20250618T113000
DTSTAMP:20260423T230705
CREATED:20250110T201643Z
LAST-MODIFIED:20250110T201643Z
UID:10005083-1750240800-1750246200@lowcountryfoodbank.org
SUMMARY:St. George
DESCRIPTION:
URL:https://lowcountryfoodbank.org/event/st-george-105/
LOCATION:Bethel Outreach Minsitries\, 5585 Memorial Blvd.\, St. George\, SC\, 29477
END:VEVENT
BEGIN:VEVENT
DTSTART;TZID=America/New_York:20250618T100000
DTEND;TZID=America/New_York:20250618T120000
DTSTAMP:20260423T230705
CREATED:20250609T140041Z
LAST-MODIFIED:20250609T140108Z
UID:10005406-1750240800-1750248000@lowcountryfoodbank.org
SUMMARY:Ridgeland
DESCRIPTION:
URL:https://lowcountryfoodbank.org/event/ridgeland-34/
LOCATION:Ridgeland Elementary School\, 250 Jaguar Trail\, Ridgeland\, SC\, 29936\, United States
CATEGORIES:Mobile Pantry
GEO:32.5006707;-80.987539
X-APPLE-STRUCTURED-LOCATION;VALUE=URI;X-ADDRESS=Ridgeland Elementary School 250 Jaguar Trail Ridgeland SC 29936 United States;X-APPLE-RADIUS=500;X-TITLE=250 Jaguar Trail:geo:-80.987539,32.5006707
END:VEVENT
BEGIN:VEVENT
DTSTART;TZID=America/New_York:20250620T143000
DTEND;TZID=America/New_York:20250620T163000
DTSTAMP:20260423T230705
CREATED:20250110T201646Z
LAST-MODIFIED:20250110T201646Z
UID:10005087-1750429800-1750437000@lowcountryfoodbank.org
SUMMARY:Murrells Inlet
DESCRIPTION:
URL:https://lowcountryfoodbank.org/event/murrells-inlet-45/
LOCATION:Inlet Food Pantry\, 4581 Old River Road\, Murrells Inlet\, SC\, 29576\, United States
GEO:33.5459662;-79.0767305
X-APPLE-STRUCTURED-LOCATION;VALUE=URI;X-ADDRESS=Inlet Food Pantry 4581 Old River Road Murrells Inlet SC 29576 United States;X-APPLE-RADIUS=500;X-TITLE=4581 Old River Road:geo:-79.0767305,33.5459662
END:VEVENT
BEGIN:VEVENT
DTSTART;TZID=America/New_York:20250621T071500
DTEND;TZID=America/New_York:20250621T093000
DTSTAMP:20260423T230705
CREATED:20250110T201714Z
LAST-MODIFIED:20250110T201714Z
UID:10005089-1750490100-1750498200@lowcountryfoodbank.org
SUMMARY:Surfside
DESCRIPTION:
URL:https://lowcountryfoodbank.org/event/surfside-35/
LOCATION:Faith Outreach Ministries of the Grand Strand\, 8901 US Hwy 17 Bypass South\, Surfside\, SC\, 29575\, United States
GEO:33.6105689;-79.0119849
X-APPLE-STRUCTURED-LOCATION;VALUE=URI;X-ADDRESS=Faith Outreach Ministries of the Grand Strand 8901 US Hwy 17 Bypass South Surfside SC 29575 United States;X-APPLE-RADIUS=500;X-TITLE=8901 US Hwy 17 Bypass South:geo:-79.0119849,33.6105689
END:VEVENT
BEGIN:VEVENT
DTSTART;TZID=America/New_York:20250621T080000
DTEND;TZID=America/New_York:20250621T100000
DTSTAMP:20260423T230705
CREATED:20250110T201716Z
LAST-MODIFIED:20250110T201716Z
UID:10005091-1750492800-1750500000@lowcountryfoodbank.org
SUMMARY:North Charleston
DESCRIPTION:
URL:https://lowcountryfoodbank.org/event/north-charleston-166/
LOCATION:Revive Charleston\, 1527 Remount Road\, North Charleston\, SC\, 29406\, United States
GEO:32.9004453;-80.0029649
X-APPLE-STRUCTURED-LOCATION;VALUE=URI;X-ADDRESS=Revive Charleston 1527 Remount Road North Charleston SC 29406 United States;X-APPLE-RADIUS=500;X-TITLE=1527 Remount Road:geo:-80.0029649,32.9004453
END:VEVENT
BEGIN:VEVENT
DTSTART;TZID=America/New_York:20250621T083000
DTEND;TZID=America/New_York:20250621T103000
DTSTAMP:20260423T230705
CREATED:20250110T201715Z
LAST-MODIFIED:20250110T201715Z
UID:10005090-1750494600-1750501800@lowcountryfoodbank.org
SUMMARY:North Charleston
DESCRIPTION:
URL:https://lowcountryfoodbank.org/event/north-charleston-165/
LOCATION:Park Circle Cares\, Inc.\, NCHS\, 1087 East Montague Avenue\, North Charleston\, SC\, 29405\, United States
GEO:32.8804901;-79.978717
X-APPLE-STRUCTURED-LOCATION;VALUE=URI;X-ADDRESS=Park Circle Cares Inc. NCHS 1087 East Montague Avenue North Charleston SC 29405 United States;X-APPLE-RADIUS=500;X-TITLE=NCHS\, 1087 East Montague Avenue:geo:-79.978717,32.8804901
END:VEVENT
BEGIN:VEVENT
DTSTART;TZID=America/New_York:20250621T090000
DTEND;TZID=America/New_York:20250621T110000
DTSTAMP:20260423T230705
CREATED:20250110T201717Z
LAST-MODIFIED:20250110T201717Z
UID:10005092-1750496400-1750503600@lowcountryfoodbank.org
SUMMARY:Conway
DESCRIPTION:
URL:https://lowcountryfoodbank.org/event/conway-162/
LOCATION:SC
END:VEVENT
BEGIN:VEVENT
DTSTART;TZID=America/New_York:20250621T093000
DTEND;TZID=America/New_York:20250621T110000
DTSTAMP:20260423T230705
CREATED:20250110T201713Z
LAST-MODIFIED:20250110T201713Z
UID:10005088-1750498200-1750503600@lowcountryfoodbank.org
SUMMARY:Moncks Corner
DESCRIPTION:
URL:https://lowcountryfoodbank.org/event/moncks-corner-137/
LOCATION:Faith Assembly Moncks Corner\, 2186 N. Hwy 52\, Moncks Corner\, SC\, 29461\, United States
GEO:33.183454;-80.014112
X-APPLE-STRUCTURED-LOCATION;VALUE=URI;X-ADDRESS=Faith Assembly Moncks Corner 2186 N. Hwy 52 Moncks Corner SC 29461 United States;X-APPLE-RADIUS=500;X-TITLE=2186 N. Hwy 52:geo:-80.014112,33.183454
END:VEVENT
BEGIN:VEVENT
DTSTART;TZID=America/New_York:20250621T100000
DTEND;TZID=America/New_York:20250621T120000
DTSTAMP:20260423T230705
CREATED:20250605T125105Z
LAST-MODIFIED:20250605T125105Z
UID:10005398-1750500000-1750507200@lowcountryfoodbank.org
SUMMARY:North Myrtle Beach
DESCRIPTION:
URL:https://lowcountryfoodbank.org/event/north-myrtle-beach-18/
LOCATION:North Myrtle Beach Farmers Market\, 925 First Avenue South\, North Myrtle Beach\, SC\, 29582\, United States
CATEGORIES:Client Choice Market
END:VEVENT
BEGIN:VEVENT
DTSTART;TZID=America/New_York:20250621T100000
DTEND;TZID=America/New_York:20250621T120000
DTSTAMP:20260423T230705
CREATED:20250611T175913Z
LAST-MODIFIED:20250616T132602Z
UID:10005407-1750500000-1750507200@lowcountryfoodbank.org
SUMMARY:Walterboro
DESCRIPTION:
URL:https://lowcountryfoodbank.org/event/walterboro-ruffin/
LOCATION:Colleton County Dept. of Social Services\, 225 Lemacks Street\, Walterboro\, 29488\, United States
CATEGORIES:Client Choice Market
END:VEVENT
END:VCALENDAR