BEGIN:VCALENDAR
VERSION:2.0
PRODID:-//Lowcountry Food Bank - ECPv6.15.20//NONSGML v1.0//EN
CALSCALE:GREGORIAN
METHOD:PUBLISH
X-WR-CALNAME:Lowcountry Food Bank
X-ORIGINAL-URL:https://lowcountryfoodbank.org
X-WR-CALDESC:Events for Lowcountry Food Bank
REFRESH-INTERVAL;VALUE=DURATION:PT1H
X-Robots-Tag:noindex
X-PUBLISHED-TTL:PT1H
BEGIN:VTIMEZONE
TZID:America/New_York
BEGIN:DAYLIGHT
TZOFFSETFROM:-0500
TZOFFSETTO:-0400
TZNAME:EDT
DTSTART:20240310T070000
END:DAYLIGHT
BEGIN:STANDARD
TZOFFSETFROM:-0400
TZOFFSETTO:-0500
TZNAME:EST
DTSTART:20241103T060000
END:STANDARD
BEGIN:DAYLIGHT
TZOFFSETFROM:-0500
TZOFFSETTO:-0400
TZNAME:EDT
DTSTART:20250309T070000
END:DAYLIGHT
BEGIN:STANDARD
TZOFFSETFROM:-0400
TZOFFSETTO:-0500
TZNAME:EST
DTSTART:20251102T060000
END:STANDARD
BEGIN:DAYLIGHT
TZOFFSETFROM:-0500
TZOFFSETTO:-0400
TZNAME:EDT
DTSTART:20260308T070000
END:DAYLIGHT
BEGIN:STANDARD
TZOFFSETFROM:-0400
TZOFFSETTO:-0500
TZNAME:EST
DTSTART:20261101T060000
END:STANDARD
END:VTIMEZONE
BEGIN:VEVENT
DTSTART;TZID=America/New_York:20250819T093000
DTEND;TZID=America/New_York:20250819T120000
DTSTAMP:20260423T235758
CREATED:20250110T202719Z
LAST-MODIFIED:20250122T140721Z
UID:10005146-1755595800-1755604800@lowcountryfoodbank.org
SUMMARY:Walterboro
DESCRIPTION:
URL:https://lowcountryfoodbank.org/event/walterboro-88/
LOCATION:Mt. Olive Baptist Walterboro\, 329 Savage Street\, Walterboro\, SC\, 29488
CATEGORIES:Fresh Xpress Produce Distribution
END:VEVENT
BEGIN:VEVENT
DTSTART;TZID=America/New_York:20250820T090000
DTEND;TZID=America/New_York:20250820T120000
DTSTAMP:20260423T235758
CREATED:20250122T140921Z
LAST-MODIFIED:20250616T205241Z
UID:10005152-1755680400-1755691200@lowcountryfoodbank.org
SUMMARY:Mt. Pleasant
DESCRIPTION:
URL:https://lowcountryfoodbank.org/event/mt-pleasant-21/
LOCATION:East Cooper Community Outreach\, 1145 Six Mile Rd\, Mt. Pleasant\, SC\, 29466\, United States
CATEGORIES:Fresh Xpress Produce Distribution
GEO:32.8399487;-79.8157781
X-APPLE-STRUCTURED-LOCATION;VALUE=URI;X-ADDRESS=East Cooper Community Outreach 1145 Six Mile Rd Mt. Pleasant SC 29466 United States;X-APPLE-RADIUS=500;X-TITLE=1145 Six Mile Rd:geo:-79.8157781,32.8399487
END:VEVENT
BEGIN:VEVENT
DTSTART;TZID=America/New_York:20250820T100000
DTEND;TZID=America/New_York:20250820T113000
DTSTAMP:20260423T235758
CREATED:20250110T202720Z
LAST-MODIFIED:20250122T140722Z
UID:10005147-1755684000-1755689400@lowcountryfoodbank.org
SUMMARY:St. George
DESCRIPTION:
URL:https://lowcountryfoodbank.org/event/st-george-108/
LOCATION:Bethel Outreach Minsitries\, 5585 Memorial Blvd.\, St. George\, SC\, 29477
CATEGORIES:Fresh Xpress Produce Distribution
END:VEVENT
BEGIN:VEVENT
DTSTART;TZID=America/New_York:20250820T160000
DTEND;TZID=America/New_York:20250820T180000
DTSTAMP:20260423T235758
CREATED:20250805T171643Z
LAST-MODIFIED:20250805T171643Z
UID:10005449-1755705600-1755712800@lowcountryfoodbank.org
SUMMARY:Cross
DESCRIPTION:
URL:https://lowcountryfoodbank.org/event/cross-10/
LOCATION:Cross High School\, 1293 Old Highway 6\, Cross\, 29436\, United States
CATEGORIES:Mobile Pantry
END:VEVENT
BEGIN:VEVENT
DTSTART;TZID=America/New_York:20250821T100000
DTEND;TZID=America/New_York:20250821T120000
DTSTAMP:20260423T235758
CREATED:20250811T142407Z
LAST-MODIFIED:20250811T142407Z
UID:10005451-1755770400-1755777600@lowcountryfoodbank.org
SUMMARY:Greeleyville
DESCRIPTION:
URL:https://lowcountryfoodbank.org/event/greeleyville-13/
LOCATION:Greeleyville STEAM Academy\, 7 Varner Ave\, Greeleyville\, SC\, 29056\, United States
CATEGORIES:Mobile Pantry
GEO:33.5737788;-79.990378
X-APPLE-STRUCTURED-LOCATION;VALUE=URI;X-ADDRESS=Greeleyville STEAM Academy 7 Varner Ave Greeleyville SC 29056 United States;X-APPLE-RADIUS=500;X-TITLE=7 Varner Ave:geo:-79.990378,33.5737788
END:VEVENT
BEGIN:VEVENT
DTSTART;TZID=America/New_York:20250821T130000
DTEND;TZID=America/New_York:20250821T170000
DTSTAMP:20260423T235758
CREATED:20250122T140922Z
LAST-MODIFIED:20250122T140922Z
UID:10005153-1755781200-1755795600@lowcountryfoodbank.org
SUMMARY:Edisto Island
DESCRIPTION:
URL:https://lowcountryfoodbank.org/event/edisto-island-48/
LOCATION:The Presbyterian Church on Edisto\, 2164 Hwy 174\, Edisto Island\, SC\, 29438
CATEGORIES:Fresh Xpress Produce Distribution
END:VEVENT
BEGIN:VEVENT
DTSTART;TZID=America/New_York:20250821T150000
DTEND;TZID=America/New_York:20250821T170000
DTSTAMP:20260423T235758
CREATED:20250122T140723Z
LAST-MODIFIED:20250122T140723Z
UID:10005151-1755788400-1755795600@lowcountryfoodbank.org
SUMMARY:Charleston
DESCRIPTION:
URL:https://lowcountryfoodbank.org/event/charleston-90/
LOCATION:Charleston Jewish Federation\, 155 Jackson Street\, Charleston\, SC\, 29403\, United States
CATEGORIES:Fresh Xpress Produce Distribution
GEO:32.7992853;-79.9392488
X-APPLE-STRUCTURED-LOCATION;VALUE=URI;X-ADDRESS=Charleston Jewish Federation 155 Jackson Street Charleston SC 29403 United States;X-APPLE-RADIUS=500;X-TITLE=155 Jackson Street:geo:-79.9392488,32.7992853
END:VEVENT
BEGIN:VEVENT
DTSTART;TZID=America/New_York:20250823T090000
DTEND;TZID=America/New_York:20250823T103000
DTSTAMP:20260423T235758
CREATED:20250122T140925Z
LAST-MODIFIED:20250122T140925Z
UID:10005156-1755939600-1755945000@lowcountryfoodbank.org
SUMMARY:Pineville
DESCRIPTION:
URL:https://lowcountryfoodbank.org/event/pineville-22/
LOCATION:Redeemer RE Church\, 2173 Highway 45\, Pineville\, SC\, 29468\, United States
CATEGORIES:Fresh Xpress Produce Distribution
GEO:33.4283619;-80.0315294
X-APPLE-STRUCTURED-LOCATION;VALUE=URI;X-ADDRESS=Redeemer RE Church 2173 Highway 45 Pineville SC 29468 United States;X-APPLE-RADIUS=500;X-TITLE=2173 Highway 45:geo:-80.0315294,33.4283619
END:VEVENT
BEGIN:VEVENT
DTSTART;TZID=America/New_York:20250823T090000
DTEND;TZID=America/New_York:20250823T110000
DTSTAMP:20260423T235758
CREATED:20250811T143141Z
LAST-MODIFIED:20250811T143206Z
UID:10005452-1755939600-1755946800@lowcountryfoodbank.org
SUMMARY:Georgetown
DESCRIPTION:
URL:https://lowcountryfoodbank.org/event/georgetown-22/
LOCATION:First Baptist Church\, 219 Cleland Street\, Georgetown\, SC\, 29440\, United States
CATEGORIES:Mobile Pantry
END:VEVENT
BEGIN:VEVENT
DTSTART;TZID=America/New_York:20250823T090000
DTEND;TZID=America/New_York:20250823T120000
DTSTAMP:20260423T235758
CREATED:20250122T140923Z
LAST-MODIFIED:20250218T212942Z
UID:10005154-1755939600-1755950400@lowcountryfoodbank.org
SUMMARY:Choppee-Georgetown
DESCRIPTION:
URL:https://lowcountryfoodbank.org/event/pawleys-island-20/
LOCATION:Choppee Recreation Center\, 8259 Choppee Rd.\, Georgetown\, SC\, 29440\, United States
CATEGORIES:Fresh Xpress Produce Distribution
END:VEVENT
BEGIN:VEVENT
DTSTART;TZID=America/New_York:20250823T090000
DTEND;TZID=America/New_York:20250823T120000
DTSTAMP:20260423T235758
CREATED:20250122T140924Z
LAST-MODIFIED:20250122T140924Z
UID:10005155-1755939600-1755950400@lowcountryfoodbank.org
SUMMARY:Andrews
DESCRIPTION:
URL:https://lowcountryfoodbank.org/event/andrews-15/
LOCATION:Ebenezer Missionary Baptist Church\, 1207 Martin Luther King Dr\, Andrews\, SC\, 29440\, United States
CATEGORIES:Fresh Xpress Produce Distribution
GEO:33.4508996;-79.5718712
X-APPLE-STRUCTURED-LOCATION;VALUE=URI;X-ADDRESS=Ebenezer Missionary Baptist Church 1207 Martin Luther King Dr Andrews SC 29440 United States;X-APPLE-RADIUS=500;X-TITLE=1207 Martin Luther King Dr:geo:-79.5718712,33.4508996
END:VEVENT
END:VCALENDAR