BEGIN:VCALENDAR
VERSION:2.0
PRODID:-//Lowcountry Food Bank - ECPv6.15.20//NONSGML v1.0//EN
CALSCALE:GREGORIAN
METHOD:PUBLISH
X-WR-CALNAME:Lowcountry Food Bank
X-ORIGINAL-URL:https://lowcountryfoodbank.org
X-WR-CALDESC:Events for Lowcountry Food Bank
REFRESH-INTERVAL;VALUE=DURATION:PT1H
X-Robots-Tag:noindex
X-PUBLISHED-TTL:PT1H
BEGIN:VTIMEZONE
TZID:America/New_York
BEGIN:DAYLIGHT
TZOFFSETFROM:-0500
TZOFFSETTO:-0400
TZNAME:EDT
DTSTART:20210314T070000
END:DAYLIGHT
BEGIN:STANDARD
TZOFFSETFROM:-0400
TZOFFSETTO:-0500
TZNAME:EST
DTSTART:20211107T060000
END:STANDARD
BEGIN:DAYLIGHT
TZOFFSETFROM:-0500
TZOFFSETTO:-0400
TZNAME:EDT
DTSTART:20220313T070000
END:DAYLIGHT
BEGIN:STANDARD
TZOFFSETFROM:-0400
TZOFFSETTO:-0500
TZNAME:EST
DTSTART:20221106T060000
END:STANDARD
BEGIN:DAYLIGHT
TZOFFSETFROM:-0500
TZOFFSETTO:-0400
TZNAME:EDT
DTSTART:20230312T070000
END:DAYLIGHT
BEGIN:STANDARD
TZOFFSETFROM:-0400
TZOFFSETTO:-0500
TZNAME:EST
DTSTART:20231105T060000
END:STANDARD
BEGIN:DAYLIGHT
TZOFFSETFROM:-0500
TZOFFSETTO:-0400
TZNAME:EDT
DTSTART:20240310T070000
END:DAYLIGHT
BEGIN:STANDARD
TZOFFSETFROM:-0400
TZOFFSETTO:-0500
TZNAME:EST
DTSTART:20241103T060000
END:STANDARD
BEGIN:DAYLIGHT
TZOFFSETFROM:-0500
TZOFFSETTO:-0400
TZNAME:EDT
DTSTART:20250309T070000
END:DAYLIGHT
BEGIN:STANDARD
TZOFFSETFROM:-0400
TZOFFSETTO:-0500
TZNAME:EST
DTSTART:20251102T060000
END:STANDARD
BEGIN:DAYLIGHT
TZOFFSETFROM:-0500
TZOFFSETTO:-0400
TZNAME:EDT
DTSTART:20260308T070000
END:DAYLIGHT
BEGIN:STANDARD
TZOFFSETFROM:-0400
TZOFFSETTO:-0500
TZNAME:EST
DTSTART:20261101T060000
END:STANDARD
BEGIN:DAYLIGHT
TZOFFSETFROM:-0500
TZOFFSETTO:-0400
TZNAME:EDT
DTSTART:20270314T070000
END:DAYLIGHT
BEGIN:STANDARD
TZOFFSETFROM:-0400
TZOFFSETTO:-0500
TZNAME:EST
DTSTART:20271107T060000
END:STANDARD
END:VTIMEZONE
BEGIN:VEVENT
DTSTART;TZID=America/New_York:20260402T150000
DTEND;TZID=America/New_York:20260402T170000
DTSTAMP:20260420T142731
CREATED:20260324T112912Z
LAST-MODIFIED:20260324T112912Z
UID:10006039-1775142000-1775149200@lowcountryfoodbank.org
SUMMARY:Ruffin
DESCRIPTION:
URL:https://lowcountryfoodbank.org/event/ruffin-12/
LOCATION:Bells Elementary School\, 12088 Bells Highway\, Ruffin\, SC\, 29475\, United States
CATEGORIES:Mobile Pantry
GEO:32.981512;-80.852257
X-APPLE-STRUCTURED-LOCATION;VALUE=URI;X-ADDRESS=Bells Elementary School 12088 Bells Highway Ruffin SC 29475 United States;X-APPLE-RADIUS=500;X-TITLE=12088 Bells Highway:geo:-80.852257,32.981512
END:VEVENT
BEGIN:VEVENT
DTSTART;TZID=America/New_York:20251118T150000
DTEND;TZID=America/New_York:20251118T170000
DTSTAMP:20260420T142731
CREATED:20251104T140754Z
LAST-MODIFIED:20251104T140754Z
UID:10005497-1763478000-1763485200@lowcountryfoodbank.org
SUMMARY:Ruffin
DESCRIPTION:
URL:https://lowcountryfoodbank.org/event/ruffin-11/
LOCATION:Bells Elementary School\, 12088 Bells Highway\, Ruffin\, SC\, 29475\, United States
CATEGORIES:Mobile Pantry
GEO:32.981512;-80.852257
X-APPLE-STRUCTURED-LOCATION;VALUE=URI;X-ADDRESS=Bells Elementary School 12088 Bells Highway Ruffin SC 29475 United States;X-APPLE-RADIUS=500;X-TITLE=12088 Bells Highway:geo:-80.852257,32.981512
END:VEVENT
BEGIN:VEVENT
DTSTART;TZID=America/New_York:20250409T150000
DTEND;TZID=America/New_York:20250409T170000
DTSTAMP:20260420T142731
CREATED:20250326T131302Z
LAST-MODIFIED:20250326T131302Z
UID:10005364-1744210800-1744218000@lowcountryfoodbank.org
SUMMARY:Ruffin
DESCRIPTION:
URL:https://lowcountryfoodbank.org/event/ruffin-10/
LOCATION:Bells Elementary School\, 12088 Bells Highway\, Ruffin\, SC\, 29475\, United States
CATEGORIES:Mobile Pantry
GEO:32.981512;-80.852257
X-APPLE-STRUCTURED-LOCATION;VALUE=URI;X-ADDRESS=Bells Elementary School 12088 Bells Highway Ruffin SC 29475 United States;X-APPLE-RADIUS=500;X-TITLE=12088 Bells Highway:geo:-80.852257,32.981512
END:VEVENT
BEGIN:VEVENT
DTSTART;TZID=America/New_York:20241113T150000
DTEND;TZID=America/New_York:20241113T170000
DTSTAMP:20260420T142731
CREATED:20240930T173753Z
LAST-MODIFIED:20240930T173753Z
UID:10004876-1731510000-1731517200@lowcountryfoodbank.org
SUMMARY:Ruffin
DESCRIPTION:
URL:https://lowcountryfoodbank.org/event/ruffin-9/
LOCATION:Bells Elementary School\, 12088 Bells Highway\, Ruffin\, SC\, 29475\, United States
CATEGORIES:Mobile Pantry
GEO:32.981512;-80.852257
X-APPLE-STRUCTURED-LOCATION;VALUE=URI;X-ADDRESS=Bells Elementary School 12088 Bells Highway Ruffin SC 29475 United States;X-APPLE-RADIUS=500;X-TITLE=12088 Bells Highway:geo:-80.852257,32.981512
END:VEVENT
BEGIN:VEVENT
DTSTART;TZID=America/New_York:20241113T150000
DTEND;TZID=America/New_York:20241113T170000
DTSTAMP:20260420T142731
CREATED:20240924T170549Z
LAST-MODIFIED:20240924T170549Z
UID:10004864-1731510000-1731517200@lowcountryfoodbank.org
SUMMARY:Ruffin
DESCRIPTION:
URL:https://lowcountryfoodbank.org/event/ruffin-8/
LOCATION:Bells Elementary School\, 12088 Bells Highway\, Ruffin\, SC\, 29475\, United States
CATEGORIES:Mobile Pantry
GEO:32.981512;-80.852257
X-APPLE-STRUCTURED-LOCATION;VALUE=URI;X-ADDRESS=Bells Elementary School 12088 Bells Highway Ruffin SC 29475 United States;X-APPLE-RADIUS=500;X-TITLE=12088 Bells Highway:geo:-80.852257,32.981512
END:VEVENT
BEGIN:VEVENT
DTSTART;TZID=America/New_York:20240517T150000
DTEND;TZID=America/New_York:20240517T170000
DTSTAMP:20260420T142731
CREATED:20240422T140948Z
LAST-MODIFIED:20240422T140948Z
UID:10004773-1715958000-1715965200@lowcountryfoodbank.org
SUMMARY:Ruffin
DESCRIPTION:
URL:https://lowcountryfoodbank.org/event/ruffin-7/
LOCATION:Bells Elementary School\, 12088 Bells Highway\, Ruffin\, SC\, 29475\, United States
CATEGORIES:Mobile Pantry
GEO:32.981512;-80.852257
X-APPLE-STRUCTURED-LOCATION;VALUE=URI;X-ADDRESS=Bells Elementary School 12088 Bells Highway Ruffin SC 29475 United States;X-APPLE-RADIUS=500;X-TITLE=12088 Bells Highway:geo:-80.852257,32.981512
END:VEVENT
BEGIN:VEVENT
DTSTART;TZID=America/New_York:20240130T150000
DTEND;TZID=America/New_York:20240130T170000
DTSTAMP:20260420T142731
CREATED:20240118T175018Z
LAST-MODIFIED:20240118T175018Z
UID:10004671-1706626800-1706634000@lowcountryfoodbank.org
SUMMARY:Ruffin
DESCRIPTION:
URL:https://lowcountryfoodbank.org/event/ruffin-6/
LOCATION:Bells Elementary School\, 12088 Bells Highway\, Ruffin\, SC\, 29475\, United States
CATEGORIES:Mobile Pantry
GEO:32.981512;-80.852257
X-APPLE-STRUCTURED-LOCATION;VALUE=URI;X-ADDRESS=Bells Elementary School 12088 Bells Highway Ruffin SC 29475 United States;X-APPLE-RADIUS=500;X-TITLE=12088 Bells Highway:geo:-80.852257,32.981512
END:VEVENT
BEGIN:VEVENT
DTSTART;TZID=America/New_York:20230505T150000
DTEND;TZID=America/New_York:20230505T170000
DTSTAMP:20260420T142731
CREATED:20230410T141943Z
LAST-MODIFIED:20230410T142133Z
UID:10004107-1683298800-1683306000@lowcountryfoodbank.org
SUMMARY:Ruffin
DESCRIPTION:
URL:https://lowcountryfoodbank.org/event/ruffin-5/
LOCATION:Bells Elementary School\, 12088 Bells Highway\, Ruffin\, SC\, 29475\, United States
CATEGORIES:Mobile Pantry
GEO:32.981512;-80.852257
X-APPLE-STRUCTURED-LOCATION;VALUE=URI;X-ADDRESS=Bells Elementary School 12088 Bells Highway Ruffin SC 29475 United States;X-APPLE-RADIUS=500;X-TITLE=12088 Bells Highway:geo:-80.852257,32.981512
END:VEVENT
BEGIN:VEVENT
DTSTART;TZID=America/New_York:20230201T150000
DTEND;TZID=America/New_York:20230201T170000
DTSTAMP:20260420T142731
CREATED:20230127T130744Z
LAST-MODIFIED:20230127T130744Z
UID:10004065-1675263600-1675270800@lowcountryfoodbank.org
SUMMARY:Ruffin
DESCRIPTION:
URL:https://lowcountryfoodbank.org/event/ruffin-4/
LOCATION:Bells Elementary School\, 12088 Bells Highway\, Ruffin\, SC\, 29475\, United States
CATEGORIES:Mobile Pantry
GEO:32.981512;-80.852257
X-APPLE-STRUCTURED-LOCATION;VALUE=URI;X-ADDRESS=Bells Elementary School 12088 Bells Highway Ruffin SC 29475 United States;X-APPLE-RADIUS=500;X-TITLE=12088 Bells Highway:geo:-80.852257,32.981512
END:VEVENT
BEGIN:VEVENT
DTSTART;TZID=America/New_York:20221017T150000
DTEND;TZID=America/New_York:20221017T170000
DTSTAMP:20260420T142731
CREATED:20221010T104446Z
LAST-MODIFIED:20221010T180715Z
UID:10003437-1666018800-1666026000@lowcountryfoodbank.org
SUMMARY:Ruffin
DESCRIPTION:12088 Bells Highway\, Ruffin\, SC 29475
URL:https://lowcountryfoodbank.org/event/ruffin-3/
LOCATION:Bells Elementary School\, 12088 Bells Highway\, Ruffin\, SC\, 29475\, United States
CATEGORIES:Mobile Pantry
GEO:32.981512;-80.852257
X-APPLE-STRUCTURED-LOCATION;VALUE=URI;X-ADDRESS=Bells Elementary School 12088 Bells Highway Ruffin SC 29475 United States;X-APPLE-RADIUS=500;X-TITLE=12088 Bells Highway:geo:-80.852257,32.981512
END:VEVENT
BEGIN:VEVENT
DTSTART;TZID=America/New_York:20220113T150000
DTEND;TZID=America/New_York:20220113T170000
DTSTAMP:20260420T142731
CREATED:20220105T114531Z
LAST-MODIFIED:20220105T114531Z
UID:10002936-1642086000-1642093200@lowcountryfoodbank.org
SUMMARY:Ruffin
DESCRIPTION:
URL:https://lowcountryfoodbank.org/event/ruffin/
LOCATION:Bells Elementary School\, 12088 Bells Highway\, Ruffin\, SC\, 29475\, United States
CATEGORIES:Mobile Pantry
GEO:32.981512;-80.852257
X-APPLE-STRUCTURED-LOCATION;VALUE=URI;X-ADDRESS=Bells Elementary School 12088 Bells Highway Ruffin SC 29475 United States;X-APPLE-RADIUS=500;X-TITLE=12088 Bells Highway:geo:-80.852257,32.981512
END:VEVENT
END:VCALENDAR