BEGIN:VCALENDAR
VERSION:2.0
PRODID:-//Lowcountry Food Bank - ECPv6.15.20//NONSGML v1.0//EN
CALSCALE:GREGORIAN
METHOD:PUBLISH
X-ORIGINAL-URL:https://lowcountryfoodbank.org
X-WR-CALDESC:Events for Lowcountry Food Bank
REFRESH-INTERVAL;VALUE=DURATION:PT1H
X-Robots-Tag:noindex
X-PUBLISHED-TTL:PT1H
BEGIN:VTIMEZONE
TZID:America/New_York
BEGIN:DAYLIGHT
TZOFFSETFROM:-0500
TZOFFSETTO:-0400
TZNAME:EDT
DTSTART:20230312T070000
END:DAYLIGHT
BEGIN:STANDARD
TZOFFSETFROM:-0400
TZOFFSETTO:-0500
TZNAME:EST
DTSTART:20231105T060000
END:STANDARD
BEGIN:DAYLIGHT
TZOFFSETFROM:-0500
TZOFFSETTO:-0400
TZNAME:EDT
DTSTART:20240310T070000
END:DAYLIGHT
BEGIN:STANDARD
TZOFFSETFROM:-0400
TZOFFSETTO:-0500
TZNAME:EST
DTSTART:20241103T060000
END:STANDARD
BEGIN:DAYLIGHT
TZOFFSETFROM:-0500
TZOFFSETTO:-0400
TZNAME:EDT
DTSTART:20250309T070000
END:DAYLIGHT
BEGIN:STANDARD
TZOFFSETFROM:-0400
TZOFFSETTO:-0500
TZNAME:EST
DTSTART:20251102T060000
END:STANDARD
BEGIN:DAYLIGHT
TZOFFSETFROM:-0500
TZOFFSETTO:-0400
TZNAME:EDT
DTSTART:20260308T070000
END:DAYLIGHT
BEGIN:STANDARD
TZOFFSETFROM:-0400
TZOFFSETTO:-0500
TZNAME:EST
DTSTART:20261101T060000
END:STANDARD
END:VTIMEZONE
BEGIN:VEVENT
DTSTART;TZID=America/New_York:20250327T100000
DTEND;TZID=America/New_York:20250327T120000
DTSTAMP:20260421T194012
CREATED:20250221T175301Z
LAST-MODIFIED:20250221T175301Z
UID:10005355-1743069600-1743076800@lowcountryfoodbank.org
SUMMARY:Little River
DESCRIPTION:
URL:https://lowcountryfoodbank.org/event/little-river-15/
LOCATION:Little River United Methodist Church\, 1629 US-17\, Little River\, SC\, 29566\, United States
CATEGORIES:Client Choice Market
END:VEVENT
BEGIN:VEVENT
DTSTART;TZID=America/New_York:20250313T100000
DTEND;TZID=America/New_York:20250313T120000
DTSTAMP:20260421T194012
CREATED:20250221T175210Z
LAST-MODIFIED:20250221T175210Z
UID:10005354-1741860000-1741867200@lowcountryfoodbank.org
SUMMARY:Little River
DESCRIPTION:
URL:https://lowcountryfoodbank.org/event/little-river-14/
LOCATION:Little River United Methodist Church\, 1629 US-17\, Little River\, SC\, 29566\, United States
CATEGORIES:Client Choice Market
END:VEVENT
BEGIN:VEVENT
DTSTART;TZID=America/New_York:20250109T100000
DTEND;TZID=America/New_York:20250109T120000
DTSTAMP:20260421T194012
CREATED:20241219T164900Z
LAST-MODIFIED:20241219T164900Z
UID:10004906-1736416800-1736424000@lowcountryfoodbank.org
SUMMARY:Little River
DESCRIPTION:
URL:https://lowcountryfoodbank.org/event/little-river-6/
LOCATION:Little River United Methodist Church\, 1629 US-17\, Little River\, SC\, 29566\, United States
CATEGORIES:Client Choice Market
END:VEVENT
BEGIN:VEVENT
DTSTART;TZID=America/New_York:20240829T100000
DTEND;TZID=America/New_York:20240829T120000
DTSTAMP:20260421T194012
CREATED:20240822T141527Z
LAST-MODIFIED:20240822T141527Z
UID:10004837-1724925600-1724932800@lowcountryfoodbank.org
SUMMARY:Little River
DESCRIPTION:
URL:https://lowcountryfoodbank.org/event/little-river-3/
LOCATION:Little River United Methodist Church\, 1629 US-17\, Little River\, SC\, 29566\, United States
CATEGORIES:Client Choice Market
END:VEVENT
END:VCALENDAR