BEGIN:VCALENDAR
VERSION:2.0
PRODID:-//Lowcountry Food Bank - ECPv6.15.20//NONSGML v1.0//EN
CALSCALE:GREGORIAN
METHOD:PUBLISH
X-WR-CALNAME:Lowcountry Food Bank
X-ORIGINAL-URL:https://lowcountryfoodbank.org
X-WR-CALDESC:Events for Lowcountry Food Bank
REFRESH-INTERVAL;VALUE=DURATION:PT1H
X-Robots-Tag:noindex
X-PUBLISHED-TTL:PT1H
BEGIN:VTIMEZONE
TZID:America/New_York
BEGIN:DAYLIGHT
TZOFFSETFROM:-0500
TZOFFSETTO:-0400
TZNAME:EDT
DTSTART:20230312T070000
END:DAYLIGHT
BEGIN:STANDARD
TZOFFSETFROM:-0400
TZOFFSETTO:-0500
TZNAME:EST
DTSTART:20231105T060000
END:STANDARD
BEGIN:DAYLIGHT
TZOFFSETFROM:-0500
TZOFFSETTO:-0400
TZNAME:EDT
DTSTART:20240310T070000
END:DAYLIGHT
BEGIN:STANDARD
TZOFFSETFROM:-0400
TZOFFSETTO:-0500
TZNAME:EST
DTSTART:20241103T060000
END:STANDARD
BEGIN:DAYLIGHT
TZOFFSETFROM:-0500
TZOFFSETTO:-0400
TZNAME:EDT
DTSTART:20250309T070000
END:DAYLIGHT
BEGIN:STANDARD
TZOFFSETFROM:-0400
TZOFFSETTO:-0500
TZNAME:EST
DTSTART:20251102T060000
END:STANDARD
BEGIN:DAYLIGHT
TZOFFSETFROM:-0500
TZOFFSETTO:-0400
TZNAME:EDT
DTSTART:20260308T070000
END:DAYLIGHT
BEGIN:STANDARD
TZOFFSETFROM:-0400
TZOFFSETTO:-0500
TZNAME:EST
DTSTART:20261101T060000
END:STANDARD
END:VTIMEZONE
BEGIN:VEVENT
DTSTART;TZID=America/New_York:20251122T100000
DTEND;TZID=America/New_York:20251122T120000
DTSTAMP:20260424T155030
CREATED:20251110T135950Z
LAST-MODIFIED:20251110T142402Z
UID:10005502-1763805600-1763812800@lowcountryfoodbank.org
SUMMARY:Little River
DESCRIPTION:
URL:https://lowcountryfoodbank.org/event/little-river-17/
LOCATION:Valorous Church\, 2100 Fire Tower Rd\, Little River\, SC\, 29566\, United States
CATEGORIES:Mobile Pantry
END:VEVENT
BEGIN:VEVENT
DTSTART;TZID=America/New_York:20250927T100000
DTEND;TZID=America/New_York:20250927T120000
DTSTAMP:20260424T155030
CREATED:20250922T122621Z
LAST-MODIFIED:20250922T122621Z
UID:10005464-1758967200-1758974400@lowcountryfoodbank.org
SUMMARY:Little River
DESCRIPTION:
URL:https://lowcountryfoodbank.org/event/little-river-16/
LOCATION:Valorous Church\, 2100 Fire Tower Rd\, Little River\, SC\, 29566\, United States
CATEGORIES:Mobile Pantry
END:VEVENT
BEGIN:VEVENT
DTSTART;TZID=America/New_York:20250726T100000
DTEND;TZID=America/New_York:20250726T120000
DTSTAMP:20260424T155030
CREATED:20250205T133406Z
LAST-MODIFIED:20250205T133406Z
UID:10005317-1753524000-1753531200@lowcountryfoodbank.org
SUMMARY:Little River
DESCRIPTION:
URL:https://lowcountryfoodbank.org/event/little-river-13/
LOCATION:Valorous Church\, 2100 Fire Tower Rd\, Little River\, SC\, 29566\, United States
CATEGORIES:Client Choice Market
END:VEVENT
BEGIN:VEVENT
DTSTART;TZID=America/New_York:20250628T100000
DTEND;TZID=America/New_York:20250628T120000
DTSTAMP:20260424T155030
CREATED:20250205T133326Z
LAST-MODIFIED:20250205T133326Z
UID:10005316-1751104800-1751112000@lowcountryfoodbank.org
SUMMARY:Little River
DESCRIPTION:
URL:https://lowcountryfoodbank.org/event/little-river-12/
LOCATION:Valorous Church\, 2100 Fire Tower Rd\, Little River\, SC\, 29566\, United States
CATEGORIES:Client Choice Market
END:VEVENT
BEGIN:VEVENT
DTSTART;TZID=America/New_York:20250524T100000
DTEND;TZID=America/New_York:20250524T120000
DTSTAMP:20260424T155030
CREATED:20250205T133244Z
LAST-MODIFIED:20250205T133244Z
UID:10005315-1748080800-1748088000@lowcountryfoodbank.org
SUMMARY:Little River
DESCRIPTION:
URL:https://lowcountryfoodbank.org/event/little-river-11/
LOCATION:Valorous Church\, 2100 Fire Tower Rd\, Little River\, SC\, 29566\, United States
CATEGORIES:Client Choice Market
END:VEVENT
BEGIN:VEVENT
DTSTART;TZID=America/New_York:20250426T100000
DTEND;TZID=America/New_York:20250426T120000
DTSTAMP:20260424T155030
CREATED:20250205T133203Z
LAST-MODIFIED:20250205T133203Z
UID:10005314-1745661600-1745668800@lowcountryfoodbank.org
SUMMARY:Little River
DESCRIPTION:
URL:https://lowcountryfoodbank.org/event/little-river-10/
LOCATION:Valorous Church\, 2100 Fire Tower Rd\, Little River\, SC\, 29566\, United States
CATEGORIES:Client Choice Market
END:VEVENT
BEGIN:VEVENT
DTSTART;TZID=America/New_York:20250322T100000
DTEND;TZID=America/New_York:20250322T120000
DTSTAMP:20260424T155030
CREATED:20250205T133127Z
LAST-MODIFIED:20250205T133127Z
UID:10005313-1742637600-1742644800@lowcountryfoodbank.org
SUMMARY:Little River
DESCRIPTION:
URL:https://lowcountryfoodbank.org/event/little-river-9/
LOCATION:Valorous Church\, 2100 Fire Tower Rd\, Little River\, SC\, 29566\, United States
CATEGORIES:Client Choice Market
END:VEVENT
BEGIN:VEVENT
DTSTART;TZID=America/New_York:20250222T100000
DTEND;TZID=America/New_York:20250222T120000
DTSTAMP:20260424T155030
CREATED:20250205T133049Z
LAST-MODIFIED:20250205T133049Z
UID:10005312-1740218400-1740225600@lowcountryfoodbank.org
SUMMARY:Little River
DESCRIPTION:
URL:https://lowcountryfoodbank.org/event/little-river-8/
LOCATION:Valorous Church\, 2100 Fire Tower Rd\, Little River\, SC\, 29566\, United States
CATEGORIES:Client Choice Market
END:VEVENT
BEGIN:VEVENT
DTSTART;TZID=America/New_York:20250125T100000
DTEND;TZID=America/New_York:20250125T120000
DTSTAMP:20260424T155030
CREATED:20241219T164815Z
LAST-MODIFIED:20241219T164815Z
UID:10004905-1737799200-1737806400@lowcountryfoodbank.org
SUMMARY:Little River
DESCRIPTION:
URL:https://lowcountryfoodbank.org/event/little-river-5/
LOCATION:Valorous Church\, 2100 Fire Tower Rd\, Little River\, SC\, 29566\, United States
CATEGORIES:Client Choice Market
END:VEVENT
BEGIN:VEVENT
DTSTART;TZID=America/New_York:20241207T090000
DTEND;TZID=America/New_York:20241207T130000
DTSTAMP:20260424T155030
CREATED:20241025T195334Z
LAST-MODIFIED:20241025T195334Z
UID:10004899-1733562000-1733576400@lowcountryfoodbank.org
SUMMARY:Little River
DESCRIPTION:
URL:https://lowcountryfoodbank.org/event/little-river-4/
LOCATION:Valorous Church\, 2100 Fire Tower Rd\, Little River\, SC\, 29566\, United States
CATEGORIES:Client Choice Market
END:VEVENT
END:VCALENDAR