BEGIN:VCALENDAR
VERSION:2.0
PRODID:-//Lowcountry Food Bank - ECPv6.15.20//NONSGML v1.0//EN
CALSCALE:GREGORIAN
METHOD:PUBLISH
X-ORIGINAL-URL:https://lowcountryfoodbank.org
X-WR-CALDESC:Events for Lowcountry Food Bank
REFRESH-INTERVAL;VALUE=DURATION:PT1H
X-Robots-Tag:noindex
X-PUBLISHED-TTL:PT1H
BEGIN:VTIMEZONE
TZID:America/New_York
BEGIN:DAYLIGHT
TZOFFSETFROM:-0500
TZOFFSETTO:-0400
TZNAME:EDT
DTSTART:20220313T070000
END:DAYLIGHT
BEGIN:STANDARD
TZOFFSETFROM:-0400
TZOFFSETTO:-0500
TZNAME:EST
DTSTART:20221106T060000
END:STANDARD
BEGIN:DAYLIGHT
TZOFFSETFROM:-0500
TZOFFSETTO:-0400
TZNAME:EDT
DTSTART:20230312T070000
END:DAYLIGHT
BEGIN:STANDARD
TZOFFSETFROM:-0400
TZOFFSETTO:-0500
TZNAME:EST
DTSTART:20231105T060000
END:STANDARD
BEGIN:DAYLIGHT
TZOFFSETFROM:-0500
TZOFFSETTO:-0400
TZNAME:EDT
DTSTART:20240310T070000
END:DAYLIGHT
BEGIN:STANDARD
TZOFFSETFROM:-0400
TZOFFSETTO:-0500
TZNAME:EST
DTSTART:20241103T060000
END:STANDARD
BEGIN:DAYLIGHT
TZOFFSETFROM:-0500
TZOFFSETTO:-0400
TZNAME:EDT
DTSTART:20250309T070000
END:DAYLIGHT
BEGIN:STANDARD
TZOFFSETFROM:-0400
TZOFFSETTO:-0500
TZNAME:EST
DTSTART:20251102T060000
END:STANDARD
BEGIN:DAYLIGHT
TZOFFSETFROM:-0500
TZOFFSETTO:-0400
TZNAME:EDT
DTSTART:20260308T070000
END:DAYLIGHT
BEGIN:STANDARD
TZOFFSETFROM:-0400
TZOFFSETTO:-0500
TZNAME:EST
DTSTART:20261101T060000
END:STANDARD
BEGIN:DAYLIGHT
TZOFFSETFROM:-0500
TZOFFSETTO:-0400
TZNAME:EDT
DTSTART:20270314T070000
END:DAYLIGHT
BEGIN:STANDARD
TZOFFSETFROM:-0400
TZOFFSETTO:-0500
TZNAME:EST
DTSTART:20271107T060000
END:STANDARD
END:VTIMEZONE
BEGIN:VEVENT
DTSTART;TZID=America/New_York:20260407T090000
DTEND;TZID=America/New_York:20260407T110000
DTSTAMP:20260423T232005
CREATED:20260224T105056Z
LAST-MODIFIED:20260224T105056Z
UID:10006023-1775552400-1775559600@lowcountryfoodbank.org
SUMMARY:West Ashley
DESCRIPTION:
URL:https://lowcountryfoodbank.org/event/west-ashley-19/
LOCATION:West Ashley\, 65 Sycamore Ave\, Charleston\, SC\, 29407\, United States
CATEGORIES:Fresh for All produce distribution
GEO:32.7906236;-79.9891924
X-APPLE-STRUCTURED-LOCATION;VALUE=URI;X-ADDRESS=West Ashley 65 Sycamore Ave Charleston SC 29407 United States;X-APPLE-RADIUS=500;X-TITLE=65 Sycamore Ave:geo:-79.9891924,32.7906236
END:VEVENT
BEGIN:VEVENT
DTSTART;TZID=America/New_York:20260303T090000
DTEND;TZID=America/New_York:20260303T110000
DTSTAMP:20260423T232005
CREATED:20260224T104826Z
LAST-MODIFIED:20260224T104826Z
UID:10006022-1772528400-1772535600@lowcountryfoodbank.org
SUMMARY:West Ashley
DESCRIPTION:
URL:https://lowcountryfoodbank.org/event/west-ashley-18/
LOCATION:West Ashley\, 65 Sycamore Ave\, Charleston\, SC\, 29407\, United States
CATEGORIES:Fresh for All produce distribution
GEO:32.7906236;-79.9891924
X-APPLE-STRUCTURED-LOCATION;VALUE=URI;X-ADDRESS=West Ashley 65 Sycamore Ave Charleston SC 29407 United States;X-APPLE-RADIUS=500;X-TITLE=65 Sycamore Ave:geo:-79.9891924,32.7906236
END:VEVENT
BEGIN:VEVENT
DTSTART;TZID=America/New_York:20260203T090000
DTEND;TZID=America/New_York:20260203T110000
DTSTAMP:20260423T232005
CREATED:20260120T162753Z
LAST-MODIFIED:20260120T162753Z
UID:10005989-1770109200-1770116400@lowcountryfoodbank.org
SUMMARY:West Ashley
DESCRIPTION:
URL:https://lowcountryfoodbank.org/event/west-ashley-17/
LOCATION:West Ashley\, 65 Sycamore Ave\, Charleston\, SC\, 29407\, United States
CATEGORIES:Client Choice Market,Fresh for All produce distribution
GEO:32.7906236;-79.9891924
X-APPLE-STRUCTURED-LOCATION;VALUE=URI;X-ADDRESS=West Ashley 65 Sycamore Ave Charleston SC 29407 United States;X-APPLE-RADIUS=500;X-TITLE=65 Sycamore Ave:geo:-79.9891924,32.7906236
END:VEVENT
BEGIN:VEVENT
DTSTART;TZID=America/New_York:20260113T090000
DTEND;TZID=America/New_York:20260113T110000
DTSTAMP:20260423T232005
CREATED:20251217T155110Z
LAST-MODIFIED:20251217T155110Z
UID:10005519-1768294800-1768302000@lowcountryfoodbank.org
SUMMARY:West Ashley
DESCRIPTION:
URL:https://lowcountryfoodbank.org/event/west-ashley-16/
LOCATION:West Ashley\, 65 Sycamore Ave\, Charleston\, SC\, 29407\, United States
CATEGORIES:Client Choice Market
GEO:32.7906236;-79.9891924
X-APPLE-STRUCTURED-LOCATION;VALUE=URI;X-ADDRESS=West Ashley 65 Sycamore Ave Charleston SC 29407 United States;X-APPLE-RADIUS=500;X-TITLE=65 Sycamore Ave:geo:-79.9891924,32.7906236
END:VEVENT
BEGIN:VEVENT
DTSTART;TZID=America/New_York:20251202T090000
DTEND;TZID=America/New_York:20251202T110000
DTSTAMP:20260423T232005
CREATED:20251113T131034Z
LAST-MODIFIED:20251113T131034Z
UID:10005505-1764666000-1764673200@lowcountryfoodbank.org
SUMMARY:West Ashley
DESCRIPTION:
URL:https://lowcountryfoodbank.org/event/west-ashley-15/
LOCATION:West Ashley\, 65 Sycamore Ave\, Charleston\, SC\, 29407\, United States
CATEGORIES:Client Choice Market
GEO:32.7906236;-79.9891924
X-APPLE-STRUCTURED-LOCATION;VALUE=URI;X-ADDRESS=West Ashley 65 Sycamore Ave Charleston SC 29407 United States;X-APPLE-RADIUS=500;X-TITLE=65 Sycamore Ave:geo:-79.9891924,32.7906236
END:VEVENT
BEGIN:VEVENT
DTSTART;TZID=America/New_York:20251104T090000
DTEND;TZID=America/New_York:20251104T110000
DTSTAMP:20260423T232005
CREATED:20251022T123019Z
LAST-MODIFIED:20251022T123019Z
UID:10005483-1762246800-1762254000@lowcountryfoodbank.org
SUMMARY:West Ashley
DESCRIPTION:
URL:https://lowcountryfoodbank.org/event/west-ashley-14/
LOCATION:West Ashley\, 65 Sycamore Ave\, Charleston\, SC\, 29407\, United States
CATEGORIES:Client Choice Market
GEO:32.7906236;-79.9891924
X-APPLE-STRUCTURED-LOCATION;VALUE=URI;X-ADDRESS=West Ashley 65 Sycamore Ave Charleston SC 29407 United States;X-APPLE-RADIUS=500;X-TITLE=65 Sycamore Ave:geo:-79.9891924,32.7906236
END:VEVENT
BEGIN:VEVENT
DTSTART;TZID=America/New_York:20251007T090000
DTEND;TZID=America/New_York:20251007T110000
DTSTAMP:20260423T232005
CREATED:20250924T170343Z
LAST-MODIFIED:20250924T170343Z
UID:10005471-1759827600-1759834800@lowcountryfoodbank.org
SUMMARY:West Ashely
DESCRIPTION:
URL:https://lowcountryfoodbank.org/event/west-ashely/
LOCATION:West Ashley\, 65 Sycamore Ave\, Charleston\, SC\, 29407\, United States
CATEGORIES:Client Choice Market
GEO:32.7906236;-79.9891924
X-APPLE-STRUCTURED-LOCATION;VALUE=URI;X-ADDRESS=West Ashley 65 Sycamore Ave Charleston SC 29407 United States;X-APPLE-RADIUS=500;X-TITLE=65 Sycamore Ave:geo:-79.9891924,32.7906236
END:VEVENT
BEGIN:VEVENT
DTSTART;TZID=America/New_York:20250909T090000
DTEND;TZID=America/New_York:20250909T110000
DTSTAMP:20260423T232005
CREATED:20250811T143600Z
LAST-MODIFIED:20250811T143600Z
UID:10005453-1757408400-1757415600@lowcountryfoodbank.org
SUMMARY:Charleston
DESCRIPTION:
URL:https://lowcountryfoodbank.org/event/charleston-241/
LOCATION:West Ashley\, 65 Sycamore Ave\, Charleston\, SC\, 29407\, United States
CATEGORIES:Fresh for All produce distribution
GEO:32.7906236;-79.9891924
X-APPLE-STRUCTURED-LOCATION;VALUE=URI;X-ADDRESS=West Ashley 65 Sycamore Ave Charleston SC 29407 United States;X-APPLE-RADIUS=500;X-TITLE=65 Sycamore Ave:geo:-79.9891924,32.7906236
END:VEVENT
BEGIN:VEVENT
DTSTART;TZID=America/New_York:20250805T090000
DTEND;TZID=America/New_York:20250805T110000
DTSTAMP:20260423T232005
CREATED:20250707T130922Z
LAST-MODIFIED:20250707T130922Z
UID:10005423-1754384400-1754391600@lowcountryfoodbank.org
SUMMARY:West Ashley
DESCRIPTION:
URL:https://lowcountryfoodbank.org/event/west-ashley-13/
LOCATION:West Ashley\, 65 Sycamore Ave\, Charleston\, SC\, 29407\, United States
CATEGORIES:Client Choice Market
GEO:32.7906236;-79.9891924
X-APPLE-STRUCTURED-LOCATION;VALUE=URI;X-ADDRESS=West Ashley 65 Sycamore Ave Charleston SC 29407 United States;X-APPLE-RADIUS=500;X-TITLE=65 Sycamore Ave:geo:-79.9891924,32.7906236
END:VEVENT
BEGIN:VEVENT
DTSTART;TZID=America/New_York:20250701T090000
DTEND;TZID=America/New_York:20250701T110000
DTSTAMP:20260423T232005
CREATED:20250625T162353Z
LAST-MODIFIED:20250625T162353Z
UID:10005413-1751360400-1751367600@lowcountryfoodbank.org
SUMMARY:West Ashley
DESCRIPTION:
URL:https://lowcountryfoodbank.org/event/west-ashley-12/
LOCATION:West Ashley\, 65 Sycamore Ave\, Charleston\, SC\, 29407\, United States
CATEGORIES:Client Choice Market
GEO:32.7906236;-79.9891924
X-APPLE-STRUCTURED-LOCATION;VALUE=URI;X-ADDRESS=West Ashley 65 Sycamore Ave Charleston SC 29407 United States;X-APPLE-RADIUS=500;X-TITLE=65 Sycamore Ave:geo:-79.9891924,32.7906236
END:VEVENT
BEGIN:VEVENT
DTSTART;TZID=America/New_York:20250603T090000
DTEND;TZID=America/New_York:20250603T110000
DTSTAMP:20260423T232005
CREATED:20250529T135949Z
LAST-MODIFIED:20250529T135949Z
UID:10005392-1748941200-1748948400@lowcountryfoodbank.org
SUMMARY:West Ashley
DESCRIPTION:
URL:https://lowcountryfoodbank.org/event/west-ashley-11/
LOCATION:West Ashley\, 65 Sycamore Ave\, Charleston\, SC\, 29407\, United States
CATEGORIES:Client Choice Market
GEO:32.7906236;-79.9891924
X-APPLE-STRUCTURED-LOCATION;VALUE=URI;X-ADDRESS=West Ashley 65 Sycamore Ave Charleston SC 29407 United States;X-APPLE-RADIUS=500;X-TITLE=65 Sycamore Ave:geo:-79.9891924,32.7906236
END:VEVENT
BEGIN:VEVENT
DTSTART;TZID=America/New_York:20250506T090000
DTEND;TZID=America/New_York:20250506T110000
DTSTAMP:20260423T232005
CREATED:20250203T141153Z
LAST-MODIFIED:20250203T141712Z
UID:10005289-1746522000-1746529200@lowcountryfoodbank.org
SUMMARY:Charleston-West Ashley
DESCRIPTION:
URL:https://lowcountryfoodbank.org/event/charleston-west-ashley-14/
LOCATION:West Ashley\, 65 Sycamore Ave\, Charleston\, SC\, 29407\, United States
CATEGORIES:Client Choice Market
GEO:32.7906236;-79.9891924
X-APPLE-STRUCTURED-LOCATION;VALUE=URI;X-ADDRESS=West Ashley 65 Sycamore Ave Charleston SC 29407 United States;X-APPLE-RADIUS=500;X-TITLE=65 Sycamore Ave:geo:-79.9891924,32.7906236
END:VEVENT
BEGIN:VEVENT
DTSTART;TZID=America/New_York:20250401T090000
DTEND;TZID=America/New_York:20250401T110000
DTSTAMP:20260423T232005
CREATED:20250203T135022Z
LAST-MODIFIED:20250203T135022Z
UID:10005288-1743498000-1743505200@lowcountryfoodbank.org
SUMMARY:Charleston-West Ashley
DESCRIPTION:
URL:https://lowcountryfoodbank.org/event/charleston-west-ashley-13/
LOCATION:West Ashley\, 65 Sycamore Ave\, Charleston\, SC\, 29407\, United States
CATEGORIES:Client Choice Market
GEO:32.7906236;-79.9891924
X-APPLE-STRUCTURED-LOCATION;VALUE=URI;X-ADDRESS=West Ashley 65 Sycamore Ave Charleston SC 29407 United States;X-APPLE-RADIUS=500;X-TITLE=65 Sycamore Ave:geo:-79.9891924,32.7906236
END:VEVENT
BEGIN:VEVENT
DTSTART;TZID=America/New_York:20250304T090000
DTEND;TZID=America/New_York:20250304T110000
DTSTAMP:20260423T232005
CREATED:20250203T134636Z
LAST-MODIFIED:20250203T134636Z
UID:10005287-1741078800-1741086000@lowcountryfoodbank.org
SUMMARY:Charleston-West Ashley
DESCRIPTION:
URL:https://lowcountryfoodbank.org/event/charleston-west-ashley-12/
LOCATION:West Ashley\, 65 Sycamore Ave\, Charleston\, SC\, 29407\, United States
CATEGORIES:Client Choice Market
GEO:32.7906236;-79.9891924
X-APPLE-STRUCTURED-LOCATION;VALUE=URI;X-ADDRESS=West Ashley 65 Sycamore Ave Charleston SC 29407 United States;X-APPLE-RADIUS=500;X-TITLE=65 Sycamore Ave:geo:-79.9891924,32.7906236
END:VEVENT
BEGIN:VEVENT
DTSTART;TZID=America/New_York:20250204T090000
DTEND;TZID=America/New_York:20250204T110000
DTSTAMP:20260423T232005
CREATED:20250131T173103Z
LAST-MODIFIED:20250131T173103Z
UID:10005285-1738659600-1738666800@lowcountryfoodbank.org
SUMMARY:Charleston-West Ashley
DESCRIPTION:
URL:https://lowcountryfoodbank.org/event/charleston-west-ashley-11/
LOCATION:West Ashley\, 65 Sycamore Ave\, Charleston\, SC\, 29407\, United States
CATEGORIES:Client Choice Market
GEO:32.7906236;-79.9891924
X-APPLE-STRUCTURED-LOCATION;VALUE=URI;X-ADDRESS=West Ashley 65 Sycamore Ave Charleston SC 29407 United States;X-APPLE-RADIUS=500;X-TITLE=65 Sycamore Ave:geo:-79.9891924,32.7906236
END:VEVENT
BEGIN:VEVENT
DTSTART;TZID=America/New_York:20250107T090000
DTEND;TZID=America/New_York:20250107T110000
DTSTAMP:20260423T232005
CREATED:20241219T172812Z
LAST-MODIFIED:20241219T172812Z
UID:10004909-1736240400-1736247600@lowcountryfoodbank.org
SUMMARY:Charleston-West Ashley
DESCRIPTION:
URL:https://lowcountryfoodbank.org/event/charleston-west-ashley-10/
LOCATION:West Ashley\, 65 Sycamore Ave\, Charleston\, SC\, 29407\, United States
CATEGORIES:Fresh for All produce distribution
GEO:32.7906236;-79.9891924
X-APPLE-STRUCTURED-LOCATION;VALUE=URI;X-ADDRESS=West Ashley 65 Sycamore Ave Charleston SC 29407 United States;X-APPLE-RADIUS=500;X-TITLE=65 Sycamore Ave:geo:-79.9891924,32.7906236
END:VEVENT
BEGIN:VEVENT
DTSTART;TZID=America/New_York:20241203T090000
DTEND;TZID=America/New_York:20241203T110000
DTSTAMP:20260423T232005
CREATED:20241010T123705Z
LAST-MODIFIED:20241010T123705Z
UID:10004884-1733216400-1733223600@lowcountryfoodbank.org
SUMMARY:Charleston-West Ashley
DESCRIPTION:
URL:https://lowcountryfoodbank.org/event/charleston-west-ashley-9/
LOCATION:West Ashley\, 65 Sycamore Ave\, Charleston\, SC\, 29407\, United States
CATEGORIES:Client Choice Market
GEO:32.7906236;-79.9891924
X-APPLE-STRUCTURED-LOCATION;VALUE=URI;X-ADDRESS=West Ashley 65 Sycamore Ave Charleston SC 29407 United States;X-APPLE-RADIUS=500;X-TITLE=65 Sycamore Ave:geo:-79.9891924,32.7906236
END:VEVENT
BEGIN:VEVENT
DTSTART;TZID=America/New_York:20241105T090000
DTEND;TZID=America/New_York:20241105T110000
DTSTAMP:20260423T232005
CREATED:20240930T171010Z
LAST-MODIFIED:20240930T171010Z
UID:10004871-1730797200-1730804400@lowcountryfoodbank.org
SUMMARY:West Ashley-Charleston
DESCRIPTION:
URL:https://lowcountryfoodbank.org/event/west-ashley-charleston-2/
LOCATION:West Ashley\, 65 Sycamore Ave\, Charleston\, SC\, 29407\, United States
CATEGORIES:Client Choice Market
GEO:32.7906236;-79.9891924
X-APPLE-STRUCTURED-LOCATION;VALUE=URI;X-ADDRESS=West Ashley 65 Sycamore Ave Charleston SC 29407 United States;X-APPLE-RADIUS=500;X-TITLE=65 Sycamore Ave:geo:-79.9891924,32.7906236
END:VEVENT
BEGIN:VEVENT
DTSTART;TZID=America/New_York:20241001T090000
DTEND;TZID=America/New_York:20241001T110000
DTSTAMP:20260423T232005
CREATED:20240923T123845Z
LAST-MODIFIED:20240923T123845Z
UID:10004854-1727773200-1727780400@lowcountryfoodbank.org
SUMMARY:Charleston-West Ashley
DESCRIPTION:
URL:https://lowcountryfoodbank.org/event/charleston-west-ashley-8/
LOCATION:West Ashley\, 65 Sycamore Ave\, Charleston\, SC\, 29407\, United States
CATEGORIES:Client Choice Market
GEO:32.7906236;-79.9891924
X-APPLE-STRUCTURED-LOCATION;VALUE=URI;X-ADDRESS=West Ashley 65 Sycamore Ave Charleston SC 29407 United States;X-APPLE-RADIUS=500;X-TITLE=65 Sycamore Ave:geo:-79.9891924,32.7906236
END:VEVENT
BEGIN:VEVENT
DTSTART;TZID=America/New_York:20240910T090000
DTEND;TZID=America/New_York:20240910T110000
DTSTAMP:20260423T232005
CREATED:20240830T143738Z
LAST-MODIFIED:20240903T094310Z
UID:10004840-1725958800-1725966000@lowcountryfoodbank.org
SUMMARY:Charleston-West Ashley
DESCRIPTION:
URL:https://lowcountryfoodbank.org/event/charleston-west-ashley-7/
LOCATION:West Ashley\, 65 Sycamore Ave\, Charleston\, SC\, 29407\, United States
CATEGORIES:Fresh for All produce distribution
GEO:32.7906236;-79.9891924
X-APPLE-STRUCTURED-LOCATION;VALUE=URI;X-ADDRESS=West Ashley 65 Sycamore Ave Charleston SC 29407 United States;X-APPLE-RADIUS=500;X-TITLE=65 Sycamore Ave:geo:-79.9891924,32.7906236
END:VEVENT
BEGIN:VEVENT
DTSTART;TZID=America/New_York:20240806T090000
DTEND;TZID=America/New_York:20240806T110000
DTSTAMP:20260423T232005
CREATED:20240802T122750Z
LAST-MODIFIED:20240805T204040Z
UID:10004827-1722934800-1722942000@lowcountryfoodbank.org
SUMMARY:West Ashley-CANCELLED
DESCRIPTION:West Ashley \nMonthly Food Distribution:  \n\nCancelled \ndue to Tropical Storm weather conditions.
URL:https://lowcountryfoodbank.org/event/west-ashley-10/
LOCATION:West Ashley\, 65 Sycamore Ave\, Charleston\, SC\, 29407\, United States
CATEGORIES:Client Choice Market
GEO:32.7906236;-79.9891924
X-APPLE-STRUCTURED-LOCATION;VALUE=URI;X-ADDRESS=West Ashley 65 Sycamore Ave Charleston SC 29407 United States;X-APPLE-RADIUS=500;X-TITLE=65 Sycamore Ave:geo:-79.9891924,32.7906236
END:VEVENT
BEGIN:VEVENT
DTSTART;TZID=America/New_York:20240702T090000
DTEND;TZID=America/New_York:20240702T110000
DTSTAMP:20260423T232005
CREATED:20240604T155044Z
LAST-MODIFIED:20240604T155044Z
UID:10004795-1719910800-1719918000@lowcountryfoodbank.org
SUMMARY:West Ashley
DESCRIPTION:
URL:https://lowcountryfoodbank.org/event/west-ashley-9/
LOCATION:West Ashley\, 65 Sycamore Ave\, Charleston\, SC\, 29407\, United States
CATEGORIES:Client Choice Market
GEO:32.7906236;-79.9891924
X-APPLE-STRUCTURED-LOCATION;VALUE=URI;X-ADDRESS=West Ashley 65 Sycamore Ave Charleston SC 29407 United States;X-APPLE-RADIUS=500;X-TITLE=65 Sycamore Ave:geo:-79.9891924,32.7906236
END:VEVENT
BEGIN:VEVENT
DTSTART;TZID=America/New_York:20240507T090000
DTEND;TZID=America/New_York:20240507T110000
DTSTAMP:20260423T232005
CREATED:20240416T151922Z
LAST-MODIFIED:20240416T151922Z
UID:10004770-1715072400-1715079600@lowcountryfoodbank.org
SUMMARY:West Ashley
DESCRIPTION:
URL:https://lowcountryfoodbank.org/event/west-ashley-8/
LOCATION:West Ashley\, 65 Sycamore Ave\, Charleston\, SC\, 29407\, United States
CATEGORIES:Client Choice Market
GEO:32.7906236;-79.9891924
X-APPLE-STRUCTURED-LOCATION;VALUE=URI;X-ADDRESS=West Ashley 65 Sycamore Ave Charleston SC 29407 United States;X-APPLE-RADIUS=500;X-TITLE=65 Sycamore Ave:geo:-79.9891924,32.7906236
END:VEVENT
BEGIN:VEVENT
DTSTART;TZID=America/New_York:20240402T090000
DTEND;TZID=America/New_York:20240402T110000
DTSTAMP:20260423T232005
CREATED:20240327T170411Z
LAST-MODIFIED:20240327T170411Z
UID:10004719-1712048400-1712055600@lowcountryfoodbank.org
SUMMARY:Charleston-West Ashley
DESCRIPTION:
URL:https://lowcountryfoodbank.org/event/charleston-west-ashley-6/
LOCATION:West Ashley\, 65 Sycamore Ave\, Charleston\, SC\, 29407\, United States
CATEGORIES:Client Choice Market
GEO:32.7906236;-79.9891924
X-APPLE-STRUCTURED-LOCATION;VALUE=URI;X-ADDRESS=West Ashley 65 Sycamore Ave Charleston SC 29407 United States;X-APPLE-RADIUS=500;X-TITLE=65 Sycamore Ave:geo:-79.9891924,32.7906236
END:VEVENT
BEGIN:VEVENT
DTSTART;TZID=America/New_York:20240305T090000
DTEND;TZID=America/New_York:20240305T110000
DTSTAMP:20260423T232005
CREATED:20240220T175546Z
LAST-MODIFIED:20240220T175546Z
UID:10004704-1709629200-1709636400@lowcountryfoodbank.org
SUMMARY:Charleston
DESCRIPTION:
URL:https://lowcountryfoodbank.org/event/charleston-198/
LOCATION:West Ashley\, 65 Sycamore Ave\, Charleston\, SC\, 29407\, United States
CATEGORIES:Fresh for All produce distribution
GEO:32.7906236;-79.9891924
X-APPLE-STRUCTURED-LOCATION;VALUE=URI;X-ADDRESS=West Ashley 65 Sycamore Ave Charleston SC 29407 United States;X-APPLE-RADIUS=500;X-TITLE=65 Sycamore Ave:geo:-79.9891924,32.7906236
END:VEVENT
BEGIN:VEVENT
DTSTART;TZID=America/New_York:20240206T090000
DTEND;TZID=America/New_York:20240206T110000
DTSTAMP:20260423T232005
CREATED:20240118T175425Z
LAST-MODIFIED:20240118T175425Z
UID:10004672-1707210000-1707217200@lowcountryfoodbank.org
SUMMARY:Charleston-West Ashley
DESCRIPTION:
URL:https://lowcountryfoodbank.org/event/charleston-west-ashley-5/
LOCATION:West Ashley\, 65 Sycamore Ave\, Charleston\, SC\, 29407\, United States
CATEGORIES:Client Choice Market
GEO:32.7906236;-79.9891924
X-APPLE-STRUCTURED-LOCATION;VALUE=URI;X-ADDRESS=West Ashley 65 Sycamore Ave Charleston SC 29407 United States;X-APPLE-RADIUS=500;X-TITLE=65 Sycamore Ave:geo:-79.9891924,32.7906236
END:VEVENT
BEGIN:VEVENT
DTSTART;TZID=America/New_York:20240109T090000
DTEND;TZID=America/New_York:20240109T110000
DTSTAMP:20260423T232005
CREATED:20231222T163603Z
LAST-MODIFIED:20231222T163603Z
UID:10004601-1704790800-1704798000@lowcountryfoodbank.org
SUMMARY:Charleston-West Ashley
DESCRIPTION:
URL:https://lowcountryfoodbank.org/event/charleston-west-ashley-4/
LOCATION:West Ashley\, 65 Sycamore Ave\, Charleston\, SC\, 29407\, United States
GEO:32.7906236;-79.9891924
X-APPLE-STRUCTURED-LOCATION;VALUE=URI;X-ADDRESS=West Ashley 65 Sycamore Ave Charleston SC 29407 United States;X-APPLE-RADIUS=500;X-TITLE=65 Sycamore Ave:geo:-79.9891924,32.7906236
END:VEVENT
BEGIN:VEVENT
DTSTART;TZID=America/New_York:20231107T090000
DTEND;TZID=America/New_York:20231107T110000
DTSTAMP:20260423T232005
CREATED:20231020T123559Z
LAST-MODIFIED:20231020T123645Z
UID:10004207-1699347600-1699354800@lowcountryfoodbank.org
SUMMARY:West Ashley
DESCRIPTION:
URL:https://lowcountryfoodbank.org/event/west-ashley-7/
LOCATION:West Ashley\, 65 Sycamore Ave\, Charleston\, SC\, 29407\, United States
CATEGORIES:Client Choice Market
GEO:32.7906236;-79.9891924
X-APPLE-STRUCTURED-LOCATION;VALUE=URI;X-ADDRESS=West Ashley 65 Sycamore Ave Charleston SC 29407 United States;X-APPLE-RADIUS=500;X-TITLE=65 Sycamore Ave:geo:-79.9891924,32.7906236
END:VEVENT
BEGIN:VEVENT
DTSTART;TZID=America/New_York:20231003T090000
DTEND;TZID=America/New_York:20231003T110000
DTSTAMP:20260423T232005
CREATED:20230922T152312Z
LAST-MODIFIED:20230922T152312Z
UID:10004190-1696323600-1696330800@lowcountryfoodbank.org
SUMMARY:West Ashley
DESCRIPTION:
URL:https://lowcountryfoodbank.org/event/west-ashley-6/
LOCATION:West Ashley\, 65 Sycamore Ave\, Charleston\, SC\, 29407\, United States
CATEGORIES:Client Choice Market
GEO:32.7906236;-79.9891924
X-APPLE-STRUCTURED-LOCATION;VALUE=URI;X-ADDRESS=West Ashley 65 Sycamore Ave Charleston SC 29407 United States;X-APPLE-RADIUS=500;X-TITLE=65 Sycamore Ave:geo:-79.9891924,32.7906236
END:VEVENT
BEGIN:VEVENT
DTSTART;TZID=America/New_York:20230905T090000
DTEND;TZID=America/New_York:20230905T110000
DTSTAMP:20260423T232005
CREATED:20230815T151838Z
LAST-MODIFIED:20230815T151838Z
UID:10004165-1693904400-1693911600@lowcountryfoodbank.org
SUMMARY:Charleston
DESCRIPTION:
URL:https://lowcountryfoodbank.org/event/charleston-148/
LOCATION:West Ashley\, 65 Sycamore Ave\, Charleston\, SC\, 29407\, United States
CATEGORIES:Client Choice Market
GEO:32.7906236;-79.9891924
X-APPLE-STRUCTURED-LOCATION;VALUE=URI;X-ADDRESS=West Ashley 65 Sycamore Ave Charleston SC 29407 United States;X-APPLE-RADIUS=500;X-TITLE=65 Sycamore Ave:geo:-79.9891924,32.7906236
END:VEVENT
END:VCALENDAR